From mboxrd@z Thu Jan  1 00:00:00 1970
Return-Path: <test-report-bounces@dpdk.org>
Received: from mails.dpdk.org (mails.dpdk.org [217.70.189.124])
	by inbox.dpdk.org (Postfix) with ESMTP id D890843DFA
	for <public@inbox.dpdk.org>; Thu,  4 Apr 2024 16:26:42 +0200 (CEST)
Received: from mails.dpdk.org (localhost [127.0.0.1])
	by mails.dpdk.org (Postfix) with ESMTP id D3E4D4025D;
	Thu,  4 Apr 2024 16:26:42 +0200 (CEST)
Received: from mail-yw1-f225.google.com (mail-yw1-f225.google.com
 [209.85.128.225])
 by mails.dpdk.org (Postfix) with ESMTP id DABD040150
 for <test-report@dpdk.org>; Thu,  4 Apr 2024 16:26:40 +0200 (CEST)
Received: by mail-yw1-f225.google.com with SMTP id
 00721157ae682-6152be7c58bso11539727b3.0
 for <test-report@dpdk.org>; Thu, 04 Apr 2024 07:26:40 -0700 (PDT)
DKIM-Signature: v=1; a=rsa-sha256; c=relaxed/relaxed;
 d=iol.unh.edu; s=unh-iol; t=1712240800; x=1712845600; darn=dpdk.org;
 h=references:in-reply-to:cc:to:from:subject:message-id:date:from:to
 :cc:subject:date:message-id:reply-to;
 bh=egRqxk1klwjAvPseFeJPaVPN0FxZc0OcAbY7KaFu1oU=;
 b=aXV0ErJrOkykIIJnby0P9VWjLy9a/igKqXeG80UvaP6EgLbTJefzwYK0Pqgl0J9txV
 oh+xEaLyd2mPlysSnfHtZ5KFwG8NRD9h3BZxilF/nLJjgQ9oD+CFYMS+/3826lMrT5go
 ci7bI6xFnXGFQ7p3Jf3IK+SjgYSVEZOeMsyfo=
X-Google-DKIM-Signature: v=1; a=rsa-sha256; c=relaxed/relaxed;
 d=1e100.net; s=20230601; t=1712240800; x=1712845600;
 h=references:in-reply-to:cc:to:from:subject:message-id:date
 :x-gm-message-state:from:to:cc:subject:date:message-id:reply-to;
 bh=egRqxk1klwjAvPseFeJPaVPN0FxZc0OcAbY7KaFu1oU=;
 b=OABGAA7Wz/HCfMtJNcWdigI8z7LvqLKGhzPqIGnWVkMi8ipnb855pAcbRx2VVTJpEI
 Br5SNKOSXOa0HbB/tnP3JoS+KPuXmx7/NXgmG5nerygD5UTueIdrq1SMbvpxnqs11HKX
 er9pUq/n2nYwP7b4LmyfPxXX/UFTaBSFVJMDegkXdyxdS4FOyCBwxYoKlQbwdKPtn/y1
 9ignyi9U5bJBnAexCnUw85mmwae2e0dFjngv+13nbFCV+5WZTKWjOtZ4/z3w26LHSI6U
 6zIqKphzQqq549xsdBfKP3JjfCc8Ib0Abrms2eeLmEy4UxoUCZZdpbPAKTnVC+pGpLQa
 s5tg==
X-Gm-Message-State: AOJu0Yy0Bp+21S2g+7br9zBrI7psWNvwPVQbNCesvh41CmW1t87eIFl/
 138UBSP3uWbem1PHbc8RkIVs6bqZe7FrRz6JAHyiGYGGs5AwNheJF6IofNSI4l5SILid39WlBal
 Ug+M0x/XZMEohQ6ABomGafqEhPeJds6XrLpW8LfTiTcB5Wch7KlcjsLZI
X-Google-Smtp-Source: AGHT+IH7i0zPfFnJUKt6CJ6TxJvtdL5QbzpdzM50YjcUX5SvY2diDhKQpNDDqJ08fAiS4oF8vMaYrZl5lEaH
X-Received: by 2002:a05:6902:f83:b0:dcf:bc57:cd61 with SMTP id
 ft3-20020a0569020f8300b00dcfbc57cd61mr3194361ybb.50.1712240800351; 
 Thu, 04 Apr 2024 07:26:40 -0700 (PDT)
Received: from postal.iol.unh.edu (postal.iol.unh.edu.
 [2606:4100:3880:1234::84]) by smtp-relay.gmail.com with ESMTPS id
 g7-20020a258a07000000b00dc6a61186b0sm355182ybl.20.2024.04.04.07.26.40
 (version=TLS1_2 cipher=ECDHE-ECDSA-AES128-GCM-SHA256 bits=128/128);
 Thu, 04 Apr 2024 07:26:40 -0700 (PDT)
X-Relaying-Domain: iol.unh.edu
Date: Thu, 04 Apr 2024 07:26:40 -0700 (PDT)
Message-ID: <660eb8a0.250a0220.72ab8.0584SMTPIN_ADDED_MISSING@mx.google.com>
Received: from [172.21.0.6] (unknown [172.18.0.240])
 by postal.iol.unh.edu (Postfix) with ESMTP id F2BD86052471;
 Thu,  4 Apr 2024 10:26:39 -0400 (EDT)
Subject: |SUCCESS| pw139094-139095 [PATCH] [v12,3/3] net/af_xdp: support AF_X
From: dpdklab@iol.unh.edu
To: Test Report <test-report@dpdk.org>
Cc: dpdk-test-reports@iol.unh.edu
In-Reply-To: <20240404132452.1186627-4-mtahhan@redhat.com>
References: <20240404132452.1186627-4-mtahhan@redhat.com>
Content-Type: text/plain
X-BeenThere: test-report@dpdk.org
X-Mailman-Version: 2.1.29
Precedence: list
List-Id: automatic DPDK test reports <test-report.dpdk.org>
List-Unsubscribe: <https://mails.dpdk.org/options/test-report>,
 <mailto:test-report-request@dpdk.org?subject=unsubscribe>
List-Archive: <http://mails.dpdk.org/archives/test-report/>
List-Post: <mailto:test-report@dpdk.org>
List-Help: <mailto:test-report-request@dpdk.org?subject=help>
List-Subscribe: <https://mails.dpdk.org/listinfo/test-report>,
 <mailto:test-report-request@dpdk.org?subject=subscribe>
Errors-To: test-report-bounces@dpdk.org

Test-Label: iol-abi-testing
Test-Status: SUCCESS
http://dpdk.org/patch/139095

_Testing PASS_

Submitter: Maryam Tahhan <mtahhan@redhat.com>
Date: Thursday, April 04 2024 13:24:50 
DPDK git baseline: Repo:dpdk
  Branch: master
  CommitID:e2e546ab5bf5e024986ccb5310ab43982f3bb40c

139094-139095 --> testing pass

Test environment and result as below:

+------------------+----------+
|   Environment    | abi_test |
+==================+==========+
| Fedora 38        | PASS     |
+------------------+----------+
| Fedora 39        | PASS     |
+------------------+----------+
| openSUSE Leap 15 | PASS     |
+------------------+----------+
| Debian 12        | PASS     |
+------------------+----------+
| RHEL8            | PASS     |
+------------------+----------+
| Ubuntu 22.04     | PASS     |
+------------------+----------+
| Fedora 37        | PASS     |
+------------------+----------+
| Debian Bullseye  | PASS     |
+------------------+----------+
| CentOS Stream 8  | PASS     |
+------------------+----------+


Fedora 38
	Kernel: Depends on container host
	Compiler: clang 16.0.6

Fedora 39
	Kernel: Depends on container host
	Compiler: clang 17.0.6

openSUSE Leap 15
	Kernel: 5.4.0-167-generic
	Compiler: gcc 7.5.0

Debian 12
	Kernel: Container Host Kernel
	Compiler: gcc 10.2.1

RHEL8
	Kernel: 5.4.0-167-generic
	Compiler: gcc 8.5.0 20210514 (Red Hat 8.5.0-20)

Ubuntu 22.04
	Kernel: 5.4.0-167-generic
	Compiler: gcc 11.4.0

Fedora 37
	Kernel: Depends on container host system
	Compiler: gcc 12.3.1

Debian Bullseye
	Kernel: 5.4.0-167-generic
	Compiler: gcc 10.2.1-6

CentOS Stream 8
	Kernel: 5.4.0-167-generic
	Compiler: gcc 8.5.0 20210514

To view detailed results, visit:
https://lab.dpdk.org/results/dashboard/patchsets/29712/

UNH-IOL DPDK Community Lab

To manage your email subscriptions, visit: 
https://lab.dpdk.org/results/dashboard/preferences/subscriptions/