From mboxrd@z Thu Jan  1 00:00:00 1970
Return-Path: <test-report-bounces@dpdk.org>
Received: from mails.dpdk.org (mails.dpdk.org [217.70.189.124])
	by inbox.dpdk.org (Postfix) with ESMTP id 0B48643DFA
	for <public@inbox.dpdk.org>; Thu,  4 Apr 2024 16:27:03 +0200 (CEST)
Received: from mails.dpdk.org (localhost [127.0.0.1])
	by mails.dpdk.org (Postfix) with ESMTP id 07C0E4025D;
	Thu,  4 Apr 2024 16:27:03 +0200 (CEST)
Received: from mail-il1-f228.google.com (mail-il1-f228.google.com
 [209.85.166.228])
 by mails.dpdk.org (Postfix) with ESMTP id 1211140150
 for <test-report@dpdk.org>; Thu,  4 Apr 2024 16:26:59 +0200 (CEST)
Received: by mail-il1-f228.google.com with SMTP id
 e9e14a558f8ab-368a663344eso3691255ab.2
 for <test-report@dpdk.org>; Thu, 04 Apr 2024 07:26:59 -0700 (PDT)
DKIM-Signature: v=1; a=rsa-sha256; c=relaxed/relaxed;
 d=iol.unh.edu; s=unh-iol; t=1712240818; x=1712845618; darn=dpdk.org;
 h=references:in-reply-to:cc:to:from:subject:message-id:date:from:to
 :cc:subject:date:message-id:reply-to;
 bh=egRqxk1klwjAvPseFeJPaVPN0FxZc0OcAbY7KaFu1oU=;
 b=Q87++6o90hXcioHO00ErpioNgGp5tkQAIJ/LPi1euAGtSyuJdVZZYMUtIfoMu75Tn5
 3IqvrKtV5FcZojKeq7jAxtfHNQPySmU+C0njjsIbFfJ2ePs9rQzUevgXUUr9GVpYy8sM
 h2NmdGzEssyDiQ7YbeK4Hft7GwCh3hvsfgyYA=
X-Google-DKIM-Signature: v=1; a=rsa-sha256; c=relaxed/relaxed;
 d=1e100.net; s=20230601; t=1712240818; x=1712845618;
 h=references:in-reply-to:cc:to:from:subject:message-id:date
 :x-gm-message-state:from:to:cc:subject:date:message-id:reply-to;
 bh=egRqxk1klwjAvPseFeJPaVPN0FxZc0OcAbY7KaFu1oU=;
 b=mwKuK0Ur8PhdYldYhCwtaZS94oK7LoGNvZ8T1znmgGMmZppqLxtAc+YeRhDJWSscTw
 kLQ4vV/bbMDcLw6sBwD2rvmxMym2pGfx5jKa5Sgp0C4r3fun27V2+VK5+5OFrX+mWBqO
 fWEmE5xq2Cyf6457Njh/cBiwldWqdjHQqDJJkQqJ+pEfkwBsz+7fPNTqgLyzA4JNBtsv
 KQQ+Bu2drY6LAfjVloPtYxkPFWP8WDj8Uv/rQuxrwwpD8FRyyplU11IzAywbnunOF0Zs
 FYp+HezPqea+zh8haYfkpVP40NzoU4Ox8dJy4rS+YACsPgqK1pqLQe7iVHotzxmLBJin
 9nFA==
X-Gm-Message-State: AOJu0YyCavas2encPSbRPbt+sMJvIAWpR7FMaf1KQg/wpvhHI8ZOQUxh
 mFZ26XK1Q96ivKhEWxHrlyZb8nyl4EMmAncCi6lykZVK6GHg0+lzMXgsqQBLdmL/qKQ2YmF9e0Z
 vdaM2EsnUpZn+1nkW6FnxdO3tZszTcBGVPO6ImxPo
X-Google-Smtp-Source: AGHT+IH/ncYJjtALwJ88BcAStd/1mthiLr5prRG6KK5qMfJhNzMbiR68A1O1P+DQ/FHoM7amNoI0kPEXHt0n
X-Received: by 2002:a05:6e02:1a43:b0:369:f705:4733 with SMTP id
 u3-20020a056e021a4300b00369f7054733mr3290210ilv.9.1712240818507; 
 Thu, 04 Apr 2024 07:26:58 -0700 (PDT)
Received: from postal.iol.unh.edu (postal.iol.unh.edu. [132.177.123.84])
 by smtp-relay.gmail.com with ESMTPS id
 l1-20020a056e0212e100b003684f345ef9sm814736iln.49.2024.04.04.07.26.58
 (version=TLS1_2 cipher=ECDHE-ECDSA-AES128-GCM-SHA256 bits=128/128);
 Thu, 04 Apr 2024 07:26:58 -0700 (PDT)
X-Relaying-Domain: iol.unh.edu
Date: Thu, 04 Apr 2024 07:26:58 -0700 (PDT)
Message-ID: <660eb8b2.050a0220.52e60.f466SMTPIN_ADDED_MISSING@mx.google.com>
Received: from [172.21.0.6] (unknown [172.18.0.240])
 by postal.iol.unh.edu (Postfix) with ESMTP id 046B16052471;
 Thu,  4 Apr 2024 10:26:58 -0400 (EDT)
Subject: |SUCCESS| pw139094-139095 [PATCH] [v12,3/3] net/af_xdp: support AF_X
From: dpdklab@iol.unh.edu
To: Test Report <test-report@dpdk.org>
Cc: dpdk-test-reports@iol.unh.edu
In-Reply-To: <20240404132452.1186627-4-mtahhan@redhat.com>
References: <20240404132452.1186627-4-mtahhan@redhat.com>
Content-Type: text/plain
X-BeenThere: test-report@dpdk.org
X-Mailman-Version: 2.1.29
Precedence: list
List-Id: automatic DPDK test reports <test-report.dpdk.org>
List-Unsubscribe: <https://mails.dpdk.org/options/test-report>,
 <mailto:test-report-request@dpdk.org?subject=unsubscribe>
List-Archive: <http://mails.dpdk.org/archives/test-report/>
List-Post: <mailto:test-report@dpdk.org>
List-Help: <mailto:test-report-request@dpdk.org?subject=help>
List-Subscribe: <https://mails.dpdk.org/listinfo/test-report>,
 <mailto:test-report-request@dpdk.org?subject=subscribe>
Errors-To: test-report-bounces@dpdk.org

Test-Label: iol-abi-testing
Test-Status: SUCCESS
http://dpdk.org/patch/139095

_Testing PASS_

Submitter: Maryam Tahhan <mtahhan@redhat.com>
Date: Thursday, April 04 2024 13:24:50 
DPDK git baseline: Repo:dpdk
  Branch: master
  CommitID:e2e546ab5bf5e024986ccb5310ab43982f3bb40c

139094-139095 --> testing pass

Test environment and result as below:

+------------------+----------+
|   Environment    | abi_test |
+==================+==========+
| Fedora 38        | PASS     |
+------------------+----------+
| Fedora 39        | PASS     |
+------------------+----------+
| openSUSE Leap 15 | PASS     |
+------------------+----------+
| Debian 12        | PASS     |
+------------------+----------+
| RHEL8            | PASS     |
+------------------+----------+
| Ubuntu 22.04     | PASS     |
+------------------+----------+
| Fedora 37        | PASS     |
+------------------+----------+
| Debian Bullseye  | PASS     |
+------------------+----------+
| CentOS Stream 8  | PASS     |
+------------------+----------+


Fedora 38
	Kernel: Depends on container host
	Compiler: clang 16.0.6

Fedora 39
	Kernel: Depends on container host
	Compiler: clang 17.0.6

openSUSE Leap 15
	Kernel: 5.4.0-167-generic
	Compiler: gcc 7.5.0

Debian 12
	Kernel: Container Host Kernel
	Compiler: gcc 10.2.1

RHEL8
	Kernel: 5.4.0-167-generic
	Compiler: gcc 8.5.0 20210514 (Red Hat 8.5.0-20)

Ubuntu 22.04
	Kernel: 5.4.0-167-generic
	Compiler: gcc 11.4.0

Fedora 37
	Kernel: Depends on container host system
	Compiler: gcc 12.3.1

Debian Bullseye
	Kernel: 5.4.0-167-generic
	Compiler: gcc 10.2.1-6

CentOS Stream 8
	Kernel: 5.4.0-167-generic
	Compiler: gcc 8.5.0 20210514

To view detailed results, visit:
https://lab.dpdk.org/results/dashboard/patchsets/29712/

UNH-IOL DPDK Community Lab

To manage your email subscriptions, visit: 
https://lab.dpdk.org/results/dashboard/preferences/subscriptions/