From mboxrd@z Thu Jan  1 00:00:00 1970
Return-Path: <test-report-bounces@dpdk.org>
Received: from mails.dpdk.org (mails.dpdk.org [217.70.189.124])
	by inbox.dpdk.org (Postfix) with ESMTP id 3AAA543DFA
	for <public@inbox.dpdk.org>; Thu,  4 Apr 2024 16:27:40 +0200 (CEST)
Received: from mails.dpdk.org (localhost [127.0.0.1])
	by mails.dpdk.org (Postfix) with ESMTP id 3285040268;
	Thu,  4 Apr 2024 16:27:40 +0200 (CEST)
Received: from mail-yb1-f227.google.com (mail-yb1-f227.google.com
 [209.85.219.227])
 by mails.dpdk.org (Postfix) with ESMTP id 9AC9A40150
 for <test-report@dpdk.org>; Thu,  4 Apr 2024 16:27:38 +0200 (CEST)
Received: by mail-yb1-f227.google.com with SMTP id
 3f1490d57ef6-dcbef31a9dbso796666276.1
 for <test-report@dpdk.org>; Thu, 04 Apr 2024 07:27:38 -0700 (PDT)
DKIM-Signature: v=1; a=rsa-sha256; c=relaxed/relaxed;
 d=iol.unh.edu; s=unh-iol; t=1712240858; x=1712845658; darn=dpdk.org;
 h=references:in-reply-to:cc:to:from:subject:message-id:date:from:to
 :cc:subject:date:message-id:reply-to;
 bh=X2FNdlxP7A++e3EVPOFwTQm1+c9yIkfckB3Mj1M0Aw0=;
 b=YOmW/69UW4FaRYS7hnRqveZm3T3hGj2sbnFMtiLP8OIDc7dIazZHrBgO/LvD/PsMtU
 +ub0UHDtS2RMnPmHFofDHfLs5/JJpKFmCYGI7sqVngbH06Cc72DL0AfhonOCZoH2wTaW
 F98yzLk82rnC5Pfp7MLcaIywnfYKbOPJGBwlk=
X-Google-DKIM-Signature: v=1; a=rsa-sha256; c=relaxed/relaxed;
 d=1e100.net; s=20230601; t=1712240858; x=1712845658;
 h=references:in-reply-to:cc:to:from:subject:message-id:date
 :x-gm-message-state:from:to:cc:subject:date:message-id:reply-to;
 bh=X2FNdlxP7A++e3EVPOFwTQm1+c9yIkfckB3Mj1M0Aw0=;
 b=JELFkE7y1NLn7IapDSl9FEVDxd0+nrDVdzka4V/8zn/sf9UQqAPRsa7oUPvwkjW1rC
 u/GDlJKJa8wpf4PEVUH5a6dS7OIPeMQImVZzj/bSsLek7e2xjlpnM6mTCOxxbUab7MJr
 ccv+ZOsSimZD0D6yflae0acgjtCddHRLLSWBKUtb2wepmV4M8BDOCBIXQXms/PHeyDB0
 tZFI0Jh8LSCZdMp4oAevyjMztCfTF3OjvnYOI9nioUHaXr0ujKFsfNgwdxfJTJZD93IB
 WfoZ7l8niSrXKP/wCv4WBFI4w5cQo8wtc9xazyM7fWuOga9oPYddqo1nVmWw3cKD7znq
 HmJQ==
X-Gm-Message-State: AOJu0YzsJu3E1t9K0nLFwrvT6Hg3gA7QQZ70PUsm9P+n6AvX4btR/wVp
 IIuzKMQO4N9nMmCU0AgPIX50BG9Wnxj5L+9pJcO4fSuhWiXV6XnMkQHKd/qiVtoCdOrXzPsFsdx
 omtIyyS43LX91ZZLhiGGO1rHqpM78poZLAQ6mDv7SbuaQ6uS+LHeO7dq/
X-Google-Smtp-Source: AGHT+IGEV5Zti8koo5RjKeXwcWcnCrlAx0FG3D6ldoeHZ40pqaDOaGwZl8hrNY28XTSTyOR5uLJnHvtIlgzn
X-Received: by 2002:a25:a4c6:0:b0:dcf:fc74:358a with SMTP id
 g64-20020a25a4c6000000b00dcffc74358amr2505512ybi.10.1712240858032; 
 Thu, 04 Apr 2024 07:27:38 -0700 (PDT)
Received: from postal.iol.unh.edu (postal.iol.unh.edu.
 [2606:4100:3880:1234::84]) by smtp-relay.gmail.com with ESMTPS id
 d4-20020a253604000000b00dccb4db0ca9sm738005yba.28.2024.04.04.07.27.37
 (version=TLS1_2 cipher=ECDHE-ECDSA-AES128-GCM-SHA256 bits=128/128);
 Thu, 04 Apr 2024 07:27:38 -0700 (PDT)
X-Relaying-Domain: iol.unh.edu
Date: Thu, 04 Apr 2024 07:27:38 -0700 (PDT)
Message-ID: <660eb8da.250a0220.d1942.b862SMTPIN_ADDED_MISSING@mx.google.com>
Received: from [172.21.0.6] (unknown [172.18.0.240])
 by postal.iol.unh.edu (Postfix) with ESMTP id ABCE76052471;
 Thu,  4 Apr 2024 10:27:37 -0400 (EDT)
Subject: |SUCCESS| pw139094-139095 [PATCH] [v12,3/3] net/af_xdp: support AF_X
From: dpdklab@iol.unh.edu
To: Test Report <test-report@dpdk.org>
Cc: dpdk-test-reports@iol.unh.edu
In-Reply-To: <20240404132452.1186627-4-mtahhan@redhat.com>
References: <20240404132452.1186627-4-mtahhan@redhat.com>
Content-Type: text/plain
X-BeenThere: test-report@dpdk.org
X-Mailman-Version: 2.1.29
Precedence: list
List-Id: automatic DPDK test reports <test-report.dpdk.org>
List-Unsubscribe: <https://mails.dpdk.org/options/test-report>,
 <mailto:test-report-request@dpdk.org?subject=unsubscribe>
List-Archive: <http://mails.dpdk.org/archives/test-report/>
List-Post: <mailto:test-report@dpdk.org>
List-Help: <mailto:test-report-request@dpdk.org?subject=help>
List-Subscribe: <https://mails.dpdk.org/listinfo/test-report>,
 <mailto:test-report-request@dpdk.org?subject=subscribe>
Errors-To: test-report-bounces@dpdk.org

Test-Label: iol-compile-amd64-testing
Test-Status: SUCCESS
http://dpdk.org/patch/139095

_Testing PASS_

Submitter: Maryam Tahhan <mtahhan@redhat.com>
Date: Thursday, April 04 2024 13:24:50 
DPDK git baseline: Repo:dpdk
  Branch: master
  CommitID:e2e546ab5bf5e024986ccb5310ab43982f3bb40c

139094-139095 --> testing pass

Test environment and result as below:

+---------------------+--------------------+-------------------+----------------------+
|     Environment     | dpdk_meson_compile | dpdk_msvc_compile | dpdk_mingw64_compile |
+=====================+====================+===================+======================+
| CentOS Stream 9     | PASS               | SKIPPED           | SKIPPED              |
+---------------------+--------------------+-------------------+----------------------+
| FreeBSD 13.2        | PASS               | SKIPPED           | SKIPPED              |
+---------------------+--------------------+-------------------+----------------------+
| Fedora 37           | PASS               | SKIPPED           | SKIPPED              |
+---------------------+--------------------+-------------------+----------------------+
| Debian 12           | PASS               | SKIPPED           | SKIPPED              |
+---------------------+--------------------+-------------------+----------------------+
| Windows Server 2022 | PASS               | PASS              | PASS                 |
+---------------------+--------------------+-------------------+----------------------+
| Fedora 38           | PASS               | SKIPPED           | SKIPPED              |
+---------------------+--------------------+-------------------+----------------------+
| Windows Server 2019 | PASS               | SKIPPED           | PASS                 |
+---------------------+--------------------+-------------------+----------------------+
| Fedora 39           | PASS               | SKIPPED           | SKIPPED              |
+---------------------+--------------------+-------------------+----------------------+
| RHEL8               | PASS               | SKIPPED           | SKIPPED              |
+---------------------+--------------------+-------------------+----------------------+
| Ubuntu 22.04        | PASS               | SKIPPED           | SKIPPED              |
+---------------------+--------------------+-------------------+----------------------+
| Ubuntu 20.04        | PASS               | SKIPPED           | SKIPPED              |
+---------------------+--------------------+-------------------+----------------------+
| openSUSE Leap 15    | PASS               | SKIPPED           | SKIPPED              |
+---------------------+--------------------+-------------------+----------------------+


CentOS Stream 9
	Kernel: 5.4.0-167-generic
	Compiler: gcc 11.4.1 20230605

FreeBSD 13.2
	Kernel: 13.2
	Compiler: clang 14.0.5

Fedora 37
	Kernel: Depends on container host system
	Compiler: gcc 12.3.1

Debian 12
	Kernel: Container Host Kernel
	Compiler: gcc 10.2.1

Windows Server 2022
	Kernel: 10.0.20348.2031
	Compiler: clang 15.0.7, gcc 8.1.0 (MinGW), and MSVC VS 17.9

Fedora 38
	Kernel: Depends on container host
	Compiler: gcc 13.2.1

Windows Server 2019
	Kernel: 10.0.17763
	Compiler: clang 14.0 and gcc 8.1.0 (MinGW)

Fedora 39
	Kernel: Depends on container host
	Compiler: gcc 13.2.1

RHEL8
	Kernel: 5.4.0-167-generic
	Compiler: gcc 8.5.0 20210514 (Red Hat 8.5.0-20)

Ubuntu 22.04
	Kernel: 5.4.0-167-generic
	Compiler: gcc 11.4.0

Ubuntu 20.04
	Kernel: 5.4.0-167-generic
	Compiler: gcc 9.4.0-1ubuntu1~20.04.1

openSUSE Leap 15
	Kernel: 5.4.0-167-generic
	Compiler: gcc 7.5.0

To view detailed results, visit:
https://lab.dpdk.org/results/dashboard/patchsets/29712/

UNH-IOL DPDK Community Lab

To manage your email subscriptions, visit: 
https://lab.dpdk.org/results/dashboard/preferences/subscriptions/