From mboxrd@z Thu Jan  1 00:00:00 1970
Return-Path: <test-report-bounces@dpdk.org>
Received: from mails.dpdk.org (mails.dpdk.org [217.70.189.124])
	by inbox.dpdk.org (Postfix) with ESMTP id 0EEDF43DFA
	for <public@inbox.dpdk.org>; Thu,  4 Apr 2024 16:31:06 +0200 (CEST)
Received: from mails.dpdk.org (localhost [127.0.0.1])
	by mails.dpdk.org (Postfix) with ESMTP id 097654025D;
	Thu,  4 Apr 2024 16:31:06 +0200 (CEST)
Received: from mail-qt1-f227.google.com (mail-qt1-f227.google.com
 [209.85.160.227])
 by mails.dpdk.org (Postfix) with ESMTP id ED09540150
 for <test-report@dpdk.org>; Thu,  4 Apr 2024 16:31:04 +0200 (CEST)
Received: by mail-qt1-f227.google.com with SMTP id
 d75a77b69052e-43456949480so1674581cf.3
 for <test-report@dpdk.org>; Thu, 04 Apr 2024 07:31:04 -0700 (PDT)
DKIM-Signature: v=1; a=rsa-sha256; c=relaxed/relaxed;
 d=iol.unh.edu; s=unh-iol; t=1712241064; x=1712845864; darn=dpdk.org;
 h=references:in-reply-to:cc:to:from:subject:message-id:date:from:to
 :cc:subject:date:message-id:reply-to;
 bh=F1S/BWr/NVy6jBxsNGwmu40euU7+kTtl+XWRv3oLSUI=;
 b=JfuZEMknrHm63lw83bM90PVNTEZTISaUKJd4O4aRpJPqtR4lYvNSANsbcV6HWWN9Gq
 WvAO+d8+1ju58tC96B52cxZzk8zA7q97hARwzRrp4w1yu4oMaYkqbNQTW8klzPqJoMDr
 fxucOd3JRQwcQ/Sshx1ZgccKyrpHQsd+aygek=
X-Google-DKIM-Signature: v=1; a=rsa-sha256; c=relaxed/relaxed;
 d=1e100.net; s=20230601; t=1712241064; x=1712845864;
 h=references:in-reply-to:cc:to:from:subject:message-id:date
 :x-gm-message-state:from:to:cc:subject:date:message-id:reply-to;
 bh=F1S/BWr/NVy6jBxsNGwmu40euU7+kTtl+XWRv3oLSUI=;
 b=eYm/vMBUR00IvyXZ22/wPMNKnSilVvN4VyCtbRjlbzU/YBe6W0ByyeZKHRUli/r+2A
 jFScZQD4sX/aaPfNaAvtp3rQgPw3/lUd0q/ICS9be/fRAGwqF7+KkSoHO+8BoxLXf/7o
 y3tyfQKD9XUrJU947Dx444mhaJCk6ufOJZnRCY5uEVrmFr06t2RuMXQRnDRLPiXI0Oy4
 nD9pIc0rLAAGjPBlZIh/MLa0hWlfP8k7CYju6+8H3qExohIst2CeK78Hisq5rxlylXp9
 bJfoky9CsgXLKjaSJWFgFhPc0q55ZzPpGER3oU+Rj0dA2dbiNTC9ptzdkJ4CrskWaJ6u
 SBsA==
X-Gm-Message-State: AOJu0Yy7XXALc6taRDchuhPqgpez4tWPdrZ28amVDM/QIAMc1X/i65qH
 wnHY+lO1PvgBYDWS4GOegPeDk2b95P1LNP8W03t6/Vim3KAzcH0JP/XygHZd/EnKlwJ/b7Ecm0y
 YEdcHpNkKRGtEbYLLsd2Fp7bAycoTzuPjfW6KGsT1Cp3tNfapoQjpl8OZ
X-Google-Smtp-Source: AGHT+IHggtCQbwWDh5jyrT/EEEBXfOdXODwPbnkaje6UCvhV0ZQwvjqtKPeHQXa4zgSbUA21eJgVNqcsMobf
X-Received: by 2002:a05:622a:14d4:b0:432:f1c2:4ba8 with SMTP id
 u20-20020a05622a14d400b00432f1c24ba8mr3110760qtx.27.1712241064368; 
 Thu, 04 Apr 2024 07:31:04 -0700 (PDT)
Received: from postal.iol.unh.edu (postal.iol.unh.edu.
 [2606:4100:3880:1234::84]) by smtp-relay.gmail.com with ESMTPS id
 bw16-20020a05622a099000b0043122f5e1a1sm1367446qtb.20.2024.04.04.07.31.04
 (version=TLS1_2 cipher=ECDHE-ECDSA-AES128-GCM-SHA256 bits=128/128);
 Thu, 04 Apr 2024 07:31:04 -0700 (PDT)
X-Relaying-Domain: iol.unh.edu
Date: Thu, 04 Apr 2024 07:31:04 -0700 (PDT)
Message-ID: <660eb9a8.050a0220.21e73.0966SMTPIN_ADDED_MISSING@mx.google.com>
Received: from [172.17.0.7] (unknown [172.18.0.217])
 by postal.iol.unh.edu (Postfix) with ESMTP id 0C2236052471;
 Thu,  4 Apr 2024 10:31:04 -0400 (EDT)
Subject: |SUCCESS| pw139094-139095 [PATCH] [v12,3/3] net/af_xdp: support AF_X
From: dpdklab@iol.unh.edu
To: Test Report <test-report@dpdk.org>
Cc: dpdk-test-reports@iol.unh.edu
In-Reply-To: <20240404132452.1186627-4-mtahhan@redhat.com>
References: <20240404132452.1186627-4-mtahhan@redhat.com>
Content-Type: text/plain
X-BeenThere: test-report@dpdk.org
X-Mailman-Version: 2.1.29
Precedence: list
List-Id: automatic DPDK test reports <test-report.dpdk.org>
List-Unsubscribe: <https://mails.dpdk.org/options/test-report>,
 <mailto:test-report-request@dpdk.org?subject=unsubscribe>
List-Archive: <http://mails.dpdk.org/archives/test-report/>
List-Post: <mailto:test-report@dpdk.org>
List-Help: <mailto:test-report-request@dpdk.org?subject=help>
List-Subscribe: <https://mails.dpdk.org/listinfo/test-report>,
 <mailto:test-report-request@dpdk.org?subject=subscribe>
Errors-To: test-report-bounces@dpdk.org

Test-Label: iol-unit-amd64-testing
Test-Status: SUCCESS
http://dpdk.org/patch/139095

_Testing PASS_

Submitter: Maryam Tahhan <mtahhan@redhat.com>
Date: Thursday, April 04 2024 13:24:50 
DPDK git baseline: Repo:dpdk
  Branch: master
  CommitID:e2e546ab5bf5e024986ccb5310ab43982f3bb40c

139094-139095 --> testing pass

Test environment and result as below:

+---------------------+----------------+
|     Environment     | dpdk_unit_test |
+=====================+================+
| Windows Server 2019 | PASS           |
+---------------------+----------------+
| CentOS Stream 9     | PASS           |
+---------------------+----------------+
| Debian Bullseye     | PASS           |
+---------------------+----------------+
| CentOS Stream 8     | PASS           |
+---------------------+----------------+


Windows Server 2019
	Kernel: 10.0.17763
	Compiler: clang 14.0 and gcc 8.1.0 (MinGW)

CentOS Stream 9
	Kernel: 5.4.0-167-generic
	Compiler: gcc 11.4.1 20230605

Debian Bullseye
	Kernel: 5.4.0-167-generic
	Compiler: gcc 10.2.1-6

CentOS Stream 8
	Kernel: 5.4.0-167-generic
	Compiler: gcc 8.5.0 20210514

To view detailed results, visit:
https://lab.dpdk.org/results/dashboard/patchsets/29712/

UNH-IOL DPDK Community Lab

To manage your email subscriptions, visit: 
https://lab.dpdk.org/results/dashboard/preferences/subscriptions/