From mboxrd@z Thu Jan  1 00:00:00 1970
Return-Path: <test-report-bounces@dpdk.org>
Received: from mails.dpdk.org (mails.dpdk.org [217.70.189.124])
	by inbox.dpdk.org (Postfix) with ESMTP id 3EBCC43DFA
	for <public@inbox.dpdk.org>; Thu,  4 Apr 2024 16:31:55 +0200 (CEST)
Received: from mails.dpdk.org (localhost [127.0.0.1])
	by mails.dpdk.org (Postfix) with ESMTP id 3AABB4025D;
	Thu,  4 Apr 2024 16:31:55 +0200 (CEST)
Received: from mail-il1-f226.google.com (mail-il1-f226.google.com
 [209.85.166.226])
 by mails.dpdk.org (Postfix) with ESMTP id 65EEB40150
 for <test-report@dpdk.org>; Thu,  4 Apr 2024 16:31:54 +0200 (CEST)
Received: by mail-il1-f226.google.com with SMTP id
 e9e14a558f8ab-369de8742f4so4509865ab.1
 for <test-report@dpdk.org>; Thu, 04 Apr 2024 07:31:54 -0700 (PDT)
DKIM-Signature: v=1; a=rsa-sha256; c=relaxed/relaxed;
 d=iol.unh.edu; s=unh-iol; t=1712241114; x=1712845914; darn=dpdk.org;
 h=references:in-reply-to:cc:to:from:subject:message-id:date:from:to
 :cc:subject:date:message-id:reply-to;
 bh=zk3lWnZv8BjcgVTT440XhyC9SdAx6q72dXVAInpdXms=;
 b=AaoRQlY+5JBzZotYODxCztREObUUgXo2W5x4/4dwd+/2Dg14kOkSOs1RGJjD3GgqQ9
 AqthAT9gd8j460SssZIdSO8vdMUJnpH6+c3//UTwN2kqjJXYEoGKfisU0hihEJCpetc3
 QWjF4C+9OPwcLig5p2N2EG2CcLzHhUAO2La7Y=
X-Google-DKIM-Signature: v=1; a=rsa-sha256; c=relaxed/relaxed;
 d=1e100.net; s=20230601; t=1712241114; x=1712845914;
 h=references:in-reply-to:cc:to:from:subject:message-id:date
 :x-gm-message-state:from:to:cc:subject:date:message-id:reply-to;
 bh=zk3lWnZv8BjcgVTT440XhyC9SdAx6q72dXVAInpdXms=;
 b=lAbAjsRXXM0I0/vKNWspJC1n3U5agLgNsgMiPyJj4ZhmCWkHD8n+nw4E+U1QXagCB4
 RCLdKfADoj0JKCf0ZtjkjXo1I6ov8JBOZyHY5z3s4g5p21ir7xtzqN88lqFqM8vKfbIY
 pQNUddcdyj5bcN3xLUH/H/0n5iFYd6SJV3JEFb0/YLpVmHF3JKeRfEKLEJ+1K1cDreul
 1lHwt5ePbxv6z4SUOTsqGnHPfT6p/SWOBh4m9ghMtrb41PmavH+EwB5N/ih+UBcG+0z1
 5GIrWjP17zzHmIQ07wmeLZJm4Zm3kpJ9zSZpdQ/v8Y8dyhWIKxcvgj1Zj9PywK6pD9XZ
 7UQw==
X-Gm-Message-State: AOJu0YwstTTY9Se9bqb6iYnoOeYTk0quiu1IDIKmgqOvfrsz7rtHUwwG
 ZnVWpzannNxnq/AwtmQza5M2YKlS2E09SY9cDb+sf2GVIxq6rhZPO6QemLCxxhftEKeWy9jUvx4
 0Rzsk3XIWq0bXemfN5hQ4LRf0V17JhgzGG0Dvo1LWrRb7jZlaSPsRH/C1
X-Google-Smtp-Source: AGHT+IG2Qjav4DleVHu4HX3vcDY5S+yaQ/dR0D4Vr7/D0AAnpR/36I68w354jj4gvMi/tC9sayBt11KaZzQ9
X-Received: by 2002:a05:6e02:1feb:b0:368:a878:3390 with SMTP id
 dt11-20020a056e021feb00b00368a8783390mr3197229ilb.5.1712241113768; 
 Thu, 04 Apr 2024 07:31:53 -0700 (PDT)
Received: from postal.iol.unh.edu (postal.iol.unh.edu.
 [2606:4100:3880:1234::84]) by smtp-relay.gmail.com with ESMTPS id
 f8-20020a056e020b4800b00369f09384f4sm187411ilu.70.2024.04.04.07.31.53
 (version=TLS1_2 cipher=ECDHE-ECDSA-AES128-GCM-SHA256 bits=128/128);
 Thu, 04 Apr 2024 07:31:53 -0700 (PDT)
X-Relaying-Domain: iol.unh.edu
Date: Thu, 04 Apr 2024 07:31:53 -0700 (PDT)
Message-ID: <660eb9d9.050a0220.9eee9.d3c2SMTPIN_ADDED_MISSING@mx.google.com>
Received: from [172.17.0.8] (unknown [172.18.0.217])
 by postal.iol.unh.edu (Postfix) with ESMTP id 40F5E6052471;
 Thu,  4 Apr 2024 10:31:53 -0400 (EDT)
Subject: |SUCCESS| pw139094-139095 [PATCH] [v12,3/3] net/af_xdp: support AF_X
From: dpdklab@iol.unh.edu
To: Test Report <test-report@dpdk.org>
Cc: dpdk-test-reports@iol.unh.edu
In-Reply-To: <20240404132452.1186627-4-mtahhan@redhat.com>
References: <20240404132452.1186627-4-mtahhan@redhat.com>
Content-Type: text/plain
X-BeenThere: test-report@dpdk.org
X-Mailman-Version: 2.1.29
Precedence: list
List-Id: automatic DPDK test reports <test-report.dpdk.org>
List-Unsubscribe: <https://mails.dpdk.org/options/test-report>,
 <mailto:test-report-request@dpdk.org?subject=unsubscribe>
List-Archive: <http://mails.dpdk.org/archives/test-report/>
List-Post: <mailto:test-report@dpdk.org>
List-Help: <mailto:test-report-request@dpdk.org?subject=help>
List-Subscribe: <https://mails.dpdk.org/listinfo/test-report>,
 <mailto:test-report-request@dpdk.org?subject=subscribe>
Errors-To: test-report-bounces@dpdk.org

Test-Label: iol-unit-arm64-testing
Test-Status: SUCCESS
http://dpdk.org/patch/139095

_Testing PASS_

Submitter: Maryam Tahhan <mtahhan@redhat.com>
Date: Thursday, April 04 2024 13:24:50 
DPDK git baseline: Repo:dpdk
  Branch: master
  CommitID:e2e546ab5bf5e024986ccb5310ab43982f3bb40c

139094-139095 --> testing pass

Test environment and result as below:

+--------------------------+------------------------------+---------------------------+----------------+--------------+
|       Environment        | cryptodev_sw_snow3g_autotest | cryptodev_sw_zuc_autotest | dpdk_unit_test | lpm_autotest |
+==========================+==============================+===========================+================+==============+
| Debian 12 (arm)          | PASS                         | PASS                      | SKIPPED        | SKIPPED      |
+--------------------------+------------------------------+---------------------------+----------------+--------------+
| CentOS Stream 9 (ARM)    | SKIPPED                      | SKIPPED                   | PASS           | SKIPPED      |
+--------------------------+------------------------------+---------------------------+----------------+--------------+
| Debian 11 (Buster) (ARM) | SKIPPED                      | SKIPPED                   | PASS           | SKIPPED      |
+--------------------------+------------------------------+---------------------------+----------------+--------------+
| Fedora 37 (ARM)          | SKIPPED                      | SKIPPED                   | PASS           | SKIPPED      |
+--------------------------+------------------------------+---------------------------+----------------+--------------+
| Ubuntu 20.04 ARM SVE     | SKIPPED                      | SKIPPED                   | SKIPPED        | PASS         |
+--------------------------+------------------------------+---------------------------+----------------+--------------+


Debian 12 (arm)
	Kernel: Container Host Kernel
	Compiler: gcc 12.2.0

CentOS Stream 9 (ARM)
	Kernel: Container Host Kernel
	Compiler: gcc 11.4.1

Debian 11 (Buster) (ARM)
	Kernel: Container Host Kernel
	Compiler: gcc 10.2.1

Fedora 37 (ARM)
	Kernel: Depends on container host
	Compiler: gcc 12.3.1

Ubuntu 20.04 ARM SVE
	Kernel: 5.4.0-167-generic
	Compiler: gcc (Ubuntu 10.5.0-1ubuntu1~20.04) 10.5.0

To view detailed results, visit:
https://lab.dpdk.org/results/dashboard/patchsets/29712/

UNH-IOL DPDK Community Lab

To manage your email subscriptions, visit: 
https://lab.dpdk.org/results/dashboard/preferences/subscriptions/