From mboxrd@z Thu Jan  1 00:00:00 1970
Return-Path: <test-report-bounces@dpdk.org>
Received: from mails.dpdk.org (mails.dpdk.org [217.70.189.124])
	by inbox.dpdk.org (Postfix) with ESMTP id 02F9F43DFB
	for <public@inbox.dpdk.org>; Thu,  4 Apr 2024 19:26:34 +0200 (CEST)
Received: from mails.dpdk.org (localhost [127.0.0.1])
	by mails.dpdk.org (Postfix) with ESMTP id F029B4067B;
	Thu,  4 Apr 2024 19:26:33 +0200 (CEST)
Received: from mail-pg1-f228.google.com (mail-pg1-f228.google.com
 [209.85.215.228])
 by mails.dpdk.org (Postfix) with ESMTP id 8E873402E8
 for <test-report@dpdk.org>; Thu,  4 Apr 2024 19:26:32 +0200 (CEST)
Received: by mail-pg1-f228.google.com with SMTP id
 41be03b00d2f7-53fa455cd94so1089534a12.2
 for <test-report@dpdk.org>; Thu, 04 Apr 2024 10:26:32 -0700 (PDT)
DKIM-Signature: v=1; a=rsa-sha256; c=relaxed/relaxed;
 d=iol.unh.edu; s=unh-iol; t=1712251592; x=1712856392; darn=dpdk.org;
 h=references:in-reply-to:cc:to:from:subject:message-id:date:from:to
 :cc:subject:date:message-id:reply-to;
 bh=ZOQQgPKMjboAgDT+Fi7SyURJOPmOp2mITwr5zuRc/cU=;
 b=BeqlScRlYKbaUG7aaXDL1g1ywaeUvU8TGHdOuBMbTAT2Mvk7LfY4K4bgR7bWgmyH4X
 +6tydZ0Zb71nod7ivuoKD1vmX2qfvksMoZRbx302MDNfOkel5aYyqt/mf4jGOxc+jBd/
 6qsSf5dwCIkVD3kL/QL2JEKD8k7cTH/uBSaOY=
X-Google-DKIM-Signature: v=1; a=rsa-sha256; c=relaxed/relaxed;
 d=1e100.net; s=20230601; t=1712251592; x=1712856392;
 h=references:in-reply-to:cc:to:from:subject:message-id:date
 :x-gm-message-state:from:to:cc:subject:date:message-id:reply-to;
 bh=ZOQQgPKMjboAgDT+Fi7SyURJOPmOp2mITwr5zuRc/cU=;
 b=ZxH5HLxPKYJrl/JtBaZ+Vh9LZdM/TCFAdr+U3I50Nrs//lvpl8RnKbbfxcZALUgIl7
 DSH4aSdppF6SoFN5ZBK0lLYNLC3YtJxyqZUuCIgYdjolcVVeHyOLDex8lcAbS+zt3MLr
 7hh96RvAIp+VQr4W7oDNRUDqWX7fFHiHhEKSWh+Fe//lL/BUoz1k+XDd+Ww/hHPSYtmx
 MyJaEYPC2FDbVwqR6UC4uRcFAlowdaUPpZwfYbe5qPbl2OCXHssyWgdp8GsnUuPK0xPL
 KdeEA+458+VLV/zuoMPTAfMfMGEC0MuaXpvz62Kn5ckA5WFFBrbkW2lsb0h/IUwNdi4Q
 f/Gw==
X-Gm-Message-State: AOJu0YzJjmB1bD+pzhGzty2L2DYpPvJ6jBkxVAx/qp9zAGa2yx0pbZOW
 qrbsQ6Cjf0RaHQk8g81URusfPht3rlITYiyclZqsLPbVmN0uNsfV0OSz5fKbG7DBpirt3n0TPIE
 MVPH91E8X/zlzn6rckg0IQDKQ5E3nOQbB3oQyv0pG
X-Google-Smtp-Source: AGHT+IFPMfwdCw5SgoVPFL2iCGkwyD9uyyUzbxPzS31Qt0q2EO5P3M0hFR16Tpv5phRrOgXD0fFqs6f6xdxR
X-Received: by 2002:a17:90a:b006:b0:299:72d7:5b9a with SMTP id
 x6-20020a17090ab00600b0029972d75b9amr327738pjq.24.1712251591794; 
 Thu, 04 Apr 2024 10:26:31 -0700 (PDT)
Received: from postal.iol.unh.edu (postal.iol.unh.edu. [132.177.123.84])
 by smtp-relay.gmail.com with ESMTPS id
 x20-20020a17090abc9400b002a258357b04sm112929pjr.16.2024.04.04.10.26.31
 (version=TLS1_2 cipher=ECDHE-ECDSA-AES128-GCM-SHA256 bits=128/128);
 Thu, 04 Apr 2024 10:26:31 -0700 (PDT)
X-Relaying-Domain: iol.unh.edu
Date: Thu, 04 Apr 2024 10:26:31 -0700 (PDT)
Message-ID: <660ee2c7.170a0220.e495b.7f11SMTPIN_ADDED_MISSING@mx.google.com>
Received: from [172.17.0.8] (unknown [172.18.0.217])
 by postal.iol.unh.edu (Postfix) with ESMTP id 026A86052471;
 Thu,  4 Apr 2024 13:26:31 -0400 (EDT)
Subject: |SUCCESS| pw139097-139099 [PATCH] [v13,3/3] net/af_xdp: support AF_X
From: dpdklab@iol.unh.edu
To: Test Report <test-report@dpdk.org>
Cc: dpdk-test-reports@iol.unh.edu
In-Reply-To: <20240404142326.2151118-4-mtahhan@redhat.com>
References: <20240404142326.2151118-4-mtahhan@redhat.com>
Content-Type: text/plain
X-BeenThere: test-report@dpdk.org
X-Mailman-Version: 2.1.29
Precedence: list
List-Id: automatic DPDK test reports <test-report.dpdk.org>
List-Unsubscribe: <https://mails.dpdk.org/options/test-report>,
 <mailto:test-report-request@dpdk.org?subject=unsubscribe>
List-Archive: <http://mails.dpdk.org/archives/test-report/>
List-Post: <mailto:test-report@dpdk.org>
List-Help: <mailto:test-report-request@dpdk.org?subject=help>
List-Subscribe: <https://mails.dpdk.org/listinfo/test-report>,
 <mailto:test-report-request@dpdk.org?subject=subscribe>
Errors-To: test-report-bounces@dpdk.org

Test-Label: iol-compile-amd64-testing
Test-Status: SUCCESS
http://dpdk.org/patch/139099

_Testing PASS_

Submitter: Maryam Tahhan <mtahhan@redhat.com>
Date: Thursday, April 04 2024 14:23:22 
DPDK git baseline: Repo:dpdk
  Branch: master
  CommitID:e2e546ab5bf5e024986ccb5310ab43982f3bb40c

139097-139099 --> testing pass

Test environment and result as below:

+---------------------+--------------------+-------------------+----------------------+
|     Environment     | dpdk_meson_compile | dpdk_msvc_compile | dpdk_mingw64_compile |
+=====================+====================+===================+======================+
| Debian Bullseye     | PASS               | SKIPPED           | SKIPPED              |
+---------------------+--------------------+-------------------+----------------------+
| CentOS Stream 8     | PASS               | SKIPPED           | SKIPPED              |
+---------------------+--------------------+-------------------+----------------------+
| Fedora 38           | PASS               | SKIPPED           | SKIPPED              |
+---------------------+--------------------+-------------------+----------------------+
| FreeBSD 13.2        | PASS               | SKIPPED           | SKIPPED              |
+---------------------+--------------------+-------------------+----------------------+
| Windows Server 2019 | PASS               | SKIPPED           | PASS                 |
+---------------------+--------------------+-------------------+----------------------+
| Windows Server 2022 | PASS               | PASS              | PASS                 |
+---------------------+--------------------+-------------------+----------------------+
| Fedora 37           | PASS               | SKIPPED           | SKIPPED              |
+---------------------+--------------------+-------------------+----------------------+
| Fedora 39           | PASS               | SKIPPED           | SKIPPED              |
+---------------------+--------------------+-------------------+----------------------+
| Ubuntu 20.04        | PASS               | SKIPPED           | SKIPPED              |
+---------------------+--------------------+-------------------+----------------------+
| Ubuntu 22.04        | PASS               | SKIPPED           | SKIPPED              |
+---------------------+--------------------+-------------------+----------------------+
| RHEL8               | PASS               | SKIPPED           | SKIPPED              |
+---------------------+--------------------+-------------------+----------------------+
| openSUSE Leap 15    | PASS               | SKIPPED           | SKIPPED              |
+---------------------+--------------------+-------------------+----------------------+
| Debian 12           | PASS               | SKIPPED           | SKIPPED              |
+---------------------+--------------------+-------------------+----------------------+
| CentOS Stream 9     | PASS               | SKIPPED           | SKIPPED              |
+---------------------+--------------------+-------------------+----------------------+


Debian Bullseye
	Kernel: 5.4.0-167-generic
	Compiler: gcc 10.2.1-6

CentOS Stream 8
	Kernel: 5.4.0-167-generic
	Compiler: gcc 8.5.0 20210514

Fedora 38
	Kernel: Depends on container host
	Compiler: gcc 13.2.1

FreeBSD 13.2
	Kernel: 13.2
	Compiler: clang 14.0.5

Windows Server 2019
	Kernel: 10.0.17763
	Compiler: clang 14.0 and gcc 8.1.0 (MinGW)

Windows Server 2022
	Kernel: 10.0.20348.2031
	Compiler: clang 15.0.7, gcc 8.1.0 (MinGW), and MSVC VS 17.9

Fedora 37
	Kernel: Depends on container host system
	Compiler: gcc 12.3.1

Fedora 39
	Kernel: Depends on container host
	Compiler: gcc 13.2.1

Ubuntu 20.04
	Kernel: 5.4.0-167-generic
	Compiler: gcc 9.4.0-1ubuntu1~20.04.1

Ubuntu 22.04
	Kernel: 5.4.0-167-generic
	Compiler: gcc 11.4.0

RHEL8
	Kernel: 5.4.0-167-generic
	Compiler: gcc 8.5.0 20210514 (Red Hat 8.5.0-20)

openSUSE Leap 15
	Kernel: 5.4.0-167-generic
	Compiler: gcc 7.5.0

Debian 12
	Kernel: Container Host Kernel
	Compiler: gcc 10.2.1

CentOS Stream 9
	Kernel: 5.4.0-167-generic
	Compiler: gcc 11.4.1 20230605

To view detailed results, visit:
https://lab.dpdk.org/results/dashboard/patchsets/29713/

UNH-IOL DPDK Community Lab

To manage your email subscriptions, visit: 
https://lab.dpdk.org/results/dashboard/preferences/subscriptions/