From mboxrd@z Thu Jan  1 00:00:00 1970
Return-Path: <test-report-bounces@dpdk.org>
Received: from mails.dpdk.org (mails.dpdk.org [217.70.189.124])
	by inbox.dpdk.org (Postfix) with ESMTP id 509B143DFB
	for <public@inbox.dpdk.org>; Thu,  4 Apr 2024 19:27:11 +0200 (CEST)
Received: from mails.dpdk.org (localhost [127.0.0.1])
	by mails.dpdk.org (Postfix) with ESMTP id 489C44067B;
	Thu,  4 Apr 2024 19:27:11 +0200 (CEST)
Received: from mail-il1-f226.google.com (mail-il1-f226.google.com
 [209.85.166.226])
 by mails.dpdk.org (Postfix) with ESMTP id DFB4C402E8
 for <test-report@dpdk.org>; Thu,  4 Apr 2024 19:27:09 +0200 (CEST)
Received: by mail-il1-f226.google.com with SMTP id
 e9e14a558f8ab-368a663344eso4625505ab.2
 for <test-report@dpdk.org>; Thu, 04 Apr 2024 10:27:09 -0700 (PDT)
DKIM-Signature: v=1; a=rsa-sha256; c=relaxed/relaxed;
 d=iol.unh.edu; s=unh-iol; t=1712251629; x=1712856429; darn=dpdk.org;
 h=references:in-reply-to:cc:to:from:subject:message-id:date:from:to
 :cc:subject:date:message-id:reply-to;
 bh=Vd4jqtogLuTNXfitIS0A2mRxPJoXTY/LHiHttUHp87E=;
 b=W7foors7ELR2aOd2/e1HV0+tliB+uZ7KjceNcaU38mhH4KbJ7yoHfVL3QRABayWfY7
 yTTJOhvoyqRIL+i8SwsUCCIzNOcbZDvIMP4RAt5Xom4DWpEsZ6BewW9ppnlpaw+O+tNw
 dKsdXbP2nyZXGSKHSUl67C0DAQZV5Rx07dMYg=
X-Google-DKIM-Signature: v=1; a=rsa-sha256; c=relaxed/relaxed;
 d=1e100.net; s=20230601; t=1712251629; x=1712856429;
 h=references:in-reply-to:cc:to:from:subject:message-id:date
 :x-gm-message-state:from:to:cc:subject:date:message-id:reply-to;
 bh=Vd4jqtogLuTNXfitIS0A2mRxPJoXTY/LHiHttUHp87E=;
 b=Opl4KrUYouhGaxE0uBYx/KKjsNQhtIeuaEXTZ/fZcOp5SVe7LvufTeCYStE8nWgBze
 t5+2YW1l5OLQTZgapp0lTwKGhCwf6BtXGFejVdfAlqRPktVYJjYPVERlWdSU99m/TBVa
 x81y/JL0joatjzr92CD+tXtlUAhzBaaCw+XCdOw3ScteGgHeBCL9PnLiKYDG2AaEry0H
 1XzfrYR7CAc3jF9CPjfaF8a7pe5TgWzmzWimM7nIKuw8HvLs5AFc46rH/RTXDltbjHJS
 2buRS9cUaHPCx1n6SiMCZpJCWtQN9/5o6NGc2qxxiB3yp0zoxgEwu75PIGLHo/Yc8Xp7
 AaSw==
X-Gm-Message-State: AOJu0YyyJGwR7ZSZUqp73HcbCi5t6pBPtLmT5TNPhd4UMEZ3zBilEl43
 7wXfYSX7XLfQca1ztrt2HkufvXbbLa0KkwL/9MNJcRw/ohQPl8Qf3X867xmnxG/huu+dgb9FheQ
 Umh/19EpOTv5NZtLan3dksLaukkXJkj7XJT8JPerU
X-Google-Smtp-Source: AGHT+IHImOvP0swWPns5cG0lKeLm/uHniIVOEvVwyx4XvXJrQ176WHLRntxXRMBi30A+RVr1zQCFGCyM93B7
X-Received: by 2002:a05:6e02:12c8:b0:368:645a:33dd with SMTP id
 i8-20020a056e0212c800b00368645a33ddmr3731190ilm.31.1712251629320; 
 Thu, 04 Apr 2024 10:27:09 -0700 (PDT)
Received: from postal.iol.unh.edu (postal.iol.unh.edu. [132.177.123.84])
 by smtp-relay.gmail.com with ESMTPS id
 m2-20020a056e02158200b00369ba6990besm432549ilu.53.2024.04.04.10.27.09
 (version=TLS1_2 cipher=ECDHE-ECDSA-AES128-GCM-SHA256 bits=128/128);
 Thu, 04 Apr 2024 10:27:09 -0700 (PDT)
X-Relaying-Domain: iol.unh.edu
Date: Thu, 04 Apr 2024 10:27:09 -0700 (PDT)
Message-ID: <660ee2ed.050a0220.c2aeb.a528SMTPIN_ADDED_MISSING@mx.google.com>
Received: from [172.17.0.6] (unknown [172.18.0.217])
 by postal.iol.unh.edu (Postfix) with ESMTP id E3F646052471;
 Thu,  4 Apr 2024 13:27:08 -0400 (EDT)
Subject: |SUCCESS| pw139097-139099 [PATCH] [v13,3/3] net/af_xdp: support AF_X
From: dpdklab@iol.unh.edu
To: Test Report <test-report@dpdk.org>
Cc: dpdk-test-reports@iol.unh.edu
In-Reply-To: <20240404142326.2151118-4-mtahhan@redhat.com>
References: <20240404142326.2151118-4-mtahhan@redhat.com>
Content-Type: text/plain
X-BeenThere: test-report@dpdk.org
X-Mailman-Version: 2.1.29
Precedence: list
List-Id: automatic DPDK test reports <test-report.dpdk.org>
List-Unsubscribe: <https://mails.dpdk.org/options/test-report>,
 <mailto:test-report-request@dpdk.org?subject=unsubscribe>
List-Archive: <http://mails.dpdk.org/archives/test-report/>
List-Post: <mailto:test-report@dpdk.org>
List-Help: <mailto:test-report-request@dpdk.org?subject=help>
List-Subscribe: <https://mails.dpdk.org/listinfo/test-report>,
 <mailto:test-report-request@dpdk.org?subject=subscribe>
Errors-To: test-report-bounces@dpdk.org

Test-Label: iol-abi-testing
Test-Status: SUCCESS
http://dpdk.org/patch/139099

_Testing PASS_

Submitter: Maryam Tahhan <mtahhan@redhat.com>
Date: Thursday, April 04 2024 14:23:22 
DPDK git baseline: Repo:dpdk
  Branch: master
  CommitID:e2e546ab5bf5e024986ccb5310ab43982f3bb40c

139097-139099 --> testing pass

Test environment and result as below:

+------------------+----------+
|   Environment    | abi_test |
+==================+==========+
| Debian 12        | PASS     |
+------------------+----------+
| Fedora 38        | PASS     |
+------------------+----------+
| RHEL8            | PASS     |
+------------------+----------+
| Fedora 39        | PASS     |
+------------------+----------+
| CentOS Stream 8  | PASS     |
+------------------+----------+
| Fedora 37        | PASS     |
+------------------+----------+
| Debian Bullseye  | PASS     |
+------------------+----------+
| CentOS Stream 9  | PASS     |
+------------------+----------+
| openSUSE Leap 15 | PASS     |
+------------------+----------+
| Ubuntu 22.04     | PASS     |
+------------------+----------+


Debian 12
	Kernel: Container Host Kernel
	Compiler: gcc 10.2.1

Fedora 38
	Kernel: Depends on container host
	Compiler: gcc 13.2.1

RHEL8
	Kernel: 5.4.0-167-generic
	Compiler: gcc 8.5.0 20210514 (Red Hat 8.5.0-20)

Fedora 39
	Kernel: Depends on container host
	Compiler: clang 17.0.6

CentOS Stream 8
	Kernel: 5.4.0-167-generic
	Compiler: gcc 8.5.0 20210514

Fedora 37
	Kernel: Depends on container host system
	Compiler: gcc 12.3.1

Debian Bullseye
	Kernel: 5.4.0-167-generic
	Compiler: gcc 10.2.1-6

CentOS Stream 9
	Kernel: 5.4.0-167-generic
	Compiler: gcc 11.4.1 20230605

openSUSE Leap 15
	Kernel: 5.4.0-167-generic
	Compiler: gcc 7.5.0

Ubuntu 22.04
	Kernel: 5.4.0-167-generic
	Compiler: gcc 11.4.0

To view detailed results, visit:
https://lab.dpdk.org/results/dashboard/patchsets/29713/

UNH-IOL DPDK Community Lab

To manage your email subscriptions, visit: 
https://lab.dpdk.org/results/dashboard/preferences/subscriptions/