From mboxrd@z Thu Jan  1 00:00:00 1970
Return-Path: <test-report-bounces@dpdk.org>
Received: from mails.dpdk.org (mails.dpdk.org [217.70.189.124])
	by inbox.dpdk.org (Postfix) with ESMTP id 7B3DB43DFB
	for <public@inbox.dpdk.org>; Thu,  4 Apr 2024 19:31:15 +0200 (CEST)
Received: from mails.dpdk.org (localhost [127.0.0.1])
	by mails.dpdk.org (Postfix) with ESMTP id 746E64067B;
	Thu,  4 Apr 2024 19:31:15 +0200 (CEST)
Received: from mail-yw1-f225.google.com (mail-yw1-f225.google.com
 [209.85.128.225])
 by mails.dpdk.org (Postfix) with ESMTP id F342E402E8
 for <test-report@dpdk.org>; Thu,  4 Apr 2024 19:31:14 +0200 (CEST)
Received: by mail-yw1-f225.google.com with SMTP id
 00721157ae682-615826815c2so14145717b3.1
 for <test-report@dpdk.org>; Thu, 04 Apr 2024 10:31:14 -0700 (PDT)
DKIM-Signature: v=1; a=rsa-sha256; c=relaxed/relaxed;
 d=iol.unh.edu; s=unh-iol; t=1712251874; x=1712856674; darn=dpdk.org;
 h=references:in-reply-to:cc:to:from:subject:message-id:date:from:to
 :cc:subject:date:message-id:reply-to;
 bh=X9wSqgJQvGd6BqyQ9JjQlvY3J/heWFsj4pD002vjNgs=;
 b=PF5q9i2yJrteSpAd7B/qPhEUqcMjN5ZMm7aLPjORtSh5Npeu3UM5+EI7eviDAXBnlm
 TpDDf7OTTqX2nL1Hf7V8Yl3DkB3kBZbyXjAUNeWCQ+oWFmeg1ydC2AeMpfsK259eLOlm
 GVYCVWkmeFuuztIRu2hZx/wMGgY6H1BmyaGAQ=
X-Google-DKIM-Signature: v=1; a=rsa-sha256; c=relaxed/relaxed;
 d=1e100.net; s=20230601; t=1712251874; x=1712856674;
 h=references:in-reply-to:cc:to:from:subject:message-id:date
 :x-gm-message-state:from:to:cc:subject:date:message-id:reply-to;
 bh=X9wSqgJQvGd6BqyQ9JjQlvY3J/heWFsj4pD002vjNgs=;
 b=qLI0K7quE6Ye/iPon+deASD0THfEIlfNu8+SfPRuQMZhrc18Un2tOndRejHWOra2bP
 71Kbe3Fh1eMVgvqoUvW/cLvaidX43GHf5aOHuV9m5fRMZUkGiT4rJMG7tcBxeOku3wwk
 ydpAwPZOMe658wu4PFlSvS3rbY+KUzqFA7Wy2B+jxY5XJTSNDZvhP0BK/Wy69MQ/t+1i
 UaBAld2tQXrhX82c37aupeL/psGBe2xofBeJHUok9ybAVC+aMweD48c6yKX4MALrB+ow
 mTVsAPfHEV1AArnDHFmi9joQ4TiZUSygAjpaBL/r3H3rjwR3CFfwXMu5xVJ/Y0GxMFrK
 o2CA==
X-Gm-Message-State: AOJu0YzSmGBhVCteTpqdv2c59DXYNzZ1ngkCZXjpJjakWlEd28LyRtH0
 LDKaPipIIWessu/J43mYQYbFVPK174MBou9Go0aiFqeddngXbkK0zlaLnINKroaA8UVynTmfo/6
 v3GifGBqB/OU02CfXxXDNikQ5QMu9u4hSEnwvEKqd
X-Google-Smtp-Source: AGHT+IF7bwEQDA7Ij6Py9rqkNuDzJUaglp1XtQzAtCPB7x+Ym9lfYxZAV/vX4q4PI7ZGDBxylLOMujH3iQGg
X-Received: by 2002:a81:834f:0:b0:611:309b:a3f9 with SMTP id
 t76-20020a81834f000000b00611309ba3f9mr3014270ywf.5.1712251874434; 
 Thu, 04 Apr 2024 10:31:14 -0700 (PDT)
Received: from postal.iol.unh.edu (postal.iol.unh.edu. [132.177.123.84])
 by smtp-relay.gmail.com with ESMTPS id
 je9-20020a05690c6f8900b006155a0eccc3sm218630ywb.43.2024.04.04.10.31.14
 (version=TLS1_2 cipher=ECDHE-ECDSA-AES128-GCM-SHA256 bits=128/128);
 Thu, 04 Apr 2024 10:31:14 -0700 (PDT)
X-Relaying-Domain: iol.unh.edu
Date: Thu, 04 Apr 2024 10:31:14 -0700 (PDT)
Message-ID: <660ee3e2.050a0220.b5d47.f746SMTPIN_ADDED_MISSING@mx.google.com>
Received: from [172.17.0.6] (unknown [172.18.0.217])
 by postal.iol.unh.edu (Postfix) with ESMTP id 275D76052471;
 Thu,  4 Apr 2024 13:31:14 -0400 (EDT)
Subject: |SUCCESS| pw139097-139099 [PATCH] [v13,3/3] net/af_xdp: support AF_X
From: dpdklab@iol.unh.edu
To: Test Report <test-report@dpdk.org>
Cc: dpdk-test-reports@iol.unh.edu
In-Reply-To: <20240404142326.2151118-4-mtahhan@redhat.com>
References: <20240404142326.2151118-4-mtahhan@redhat.com>
Content-Type: text/plain
X-BeenThere: test-report@dpdk.org
X-Mailman-Version: 2.1.29
Precedence: list
List-Id: automatic DPDK test reports <test-report.dpdk.org>
List-Unsubscribe: <https://mails.dpdk.org/options/test-report>,
 <mailto:test-report-request@dpdk.org?subject=unsubscribe>
List-Archive: <http://mails.dpdk.org/archives/test-report/>
List-Post: <mailto:test-report@dpdk.org>
List-Help: <mailto:test-report-request@dpdk.org?subject=help>
List-Subscribe: <https://mails.dpdk.org/listinfo/test-report>,
 <mailto:test-report-request@dpdk.org?subject=subscribe>
Errors-To: test-report-bounces@dpdk.org

Test-Label: iol-compile-arm64-testing
Test-Status: SUCCESS
http://dpdk.org/patch/139099

_Testing PASS_

Submitter: Maryam Tahhan <mtahhan@redhat.com>
Date: Thursday, April 04 2024 14:23:22 
DPDK git baseline: Repo:dpdk
  Branch: master
  CommitID:e2e546ab5bf5e024986ccb5310ab43982f3bb40c

139097-139099 --> testing pass

Test environment and result as below:

+----------------------------------------+--------------------+
|              Environment               | dpdk_meson_compile |
+========================================+====================+
| Ubuntu 20.04 ARM SVE                   | PASS               |
+----------------------------------------+--------------------+
| Debian 12 with MUSDK                   | PASS               |
+----------------------------------------+--------------------+
| Fedora 37 (ARM)                        | PASS               |
+----------------------------------------+--------------------+
| Fedora 38 (ARM)                        | PASS               |
+----------------------------------------+--------------------+
| Ubuntu 20.04 ARM GCC Cross Compile     | PASS               |
+----------------------------------------+--------------------+
| Ubuntu 20.04 aarch32 GCC Cross Compile | PASS               |
+----------------------------------------+--------------------+
| Ubuntu 20.04 ARM Clang Cross Compile   | PASS               |
+----------------------------------------+--------------------+
| Debian 11 (Buster) (ARM)               | PASS               |
+----------------------------------------+--------------------+
| Debian 12 (arm)                        | PASS               |
+----------------------------------------+--------------------+
| Fedora 39 (ARM)                        | PASS               |
+----------------------------------------+--------------------+
| Ubuntu 20.04 (ARM)                     | PASS               |
+----------------------------------------+--------------------+
| CentOS Stream 9 (ARM)                  | PASS               |
+----------------------------------------+--------------------+


Ubuntu 20.04 ARM SVE
	Kernel: 5.4.0-167-generic
	Compiler: gcc (Ubuntu 10.5.0-1ubuntu1~20.04) 10.5.0

Debian 12 with MUSDK
	Kernel: Container Host Kernel
	Compiler: gcc 12.2.0

Fedora 37 (ARM)
	Kernel: Depends on container host
	Compiler: gcc 12.3.1

Fedora 38 (ARM)
	Kernel: Depends on container host
	Compiler: gcc 13.2.1

Ubuntu 20.04 ARM GCC Cross Compile
	Kernel: 5.4.0-167-generic
	Compiler: aarch64-linux-gnu-gcc (Ubuntu 9.4.0-1ubuntu1~20.04.2) 9.4.0

Ubuntu 20.04 aarch32 GCC Cross Compile
	Kernel: 5.4.0-167-generic
	Compiler: gcc 9.4.0

Ubuntu 20.04 ARM Clang Cross Compile
	Kernel: 5.4.0-72-generic
	Compiler: clang 10.0.0-4ubuntu1

Debian 11 (Buster) (ARM)
	Kernel: Container Host Kernel
	Compiler: gcc 10.2.1

Debian 12 (arm)
	Kernel: Container Host Kernel
	Compiler: gcc 12.2.0

Fedora 39 (ARM)
	Kernel: Depends on container host
	Compiler: gcc 13.2.1

Ubuntu 20.04 (ARM)
	Kernel: Container Host Kernel
	Compiler: gcc 9.4.0

CentOS Stream 9 (ARM)
	Kernel: Container Host Kernel
	Compiler: gcc 11.4.1

To view detailed results, visit:
https://lab.dpdk.org/results/dashboard/patchsets/29713/

UNH-IOL DPDK Community Lab

To manage your email subscriptions, visit: 
https://lab.dpdk.org/results/dashboard/preferences/subscriptions/