From mboxrd@z Thu Jan  1 00:00:00 1970
Return-Path: <test-report-bounces@dpdk.org>
Received: from mails.dpdk.org (mails.dpdk.org [217.70.189.124])
	by inbox.dpdk.org (Postfix) with ESMTP id 3AF6243DFC
	for <public@inbox.dpdk.org>; Thu,  4 Apr 2024 20:41:11 +0200 (CEST)
Received: from mails.dpdk.org (localhost [127.0.0.1])
	by mails.dpdk.org (Postfix) with ESMTP id 370054068E;
	Thu,  4 Apr 2024 20:41:11 +0200 (CEST)
Received: from mail-pl1-f225.google.com (mail-pl1-f225.google.com
 [209.85.214.225])
 by mails.dpdk.org (Postfix) with ESMTP id F13134064A
 for <test-report@dpdk.org>; Thu,  4 Apr 2024 20:41:09 +0200 (CEST)
Received: by mail-pl1-f225.google.com with SMTP id
 d9443c01a7336-1e0ae065d24so11393315ad.1
 for <test-report@dpdk.org>; Thu, 04 Apr 2024 11:41:09 -0700 (PDT)
DKIM-Signature: v=1; a=rsa-sha256; c=relaxed/relaxed;
 d=iol.unh.edu; s=unh-iol; t=1712256069; x=1712860869; darn=dpdk.org;
 h=references:in-reply-to:cc:to:from:subject:message-id:date:from:to
 :cc:subject:date:message-id:reply-to;
 bh=Kr3Yzk1cD9TfLHyJLxZNJ0RbsuXyhLLCIn0s1pFCt9c=;
 b=Hvk53VxNxSPTvjpebGD4svLldaIY0BT77qi72kp/0tAARZT1v8rBJXW5EUIq967aWi
 QW20/cAvRX2VZzYEBD1Nwy+BmI3ySqWTJv2eVMx5/k0OrmgZrfLITzjXb58lRLQ8ICsH
 ehD4vAeprxMH0eCtdh/xpbrihjuO1fcn+edZQ=
X-Google-DKIM-Signature: v=1; a=rsa-sha256; c=relaxed/relaxed;
 d=1e100.net; s=20230601; t=1712256069; x=1712860869;
 h=references:in-reply-to:cc:to:from:subject:message-id:date
 :x-gm-message-state:from:to:cc:subject:date:message-id:reply-to;
 bh=Kr3Yzk1cD9TfLHyJLxZNJ0RbsuXyhLLCIn0s1pFCt9c=;
 b=PiD416Q49RWSQROLrPlwu0EaZwtYSnR4chc0Brpcf966hJPXVCEYkaU+UbkJECE2cZ
 n5VpjyBEg53B16S2Qa1zMaVdNApPZ+wc3rB5pX4tv63E0nm8aQJYx4MSOwltyNnIigOV
 ppyeGRpUEysktT7WrY2DaZDyO3HEiu6JvtcEXewFrWZKkgSth3+x9dzYfJFQrCRuv+dW
 4IOifE2kDHR5JYW65Dmw3fOmN2uz2OCoEJZnRUlNIklf3CnRhKDBslQKPuVeRfD8rFAD
 iLvtD3O+juGCwCXA5WKOxOIgoyDAgRvYPz/zyLScZFrV7k6kr9ofKF4GyW+CoU0f0a3V
 sAcg==
X-Gm-Message-State: AOJu0YzzhtANsn5kQEyeSALNNs5avd3NBmWiXzC+U0lh34f4AXvqUvMt
 PMTd5amum0YlsPNNgJy+yIoVZTcaTbmURXtUNEMh5bPp1O9cU459ifSe463TJlTtwyENa8SFaZS
 k66AQ1om1P9bVTCOTSbDkumjoT2pVhHKWscQ2X14PucW/jLi0O5L8JHJ8
X-Google-Smtp-Source: AGHT+IHy4oDLAMw0J2oLenOEFI2EfP81gJc+69l82X9T9sqfvlMDdOFDQ3jAcWrvmywtzTRtr/uA9KzVa1jC
X-Received: by 2002:a17:903:1212:b0:1e2:88fd:c211 with SMTP id
 l18-20020a170903121200b001e288fdc211mr441969plh.4.1712256069119; 
 Thu, 04 Apr 2024 11:41:09 -0700 (PDT)
Received: from postal.iol.unh.edu (postal.iol.unh.edu.
 [2606:4100:3880:1234::84]) by smtp-relay.gmail.com with ESMTPS id
 jv11-20020a170903058b00b001e2c1987cb8sm19443plb.62.2024.04.04.11.41.08
 (version=TLS1_2 cipher=ECDHE-ECDSA-AES128-GCM-SHA256 bits=128/128);
 Thu, 04 Apr 2024 11:41:09 -0700 (PDT)
X-Relaying-Domain: iol.unh.edu
Date: Thu, 04 Apr 2024 11:41:09 -0700 (PDT)
Message-ID: <660ef445.170a0220.4085f.1affSMTPIN_ADDED_MISSING@mx.google.com>
Received: from [172.21.0.7] (unknown [172.18.0.240])
 by postal.iol.unh.edu (Postfix) with ESMTP id 841FF6052471;
 Thu,  4 Apr 2024 14:41:08 -0400 (EDT)
Subject: |SUCCESS| pw139107-139110 [PATCH] [v11,4/4] cryptodev: remove rte ma
From: dpdklab@iol.unh.edu
To: Test Report <test-report@dpdk.org>
Cc: dpdk-test-reports@iol.unh.edu
In-Reply-To: <1712253115-8755-5-git-send-email-roretzla@linux.microsoft.com>
References: <1712253115-8755-5-git-send-email-roretzla@linux.microsoft.com>
Content-Type: text/plain
X-BeenThere: test-report@dpdk.org
X-Mailman-Version: 2.1.29
Precedence: list
List-Id: automatic DPDK test reports <test-report.dpdk.org>
List-Unsubscribe: <https://mails.dpdk.org/options/test-report>,
 <mailto:test-report-request@dpdk.org?subject=unsubscribe>
List-Archive: <http://mails.dpdk.org/archives/test-report/>
List-Post: <mailto:test-report@dpdk.org>
List-Help: <mailto:test-report-request@dpdk.org?subject=help>
List-Subscribe: <https://mails.dpdk.org/listinfo/test-report>,
 <mailto:test-report-request@dpdk.org?subject=subscribe>
Errors-To: test-report-bounces@dpdk.org

Test-Label: iol-compile-amd64-testing
Test-Status: SUCCESS
http://dpdk.org/patch/139110

_Testing PASS_

Submitter: Tyler Retzlaff <roretzla@linux.microsoft.com>
Date: Thursday, April 04 2024 17:51:55 
DPDK git baseline: Repo:dpdk
  Branch: master
  CommitID:e2e546ab5bf5e024986ccb5310ab43982f3bb40c

139107-139110 --> testing pass

Test environment and result as below:

+---------------------+-------------------+--------------------+----------------------+
|     Environment     | dpdk_msvc_compile | dpdk_meson_compile | dpdk_mingw64_compile |
+=====================+===================+====================+======================+
| Windows Server 2022 | PASS              | PASS               | PASS                 |
+---------------------+-------------------+--------------------+----------------------+
| Windows Server 2019 | SKIPPED           | PASS               | SKIPPED              |
+---------------------+-------------------+--------------------+----------------------+
| FreeBSD 13.2        | SKIPPED           | PASS               | SKIPPED              |
+---------------------+-------------------+--------------------+----------------------+


Windows Server 2022
	Kernel: 10.0.20348.2031
	Compiler: clang 15.0.7, gcc 8.1.0 (MinGW), and MSVC VS 17.9

Windows Server 2019
	Kernel: 10.0.17763
	Compiler: clang 14.0 and gcc 8.1.0 (MinGW)

FreeBSD 13.2
	Kernel: 13.2
	Compiler: clang 14.0.5

To view detailed results, visit:
https://lab.dpdk.org/results/dashboard/patchsets/29717/

UNH-IOL DPDK Community Lab

To manage your email subscriptions, visit: 
https://lab.dpdk.org/results/dashboard/preferences/subscriptions/