From mboxrd@z Thu Jan  1 00:00:00 1970
Return-Path: <test-report-bounces@dpdk.org>
Received: from mails.dpdk.org (mails.dpdk.org [217.70.189.124])
	by inbox.dpdk.org (Postfix) with ESMTP id 72DC243DFC
	for <public@inbox.dpdk.org>; Thu,  4 Apr 2024 20:47:33 +0200 (CEST)
Received: from mails.dpdk.org (localhost [127.0.0.1])
	by mails.dpdk.org (Postfix) with ESMTP id 6A3894068E;
	Thu,  4 Apr 2024 20:47:33 +0200 (CEST)
Received: from mail-io1-f98.google.com (mail-io1-f98.google.com
 [209.85.166.98]) by mails.dpdk.org (Postfix) with ESMTP id 20CCD4064A
 for <test-report@dpdk.org>; Thu,  4 Apr 2024 20:47:32 +0200 (CEST)
Received: by mail-io1-f98.google.com with SMTP id
 ca18e2360f4ac-7c7f3f66d17so57187439f.0
 for <test-report@dpdk.org>; Thu, 04 Apr 2024 11:47:32 -0700 (PDT)
DKIM-Signature: v=1; a=rsa-sha256; c=relaxed/relaxed;
 d=iol.unh.edu; s=unh-iol; t=1712256451; x=1712861251; darn=dpdk.org;
 h=references:in-reply-to:cc:to:from:subject:message-id:date:from:to
 :cc:subject:date:message-id:reply-to;
 bh=qFhRMOtY3+BR+nqd9VXmnkv/t4f87Hk9E1oVQCgiBJ8=;
 b=jbsY7RcdOdp5ULisMr7hXxzuZCfxQ14BXpSLyjR6Algle9uZ6VP0m3QlHe2LMn40WV
 OyzVXkhiTYitWvqv7pW/VGyNda1K67CJai5hz41r8YsUtFw0LihEIavHFNga6RiF81PS
 yb/PSKRmk1wwRFkd303orgR4xDim/mZ+8L45M=
X-Google-DKIM-Signature: v=1; a=rsa-sha256; c=relaxed/relaxed;
 d=1e100.net; s=20230601; t=1712256451; x=1712861251;
 h=references:in-reply-to:cc:to:from:subject:message-id:date
 :x-gm-message-state:from:to:cc:subject:date:message-id:reply-to;
 bh=qFhRMOtY3+BR+nqd9VXmnkv/t4f87Hk9E1oVQCgiBJ8=;
 b=w2ka110JfltmPwhr8/h1KCIcDR37SIhUd+LsNAiwKJFnhYJOwMZdW2qnW6TqKZqP49
 Ya0XmHcqgZLlKIESOv7Ok6nf0jFo4rFXNvJLDVuRrSd0pj6XfoL9YW7/YKmp6Ey73YMZ
 TrOImERSGcUbaMEUxKERDAi8gryUtSK1KOhcVw4+srOlVcrGQt4yoGEckcerk3zNMmma
 gWcONWu6lLnG7+8spbdAYi+QzOvq/UsZ3Q+SOWspeenw+O5LybRAaCHUzcByNx+4oAVp
 4xSH10v9w0rwsFN6+OrZQapoItSRaDBXmFxdrXtbABm5HN5G7b+KtYn8sETGfzj5psHq
 HtgA==
X-Gm-Message-State: AOJu0Yy6RfvN0x6AdNu2zrnYOM6CFpDx1qb8O9YW3zq771AHzsZ1xqZe
 h6Z7V4u/XIsAi4JEWbWNt9048+RBRFKfP7YCwvtg7H+oevngpYFZVBGJ+DrkB8OQOj/5b+n3Lh0
 4OsyV7cG8/UT4mqjvD8fX8dqL8+aM2ICorbP+nxBr
X-Google-Smtp-Source: AGHT+IEZHGoxZIwDgUDcsBcL+yggHbopCP2fp0CTNdE9GOePSICg318KgTbmvc+a5Y73wU5BadQI1K1lXf/u
X-Received: by 2002:a05:6602:1788:b0:7d3:50a3:7b6f with SMTP id
 y8-20020a056602178800b007d350a37b6fmr666247iox.13.1712256450702; 
 Thu, 04 Apr 2024 11:47:30 -0700 (PDT)
Received: from postal.iol.unh.edu (postal.iol.unh.edu. [132.177.123.84])
 by smtp-relay.gmail.com with ESMTPS id
 w9-20020a056638138900b00476d123a4c7sm2831jad.4.2024.04.04.11.47.30
 (version=TLS1_2 cipher=ECDHE-ECDSA-AES128-GCM-SHA256 bits=128/128);
 Thu, 04 Apr 2024 11:47:30 -0700 (PDT)
X-Relaying-Domain: iol.unh.edu
Date: Thu, 04 Apr 2024 11:47:30 -0700 (PDT)
Message-ID: <660ef5c2.050a0220.e8e91.0298SMTPIN_ADDED_MISSING@mx.google.com>
Received: from [172.21.0.6] (unknown [172.18.0.240])
 by postal.iol.unh.edu (Postfix) with ESMTP id 208DA6052471;
 Thu,  4 Apr 2024 14:47:30 -0400 (EDT)
Subject: |SUCCESS| pw139107-139110 [PATCH] [v11,4/4] cryptodev: remove rte ma
From: dpdklab@iol.unh.edu
To: Test Report <test-report@dpdk.org>
Cc: dpdk-test-reports@iol.unh.edu
In-Reply-To: <1712253115-8755-5-git-send-email-roretzla@linux.microsoft.com>
References: <1712253115-8755-5-git-send-email-roretzla@linux.microsoft.com>
Content-Type: text/plain
X-BeenThere: test-report@dpdk.org
X-Mailman-Version: 2.1.29
Precedence: list
List-Id: automatic DPDK test reports <test-report.dpdk.org>
List-Unsubscribe: <https://mails.dpdk.org/options/test-report>,
 <mailto:test-report-request@dpdk.org?subject=unsubscribe>
List-Archive: <http://mails.dpdk.org/archives/test-report/>
List-Post: <mailto:test-report@dpdk.org>
List-Help: <mailto:test-report-request@dpdk.org?subject=help>
List-Subscribe: <https://mails.dpdk.org/listinfo/test-report>,
 <mailto:test-report-request@dpdk.org?subject=subscribe>
Errors-To: test-report-bounces@dpdk.org

Test-Label: iol-compile-amd64-testing
Test-Status: SUCCESS
http://dpdk.org/patch/139110

_Testing PASS_

Submitter: Tyler Retzlaff <roretzla@linux.microsoft.com>
Date: Thursday, April 04 2024 17:51:55 
DPDK git baseline: Repo:dpdk
  Branch: master
  CommitID:e2e546ab5bf5e024986ccb5310ab43982f3bb40c

139107-139110 --> testing pass

Test environment and result as below:

+---------------------+-------------------+--------------------+----------------------+
|     Environment     | dpdk_msvc_compile | dpdk_meson_compile | dpdk_mingw64_compile |
+=====================+===================+====================+======================+
| Windows Server 2022 | PASS              | PASS               | PASS                 |
+---------------------+-------------------+--------------------+----------------------+
| Windows Server 2019 | SKIPPED           | PASS               | SKIPPED              |
+---------------------+-------------------+--------------------+----------------------+
| FreeBSD 13.2        | SKIPPED           | PASS               | SKIPPED              |
+---------------------+-------------------+--------------------+----------------------+
| Ubuntu 22.04        | SKIPPED           | PASS               | SKIPPED              |
+---------------------+-------------------+--------------------+----------------------+
| Fedora 38           | SKIPPED           | PASS               | SKIPPED              |
+---------------------+-------------------+--------------------+----------------------+
| CentOS Stream 8     | SKIPPED           | PASS               | SKIPPED              |
+---------------------+-------------------+--------------------+----------------------+
| Fedora 37           | SKIPPED           | PASS               | SKIPPED              |
+---------------------+-------------------+--------------------+----------------------+


Windows Server 2022
	Kernel: 10.0.20348.2031
	Compiler: clang 15.0.7, gcc 8.1.0 (MinGW), and MSVC VS 17.9

Windows Server 2019
	Kernel: 10.0.17763
	Compiler: clang 14.0 and gcc 8.1.0 (MinGW)

FreeBSD 13.2
	Kernel: 13.2
	Compiler: clang 14.0.5

Ubuntu 22.04
	Kernel: 5.4.0-167-generic
	Compiler: gcc 11.4.0

Fedora 38
	Kernel: Depends on container host
	Compiler: clang 16.0.6

CentOS Stream 8
	Kernel: 5.4.0-167-generic
	Compiler: gcc 8.5.0 20210514

Fedora 37
	Kernel: Depends on container host system
	Compiler: gcc 12.3.1

To view detailed results, visit:
https://lab.dpdk.org/results/dashboard/patchsets/29717/

UNH-IOL DPDK Community Lab

To manage your email subscriptions, visit: 
https://lab.dpdk.org/results/dashboard/preferences/subscriptions/