From mboxrd@z Thu Jan  1 00:00:00 1970
Return-Path: <test-report-bounces@dpdk.org>
Received: from mails.dpdk.org (mails.dpdk.org [217.70.189.124])
	by inbox.dpdk.org (Postfix) with ESMTP id B5DC443DFF
	for <public@inbox.dpdk.org>; Thu,  4 Apr 2024 21:31:19 +0200 (CEST)
Received: from mails.dpdk.org (localhost [127.0.0.1])
	by mails.dpdk.org (Postfix) with ESMTP id 959904064A;
	Thu,  4 Apr 2024 21:31:19 +0200 (CEST)
Received: from mail-pl1-f226.google.com (mail-pl1-f226.google.com
 [209.85.214.226])
 by mails.dpdk.org (Postfix) with ESMTP id 2AF17402BF
 for <test-report@dpdk.org>; Thu,  4 Apr 2024 21:31:18 +0200 (CEST)
Received: by mail-pl1-f226.google.com with SMTP id
 d9443c01a7336-1e0878b76f3so12289965ad.0
 for <test-report@dpdk.org>; Thu, 04 Apr 2024 12:31:18 -0700 (PDT)
DKIM-Signature: v=1; a=rsa-sha256; c=relaxed/relaxed;
 d=iol.unh.edu; s=unh-iol; t=1712259077; x=1712863877; darn=dpdk.org;
 h=references:in-reply-to:cc:to:from:subject:message-id:date:from:to
 :cc:subject:date:message-id:reply-to;
 bh=URKiJl3OWHib8g6yntyNy2DUQvq38HyT/1y7dpj9eHA=;
 b=jSHT7BkHUh/4OeB1okZLkPsgPjpsqlOCc5ljYD3VQh86tkFhON30v0/usnkqWjb+bW
 Add0pt8D01kLwyd7/v42J4PFLWG5/gdDBUyC2TMLBx/uwmHkWVZAGXgb15CfIQlTX+Iq
 n9ivWPmEYU7XKLLGYhs+SSN7wr6qkYVdJyM20=
X-Google-DKIM-Signature: v=1; a=rsa-sha256; c=relaxed/relaxed;
 d=1e100.net; s=20230601; t=1712259077; x=1712863877;
 h=references:in-reply-to:cc:to:from:subject:message-id:date
 :x-gm-message-state:from:to:cc:subject:date:message-id:reply-to;
 bh=URKiJl3OWHib8g6yntyNy2DUQvq38HyT/1y7dpj9eHA=;
 b=HUG6etuFjj1meN+pOZdKLSdBZA1ug/axdbzl1s2pmUeouYKBwF/Z1emxDVkyiXsJRe
 B0YVTFL67I6qq+xSiDZr2R8WB/GV6I0SZ3HAPV6m5/dVxhs6hTRlXU60ulCN5/9y6Gmw
 YB5MbUw8XpDI8ugQB9iS0cylJszBayxagXQC+Zl7ef8ob8f3HRINOQP/38vpXW1Df0sb
 W+kH8+FphCoSvPoxL9zG5BueAdv4UNZh6FUTt5+R82pleZqjmsCdoZJORRplt22504AB
 tgh2PydilwKyDHx4vRPotMrwxtcd/eGu/yiYNGZaiOHbTfmdZaPsaq/3HbmrbT0vZpVV
 wZqg==
X-Gm-Message-State: AOJu0YyNwMI0CpM3OoRUNdH5d+5ePO5ydwa1nqKgb202Oy5kkXyfU+YT
 1gqRLkYpLEppnw4mTQcNKKbDbpsqv79tfwdR06sDEv25sXV/o8W3rzMdal73xNIY/MuQQHWu0rq
 ulMvmDSzixy2efH42ddiZAylFjBZTFqqsDTUjE+jIl5vWe5zAAvYuyMGe
X-Google-Smtp-Source: AGHT+IG7UoNPU5CWYkNWlqK6yHhsk5JDgPeXJLzh44i4YXrxd6cXaT0xwWFFFwaH2v1+h8ZY/uH/LnOorLHw
X-Received: by 2002:a17:902:f0cb:b0:1e2:9c52:4757 with SMTP id
 v11-20020a170902f0cb00b001e29c524757mr481282pla.14.1712259077184; 
 Thu, 04 Apr 2024 12:31:17 -0700 (PDT)
Received: from postal.iol.unh.edu (postal.iol.unh.edu.
 [2606:4100:3880:1234::84]) by smtp-relay.gmail.com with ESMTPS id
 jy11-20020a17090342cb00b001e2b828cde8sm31769plb.147.2024.04.04.12.31.17
 (version=TLS1_2 cipher=ECDHE-ECDSA-AES128-GCM-SHA256 bits=128/128);
 Thu, 04 Apr 2024 12:31:17 -0700 (PDT)
X-Relaying-Domain: iol.unh.edu
Date: Thu, 04 Apr 2024 12:31:17 -0700 (PDT)
Message-ID: <660f0005.170a0220.ec122.25f9SMTPIN_ADDED_MISSING@mx.google.com>
Received: from [172.21.0.6] (unknown [172.18.0.240])
 by postal.iol.unh.edu (Postfix) with ESMTP id 51D1E6052471;
 Thu,  4 Apr 2024 15:31:16 -0400 (EDT)
Subject: |SUCCESS| pw139107-139110 [PATCH] [v11,4/4] cryptodev: remove rte ma
From: dpdklab@iol.unh.edu
To: Test Report <test-report@dpdk.org>
Cc: dpdk-test-reports@iol.unh.edu
In-Reply-To: <1712253115-8755-5-git-send-email-roretzla@linux.microsoft.com>
References: <1712253115-8755-5-git-send-email-roretzla@linux.microsoft.com>
Content-Type: text/plain
X-BeenThere: test-report@dpdk.org
X-Mailman-Version: 2.1.29
Precedence: list
List-Id: automatic DPDK test reports <test-report.dpdk.org>
List-Unsubscribe: <https://mails.dpdk.org/options/test-report>,
 <mailto:test-report-request@dpdk.org?subject=unsubscribe>
List-Archive: <http://mails.dpdk.org/archives/test-report/>
List-Post: <mailto:test-report@dpdk.org>
List-Help: <mailto:test-report-request@dpdk.org?subject=help>
List-Subscribe: <https://mails.dpdk.org/listinfo/test-report>,
 <mailto:test-report-request@dpdk.org?subject=subscribe>
Errors-To: test-report-bounces@dpdk.org

Test-Label: iol-compile-amd64-testing
Test-Status: SUCCESS
http://dpdk.org/patch/139110

_Testing PASS_

Submitter: Tyler Retzlaff <roretzla@linux.microsoft.com>
Date: Thursday, April 04 2024 17:51:55 
DPDK git baseline: Repo:dpdk
  Branch: master
  CommitID:e2e546ab5bf5e024986ccb5310ab43982f3bb40c

139107-139110 --> testing pass

Test environment and result as below:

+---------------------+-------------------+--------------------+----------------------+
|     Environment     | dpdk_msvc_compile | dpdk_meson_compile | dpdk_mingw64_compile |
+=====================+===================+====================+======================+
| Windows Server 2022 | PASS              | PASS               | PASS                 |
+---------------------+-------------------+--------------------+----------------------+
| Windows Server 2019 | SKIPPED           | PASS               | PASS                 |
+---------------------+-------------------+--------------------+----------------------+
| FreeBSD 13.2        | SKIPPED           | PASS               | SKIPPED              |
+---------------------+-------------------+--------------------+----------------------+
| Ubuntu 22.04        | SKIPPED           | PASS               | SKIPPED              |
+---------------------+-------------------+--------------------+----------------------+
| Fedora 38           | SKIPPED           | PASS               | SKIPPED              |
+---------------------+-------------------+--------------------+----------------------+
| CentOS Stream 8     | SKIPPED           | PASS               | SKIPPED              |
+---------------------+-------------------+--------------------+----------------------+
| Fedora 37           | SKIPPED           | PASS               | SKIPPED              |
+---------------------+-------------------+--------------------+----------------------+
| openSUSE Leap 15    | SKIPPED           | PASS               | SKIPPED              |
+---------------------+-------------------+--------------------+----------------------+
| Debian Bullseye     | SKIPPED           | PASS               | SKIPPED              |
+---------------------+-------------------+--------------------+----------------------+
| CentOS Stream 9     | SKIPPED           | PASS               | SKIPPED              |
+---------------------+-------------------+--------------------+----------------------+
| Fedora 39           | SKIPPED           | PASS               | SKIPPED              |
+---------------------+-------------------+--------------------+----------------------+
| RHEL8               | SKIPPED           | PASS               | SKIPPED              |
+---------------------+-------------------+--------------------+----------------------+
| Debian 12           | SKIPPED           | PASS               | SKIPPED              |
+---------------------+-------------------+--------------------+----------------------+
| Ubuntu 20.04        | SKIPPED           | PASS               | SKIPPED              |
+---------------------+-------------------+--------------------+----------------------+
| Alpine              | SKIPPED           | PASS               | SKIPPED              |
+---------------------+-------------------+--------------------+----------------------+


Windows Server 2022
	Kernel: 10.0.20348.2031
	Compiler: clang 15.0.7, gcc 8.1.0 (MinGW), and MSVC VS 17.9

Windows Server 2019
	Kernel: 10.0.17763
	Compiler: clang 14.0 and gcc 8.1.0 (MinGW)

FreeBSD 13.2
	Kernel: 13.2
	Compiler: clang 14.0.5

Ubuntu 22.04
	Kernel: 5.4.0-167-generic
	Compiler: gcc 11.4.0

Fedora 38
	Kernel: Depends on container host
	Compiler: clang 16.0.6

CentOS Stream 8
	Kernel: 5.4.0-167-generic
	Compiler: gcc 8.5.0 20210514

Fedora 37
	Kernel: Depends on container host system
	Compiler: gcc 12.3.1

openSUSE Leap 15
	Kernel: 5.4.0-167-generic
	Compiler: gcc 7.5.0

Debian Bullseye
	Kernel: 5.4.0-167-generic
	Compiler: gcc 10.2.1-6

CentOS Stream 9
	Kernel: 5.4.0-167-generic
	Compiler: gcc 11.4.1 20230605

Fedora 39
	Kernel: Depends on container host
	Compiler: gcc 13.2.1

RHEL8
	Kernel: 5.4.0-167-generic
	Compiler: gcc 8.5.0 20210514 (Red Hat 8.5.0-20)

Debian 12
	Kernel: Container Host Kernel
	Compiler: gcc 10.2.1

Ubuntu 20.04
	Kernel: 5.4.0-167-generic
	Compiler: gcc 9.4.0-1ubuntu1~20.04.1

Alpine
	Kernel: 5.4.0-167-generic
	Compiler: gcc (Alpine 12.2.1_git20220924-r10) 12.2.1 20220924

To view detailed results, visit:
https://lab.dpdk.org/results/dashboard/patchsets/29717/

UNH-IOL DPDK Community Lab

To manage your email subscriptions, visit: 
https://lab.dpdk.org/results/dashboard/preferences/subscriptions/