From mboxrd@z Thu Jan  1 00:00:00 1970
Return-Path: <test-report-bounces@dpdk.org>
Received: from mails.dpdk.org (mails.dpdk.org [217.70.189.124])
	by inbox.dpdk.org (Postfix) with ESMTP id D35FE43DFF
	for <public@inbox.dpdk.org>; Thu,  4 Apr 2024 21:32:12 +0200 (CEST)
Received: from mails.dpdk.org (localhost [127.0.0.1])
	by mails.dpdk.org (Postfix) with ESMTP id CE2E04068E;
	Thu,  4 Apr 2024 21:32:12 +0200 (CEST)
Received: from mail-io1-f97.google.com (mail-io1-f97.google.com
 [209.85.166.97]) by mails.dpdk.org (Postfix) with ESMTP id 707C94064A
 for <test-report@dpdk.org>; Thu,  4 Apr 2024 21:32:12 +0200 (CEST)
Received: by mail-io1-f97.google.com with SMTP id
 ca18e2360f4ac-7d031abe8f8so48821239f.0
 for <test-report@dpdk.org>; Thu, 04 Apr 2024 12:32:12 -0700 (PDT)
DKIM-Signature: v=1; a=rsa-sha256; c=relaxed/relaxed;
 d=iol.unh.edu; s=unh-iol; t=1712259131; x=1712863931; darn=dpdk.org;
 h=references:in-reply-to:cc:to:from:subject:message-id:date:from:to
 :cc:subject:date:message-id:reply-to;
 bh=HwwMCGcPbdeRUbBM0j3tjqTeUezshn8wAK27eNl4QVc=;
 b=Wd0C9YPgKYdHLYNCYcPUe59TGO7YW8xvChXVdxu0mJu4CIAH32JJUot6RFoGZOxwoi
 1slbnl/My0QPgssCVOxNbdlbbrcoIZaQA1bBcVbJ72U8WzmCwTWraoqYcPasTtTa6sIR
 cL/r/+0oncBCgBJeV7Z0iiidCU5avDqQjV5SI=
X-Google-DKIM-Signature: v=1; a=rsa-sha256; c=relaxed/relaxed;
 d=1e100.net; s=20230601; t=1712259131; x=1712863931;
 h=references:in-reply-to:cc:to:from:subject:message-id:date
 :x-gm-message-state:from:to:cc:subject:date:message-id:reply-to;
 bh=HwwMCGcPbdeRUbBM0j3tjqTeUezshn8wAK27eNl4QVc=;
 b=dEtCYpCXZArzxfMcSjw4cUfSg0Fj7TRdOHH+iEoo29DYUW3BgcLAlGSKAPPEsF44pc
 Jg8TkIL3rAwVyqAxbgM0zL/B4opjnPeJZ/k5d8Vr9CAqt6r+fzak/Ygo8RWtlbYU6ADD
 W1VjgPKGCA2RY7aMVXmdR5l1Acp0Fjrt8L3rD7txhmLIAE0sPSbteJ1pyXE7wUSWclYs
 r0cLxcclukRNqbrfDzIldbQU9qVycq6dZJQSlT7tEmuuyEZUW9LzAbktC+uFNvdpH6an
 xtI0C0z9Zii2XWCwoXy5CigJympoZOpwSa6foHWPc8sC1vP4aL719qRENNXLz/yu4MWC
 2wsw==
X-Gm-Message-State: AOJu0Yw6nEzFBMPjN6vIubPk2jUMkxzOA6qV8jtX+iecYW9lnLZXQnBG
 hsWw0vn0zaveEHthc5xZEfSbGzclrWvJPZYRLz/QI75ZDhoIessPPT7PctsTTU0jWZ+YeOyWx4U
 T3416x9nOO1uTcVbE+VSHKs+2o4FZKJpkwQqlfVjO
X-Google-Smtp-Source: AGHT+IGQatzUF1QOXroHViW4CGd9vm1/33WWiqz6lYZwHdsOwWD4pwhGVc4o2TO360W4/18GQtSM2GexasGt
X-Received: by 2002:a05:6602:e52:b0:7d3:50cd:7a46 with SMTP id
 gq18-20020a0566020e5200b007d350cd7a46mr371828iob.5.1712259131635; 
 Thu, 04 Apr 2024 12:32:11 -0700 (PDT)
Received: from postal.iol.unh.edu (postal.iol.unh.edu. [132.177.123.84])
 by smtp-relay.gmail.com with ESMTPS id
 s15-20020a056602168f00b007d0c8dd07absm8200iow.12.2024.04.04.12.32.11
 (version=TLS1_2 cipher=ECDHE-ECDSA-AES128-GCM-SHA256 bits=128/128);
 Thu, 04 Apr 2024 12:32:11 -0700 (PDT)
X-Relaying-Domain: iol.unh.edu
Date: Thu, 04 Apr 2024 12:32:11 -0700 (PDT)
Message-ID: <660f003b.050a0220.da00a.059dSMTPIN_ADDED_MISSING@mx.google.com>
Received: from [172.21.0.7] (unknown [172.18.0.240])
 by postal.iol.unh.edu (Postfix) with ESMTP id DA4576052471;
 Thu,  4 Apr 2024 15:32:10 -0400 (EDT)
Subject: |SUCCESS| pw139107-139110 [PATCH] [v11,4/4] cryptodev: remove rte ma
From: dpdklab@iol.unh.edu
To: Test Report <test-report@dpdk.org>
Cc: dpdk-test-reports@iol.unh.edu
In-Reply-To: <1712253115-8755-5-git-send-email-roretzla@linux.microsoft.com>
References: <1712253115-8755-5-git-send-email-roretzla@linux.microsoft.com>
Content-Type: text/plain
X-BeenThere: test-report@dpdk.org
X-Mailman-Version: 2.1.29
Precedence: list
List-Id: automatic DPDK test reports <test-report.dpdk.org>
List-Unsubscribe: <https://mails.dpdk.org/options/test-report>,
 <mailto:test-report-request@dpdk.org?subject=unsubscribe>
List-Archive: <http://mails.dpdk.org/archives/test-report/>
List-Post: <mailto:test-report@dpdk.org>
List-Help: <mailto:test-report-request@dpdk.org?subject=help>
List-Subscribe: <https://mails.dpdk.org/listinfo/test-report>,
 <mailto:test-report-request@dpdk.org?subject=subscribe>
Errors-To: test-report-bounces@dpdk.org

Test-Label: iol-unit-arm64-testing
Test-Status: SUCCESS
http://dpdk.org/patch/139110

_Testing PASS_

Submitter: Tyler Retzlaff <roretzla@linux.microsoft.com>
Date: Thursday, April 04 2024 17:51:55 
DPDK git baseline: Repo:dpdk
  Branch: master
  CommitID:e2e546ab5bf5e024986ccb5310ab43982f3bb40c

139107-139110 --> testing pass

Test environment and result as below:

+-----------------------------+----------------+
|         Environment         | dpdk_unit_test |
+=============================+================+
| Debian 11 (Buster) (ARM)    | PASS           |
+-----------------------------+----------------+
| Debian 12 (arm)             | PASS           |
+-----------------------------+----------------+
| 32-bit Ubuntu 20.04.4 (ARM) | PASS           |
+-----------------------------+----------------+


Debian 11 (Buster) (ARM)
	Kernel: Container Host Kernel
	Compiler: gcc 10.2.1

Debian 12 (arm)
	Kernel: Container Host Kernel
	Compiler: gcc 12.2.0

32-bit Ubuntu 20.04.4 (ARM)
	Kernel: 5.4.0-155-generic aarch64
	Compiler: gcc 9.4

To view detailed results, visit:
https://lab.dpdk.org/results/dashboard/patchsets/29717/

UNH-IOL DPDK Community Lab

To manage your email subscriptions, visit: 
https://lab.dpdk.org/results/dashboard/preferences/subscriptions/