From mboxrd@z Thu Jan  1 00:00:00 1970
Return-Path: <test-report-bounces@dpdk.org>
Received: from mails.dpdk.org (mails.dpdk.org [217.70.189.124])
	by inbox.dpdk.org (Postfix) with ESMTP id 6324E43E00
	for <public@inbox.dpdk.org>; Thu,  4 Apr 2024 22:00:59 +0200 (CEST)
Received: from mails.dpdk.org (localhost [127.0.0.1])
	by mails.dpdk.org (Postfix) with ESMTP id 5FA594064A;
	Thu,  4 Apr 2024 22:00:59 +0200 (CEST)
Received: from mail-il1-f225.google.com (mail-il1-f225.google.com
 [209.85.166.225])
 by mails.dpdk.org (Postfix) with ESMTP id 1D501402BF
 for <test-report@dpdk.org>; Thu,  4 Apr 2024 22:00:58 +0200 (CEST)
Received: by mail-il1-f225.google.com with SMTP id
 e9e14a558f8ab-369de8742f4so6088085ab.1
 for <test-report@dpdk.org>; Thu, 04 Apr 2024 13:00:58 -0700 (PDT)
DKIM-Signature: v=1; a=rsa-sha256; c=relaxed/relaxed;
 d=iol.unh.edu; s=unh-iol; t=1712260857; x=1712865657; darn=dpdk.org;
 h=references:in-reply-to:cc:to:from:subject:message-id:date:from:to
 :cc:subject:date:message-id:reply-to;
 bh=0Oj4xZ4aalGiPOJOX0tKsNLtm7xbdeoUhem7gfoJVjc=;
 b=d7ZN6LEhAxdwe1U101HfxTX0IBZfvawg9CJgB/vOO1+zJfYgjqWvP2u3WonLUYINNk
 v1sCshHqHfAdncvSN0461z76j49isPV53ey/DFOE5UiOAaQzcTJs+oALNM3QhhQBth3n
 3TlmU6m9gdXSwmeAbdn2OCAw5+oUCNCzw9pv4=
X-Google-DKIM-Signature: v=1; a=rsa-sha256; c=relaxed/relaxed;
 d=1e100.net; s=20230601; t=1712260857; x=1712865657;
 h=references:in-reply-to:cc:to:from:subject:message-id:date
 :x-gm-message-state:from:to:cc:subject:date:message-id:reply-to;
 bh=0Oj4xZ4aalGiPOJOX0tKsNLtm7xbdeoUhem7gfoJVjc=;
 b=AvOB+gFva3zKb+C8jjhDYTiz1Slw4D6BcIjgwtlelGmHFtxITa9HALI+LqZdt+p4Qo
 uXA/RHoQ5FJvLGh055L/RfTYdXTu911rEYET4hliCsWtDmtbUFBJ8UpvgQYFOQ92ZM+4
 V006s8dTDg+MPSUDzYU+rrBFKqXROfs3uEOWYX0N1CK92yuIzvGbWQ43EAySHnhSfzaS
 AGD7TmXJNxU4J/AbMzlTmyhaAhuV4wvvxns8o7sluzA+Wh3qcyxHM/ixq8fAj549RhFU
 +Edt2SOH9J/6m2rjvh3KvO5KmWvroBJGManEaJJ+qMuUtQvJxV+4bFwvsvglzUU/hNGw
 gdyQ==
X-Gm-Message-State: AOJu0YzbOKwUW5D8EbTljMqpPbCuWsBbeJlFGhsbLxEyb4dIOKY70lIj
 k6YhVsHOJdpFcfQMTyCO9gDfC/Ir6U6L1Him4MpLD28nEL3HVNajKfPJvT+vy9UYeR2OBb5UOAu
 NStuRRdViaHNEKLVrPHngV3NTS1JjI1RaRNekGr8c
X-Google-Smtp-Source: AGHT+IFNdWf4545VJA6AodGtPLRvh+d5I3b2qjjD04j3fbBgIiL03TTRPfia00LiIAU2j3A1NjwH1BFN6C73
X-Received: by 2002:a92:ca07:0:b0:368:6187:e19a with SMTP id
 j7-20020a92ca07000000b003686187e19amr3974182ils.3.1712260857576; 
 Thu, 04 Apr 2024 13:00:57 -0700 (PDT)
Received: from postal.iol.unh.edu (postal.iol.unh.edu. [132.177.123.84])
 by smtp-relay.gmail.com with ESMTPS id
 q16-20020a92c010000000b003684a90de43sm961ild.52.2024.04.04.13.00.57
 (version=TLS1_2 cipher=ECDHE-ECDSA-AES128-GCM-SHA256 bits=128/128);
 Thu, 04 Apr 2024 13:00:57 -0700 (PDT)
X-Relaying-Domain: iol.unh.edu
Date: Thu, 04 Apr 2024 13:00:57 -0700 (PDT)
Message-ID: <660f06f9.920a0220.423ae.008aSMTPIN_ADDED_MISSING@mx.google.com>
Received: from [172.21.0.6] (unknown [172.18.0.240])
 by postal.iol.unh.edu (Postfix) with ESMTP id 14A436052471;
 Thu,  4 Apr 2024 16:00:57 -0400 (EDT)
Subject: |SUCCESS| pw139104-139106 [PATCH] [4/4] dispatcher: use alloca inste
From: dpdklab@iol.unh.edu
To: Test Report <test-report@dpdk.org>
Cc: dpdk-test-reports@iol.unh.edu
In-Reply-To: <1712250913-1977-5-git-send-email-roretzla@linux.microsoft.com>
References: <1712250913-1977-5-git-send-email-roretzla@linux.microsoft.com>
Content-Type: text/plain
X-BeenThere: test-report@dpdk.org
X-Mailman-Version: 2.1.29
Precedence: list
List-Id: automatic DPDK test reports <test-report.dpdk.org>
List-Unsubscribe: <https://mails.dpdk.org/options/test-report>,
 <mailto:test-report-request@dpdk.org?subject=unsubscribe>
List-Archive: <http://mails.dpdk.org/archives/test-report/>
List-Post: <mailto:test-report@dpdk.org>
List-Help: <mailto:test-report-request@dpdk.org?subject=help>
List-Subscribe: <https://mails.dpdk.org/listinfo/test-report>,
 <mailto:test-report-request@dpdk.org?subject=subscribe>
Errors-To: test-report-bounces@dpdk.org

Test-Label: iol-abi-testing
Test-Status: SUCCESS
http://dpdk.org/patch/139106

_Testing PASS_

Submitter: Tyler Retzlaff <roretzla@linux.microsoft.com>
Date: Thursday, April 04 2024 17:15:13 
DPDK git baseline: Repo:dpdk
  Branch: master
  CommitID:deedfb86a7a6e10064d3cccd593f62072de96e36

139104-139106 --> testing pass

Test environment and result as below:

+------------------+----------+
|   Environment    | abi_test |
+==================+==========+
| Fedora 39        | PASS     |
+------------------+----------+
| CentOS Stream 8  | PASS     |
+------------------+----------+
| Fedora 38        | PASS     |
+------------------+----------+
| Debian Bullseye  | PASS     |
+------------------+----------+
| openSUSE Leap 15 | PASS     |
+------------------+----------+
| CentOS Stream 9  | PASS     |
+------------------+----------+
| Fedora 37        | PASS     |
+------------------+----------+
| Ubuntu 22.04     | PASS     |
+------------------+----------+
| Debian 12        | PASS     |
+------------------+----------+
| RHEL8            | PASS     |
+------------------+----------+


Fedora 39
	Kernel: Depends on container host
	Compiler: clang 17.0.6

CentOS Stream 8
	Kernel: 5.4.0-167-generic
	Compiler: gcc 8.5.0 20210514

Fedora 38
	Kernel: Depends on container host
	Compiler: clang 16.0.6

Debian Bullseye
	Kernel: 5.4.0-167-generic
	Compiler: gcc 10.2.1-6

openSUSE Leap 15
	Kernel: 5.4.0-167-generic
	Compiler: gcc 7.5.0

CentOS Stream 9
	Kernel: 5.4.0-167-generic
	Compiler: gcc 11.4.1 20230605

Fedora 37
	Kernel: Depends on container host system
	Compiler: gcc 12.3.1

Ubuntu 22.04
	Kernel: 5.4.0-167-generic
	Compiler: gcc 11.4.0

Debian 12
	Kernel: Container Host Kernel
	Compiler: gcc 10.2.1

RHEL8
	Kernel: 5.4.0-167-generic
	Compiler: gcc 8.5.0 20210514 (Red Hat 8.5.0-20)

To view detailed results, visit:
https://lab.dpdk.org/results/dashboard/patchsets/29716/

UNH-IOL DPDK Community Lab

To manage your email subscriptions, visit: 
https://lab.dpdk.org/results/dashboard/preferences/subscriptions/