From mboxrd@z Thu Jan  1 00:00:00 1970
Return-Path: <test-report-bounces@dpdk.org>
Received: from mails.dpdk.org (mails.dpdk.org [217.70.189.124])
	by inbox.dpdk.org (Postfix) with ESMTP id 7E20F43E02
	for <public@inbox.dpdk.org>; Thu,  4 Apr 2024 22:10:12 +0200 (CEST)
Received: from mails.dpdk.org (localhost [127.0.0.1])
	by mails.dpdk.org (Postfix) with ESMTP id 771BB4064A;
	Thu,  4 Apr 2024 22:10:12 +0200 (CEST)
Received: from mail-pj1-f98.google.com (mail-pj1-f98.google.com
 [209.85.216.98]) by mails.dpdk.org (Postfix) with ESMTP id B25AD402BF
 for <test-report@dpdk.org>; Thu,  4 Apr 2024 22:10:11 +0200 (CEST)
Received: by mail-pj1-f98.google.com with SMTP id
 98e67ed59e1d1-29f93c4946cso929666a91.1
 for <test-report@dpdk.org>; Thu, 04 Apr 2024 13:10:11 -0700 (PDT)
DKIM-Signature: v=1; a=rsa-sha256; c=relaxed/relaxed;
 d=iol.unh.edu; s=unh-iol; t=1712261411; x=1712866211; darn=dpdk.org;
 h=references:in-reply-to:cc:to:from:subject:message-id:date:from:to
 :cc:subject:date:message-id:reply-to;
 bh=Q+TfAijHpSpD/HrQcVrUmgi8bwwcHZ48nLH9U5xA38A=;
 b=YP9tz2Cc+M7ko43G2wiXE3jYIZj1CzLvtIEWU1MgErHK7bpK0aDlxgmTxPmhBbCIWI
 TdRUhz0wN/GpZxSH+JYjgamXweZ3PgHnj5F7jqAW2hPszbA0H9Iy40gOhtBt40lOBnJE
 ZbJuYgRqyRsYnCBhya9VUFA8WvKZUL+GoRFf4=
X-Google-DKIM-Signature: v=1; a=rsa-sha256; c=relaxed/relaxed;
 d=1e100.net; s=20230601; t=1712261411; x=1712866211;
 h=references:in-reply-to:cc:to:from:subject:message-id:date
 :x-gm-message-state:from:to:cc:subject:date:message-id:reply-to;
 bh=Q+TfAijHpSpD/HrQcVrUmgi8bwwcHZ48nLH9U5xA38A=;
 b=YkDH+ZxPU2hlVIq6bb3ZaeLkh9TivbhTYetqNIFOdRcGUD1pbE07CNRfxjTu+lYqjI
 lqNAOiOEphY8ouSUbTyYn28tywBpmqaCKktHhfQYTv9TjGqagRDL4zNPqzRWoS5ylTAj
 6nUw7+mUb2PphZq1kr/MGa6mkkoldtiGoYd/9Vcx4kbUOtWvMECgtj6nYRywEIZU2vxS
 5boGhfCyv9vNwVjFFf7Zuvdq4NcZUL9O/MtAJEMTrhCMFCkJVvXgvSNX8GG0e8qGoVU7
 Jm25eB9uR7E1zcgEF3XxZaNDZMvdcUcfRRAdyCrGRV/PnHYpgKCwnmjHAsS8EaTGjIbd
 bdtQ==
X-Gm-Message-State: AOJu0YxnFkRkGrGr60loBkCPYcuLUacPKGOR5tWFuGg014s/CYmSbCdo
 jsweSANRzG0Y8Qv8Xq+fuz4zzZ8ZssgPKSxScv50tHW9d3sD82A4VmiLbsUDhyF+npaoES7qNnp
 jNTrkCqoxTI/M9MeXSZs8xw86T7gwFyOyvnglo5oIO7lA5mqqOCGx/WgG
X-Google-Smtp-Source: AGHT+IFXv/UhGKnt5HXO0wFX0FsLJYkVUZQRBNYGgK7zFo05aU1dhShLQA6SZtdAFWGVfQZczg/vPHQruwLC
X-Received: by 2002:a17:90a:bb97:b0:2a1:f3fd:ac4d with SMTP id
 v23-20020a17090abb9700b002a1f3fdac4dmr3278694pjr.19.1712261410736; 
 Thu, 04 Apr 2024 13:10:10 -0700 (PDT)
Received: from postal.iol.unh.edu (postal.iol.unh.edu.
 [2606:4100:3880:1234::84]) by smtp-relay.gmail.com with ESMTPS id
 sj6-20020a17090b2d8600b002a08f31c204sm14004pjb.6.2024.04.04.13.10.10
 (version=TLS1_2 cipher=ECDHE-ECDSA-AES128-GCM-SHA256 bits=128/128);
 Thu, 04 Apr 2024 13:10:10 -0700 (PDT)
X-Relaying-Domain: iol.unh.edu
Date: Thu, 04 Apr 2024 13:10:10 -0700 (PDT)
Message-ID: <660f0922.170a0220.8bce5.0cf8SMTPIN_ADDED_MISSING@mx.google.com>
Received: from [172.21.0.6] (unknown [172.18.0.240])
 by postal.iol.unh.edu (Postfix) with ESMTP id E28596052471;
 Thu,  4 Apr 2024 16:10:09 -0400 (EDT)
Subject: |SUCCESS| pw139104-139106 [PATCH] [4/4] dispatcher: use alloca inste
From: dpdklab@iol.unh.edu
To: Test Report <test-report@dpdk.org>
Cc: dpdk-test-reports@iol.unh.edu
In-Reply-To: <1712250913-1977-5-git-send-email-roretzla@linux.microsoft.com>
References: <1712250913-1977-5-git-send-email-roretzla@linux.microsoft.com>
Content-Type: text/plain
X-BeenThere: test-report@dpdk.org
X-Mailman-Version: 2.1.29
Precedence: list
List-Id: automatic DPDK test reports <test-report.dpdk.org>
List-Unsubscribe: <https://mails.dpdk.org/options/test-report>,
 <mailto:test-report-request@dpdk.org?subject=unsubscribe>
List-Archive: <http://mails.dpdk.org/archives/test-report/>
List-Post: <mailto:test-report@dpdk.org>
List-Help: <mailto:test-report-request@dpdk.org?subject=help>
List-Subscribe: <https://mails.dpdk.org/listinfo/test-report>,
 <mailto:test-report-request@dpdk.org?subject=subscribe>
Errors-To: test-report-bounces@dpdk.org

Test-Label: iol-unit-amd64-testing
Test-Status: SUCCESS
http://dpdk.org/patch/139106

_Testing PASS_

Submitter: Tyler Retzlaff <roretzla@linux.microsoft.com>
Date: Thursday, April 04 2024 17:15:13 
DPDK git baseline: Repo:dpdk
  Branch: master
  CommitID:deedfb86a7a6e10064d3cccd593f62072de96e36

139104-139106 --> testing pass

Test environment and result as below:

+---------------------+----------------+
|     Environment     | dpdk_unit_test |
+=====================+================+
| Windows Server 2019 | PASS           |
+---------------------+----------------+
| CentOS Stream 8     | PASS           |
+---------------------+----------------+
| CentOS Stream 9     | PASS           |
+---------------------+----------------+
| Debian Bullseye     | PASS           |
+---------------------+----------------+
| Fedora 37           | PASS           |
+---------------------+----------------+
| Debian 12           | PASS           |
+---------------------+----------------+
| Fedora 38           | PASS           |
+---------------------+----------------+


Windows Server 2019
	Kernel: 10.0.17763
	Compiler: clang 14.0 and gcc 8.1.0 (MinGW)

CentOS Stream 8
	Kernel: 5.4.0-167-generic
	Compiler: gcc 8.5.0 20210514

CentOS Stream 9
	Kernel: 5.4.0-167-generic
	Compiler: gcc 11.4.1 20230605

Debian Bullseye
	Kernel: 5.4.0-167-generic
	Compiler: gcc 10.2.1-6

Fedora 37
	Kernel: Depends on container host system
	Compiler: gcc 12.3.1

Debian 12
	Kernel: Container Host Kernel
	Compiler: gcc 10.2.1

Fedora 38
	Kernel: Depends on container host
	Compiler: clang 16.0.6

To view detailed results, visit:
https://lab.dpdk.org/results/dashboard/patchsets/29716/

UNH-IOL DPDK Community Lab

To manage your email subscriptions, visit: 
https://lab.dpdk.org/results/dashboard/preferences/subscriptions/