From mboxrd@z Thu Jan  1 00:00:00 1970
Return-Path: <test-report-bounces@dpdk.org>
Received: from mails.dpdk.org (mails.dpdk.org [217.70.189.124])
	by inbox.dpdk.org (Postfix) with ESMTP id CF52C43E02
	for <public@inbox.dpdk.org>; Thu,  4 Apr 2024 22:14:57 +0200 (CEST)
Received: from mails.dpdk.org (localhost [127.0.0.1])
	by mails.dpdk.org (Postfix) with ESMTP id CC08D4064A;
	Thu,  4 Apr 2024 22:14:57 +0200 (CEST)
Received: from mail-qv1-f99.google.com (mail-qv1-f99.google.com
 [209.85.219.99]) by mails.dpdk.org (Postfix) with ESMTP id 0831B402BF
 for <test-report@dpdk.org>; Thu,  4 Apr 2024 22:14:56 +0200 (CEST)
Received: by mail-qv1-f99.google.com with SMTP id
 6a1803df08f44-6964b1c529cso9171006d6.0
 for <test-report@dpdk.org>; Thu, 04 Apr 2024 13:14:55 -0700 (PDT)
DKIM-Signature: v=1; a=rsa-sha256; c=relaxed/relaxed;
 d=iol.unh.edu; s=unh-iol; t=1712261695; x=1712866495; darn=dpdk.org;
 h=references:in-reply-to:cc:to:from:subject:message-id:date:from:to
 :cc:subject:date:message-id:reply-to;
 bh=0Oj4xZ4aalGiPOJOX0tKsNLtm7xbdeoUhem7gfoJVjc=;
 b=X/0WTOet4B252cqpskRzcVtJhl7BDOWlNxzs0PLPfeDmBLBGAG19FdkyCWDsUfoD8Y
 ysR2hng6zG96VeTzmktdSa2vkriCRPxvcuvz/kwT0lF8lxAOIpUvogQo2SDfHnT4nPUr
 Jw+ivhNHN3QwCVIn4kBohkv7DV7vRO3Tbpgq4=
X-Google-DKIM-Signature: v=1; a=rsa-sha256; c=relaxed/relaxed;
 d=1e100.net; s=20230601; t=1712261695; x=1712866495;
 h=references:in-reply-to:cc:to:from:subject:message-id:date
 :x-gm-message-state:from:to:cc:subject:date:message-id:reply-to;
 bh=0Oj4xZ4aalGiPOJOX0tKsNLtm7xbdeoUhem7gfoJVjc=;
 b=PNIVypyVBwp56az+moYdqk1qpLNncbNdIQEt+HM8jQwqONBfQYgDrt9fn53pP2Q9Bg
 GU4AfjiOVW4MmyJs2Odjb2TQrMd2VQECMaX5MVDfiKLbHE4OTTJ/mMZBVWhUIv8o1FB2
 +/Fj4abhtv6E3WalEw4zV4kgLcq6s1r7ka9tCpNVryG69EIPzQ2lwR6xvhdvewee2imq
 M8cyynSIVpNJqQ+bZ6BxwHSLGCb5+Xkk6v2Ibma7ILJB9MaYsynZyCv9v2/HDyRtACdZ
 riKXFSTszYTWiYlm8R2SnzK/uuH3coBPqi30MHXTDgQZ34H+vio3nmRJAO3L+P+N4djK
 /yTA==
X-Gm-Message-State: AOJu0Yz6h/EmnYnD6frXW5/AJOvaDNmF0Ho6s4DoQropNXJGcJHsWen+
 tbi6AjuiCDn4oGKqeHt7aFhhALbymBl6SJSAaCxbkSLMEQ/j1fGhss+kzhwZp+Iy3G2T5b1aD3O
 +BWqYnoUqEZ76PfFWD4lD5EqGeNGzm28RKinmlOpN
X-Google-Smtp-Source: AGHT+IEpvTdpH6TiXci14swXSC2sFM6z6hADrFNVcqQcIrfEia1804nFwyVhiN0Q9nEV3q+kGtAh2nNb6PwX
X-Received: by 2002:ad4:5fc6:0:b0:699:245e:7db9 with SMTP id
 jq6-20020ad45fc6000000b00699245e7db9mr3700509qvb.59.1712261695421; 
 Thu, 04 Apr 2024 13:14:55 -0700 (PDT)
Received: from postal.iol.unh.edu (postal.iol.unh.edu. [132.177.123.84])
 by smtp-relay.gmail.com with ESMTPS id
 1-20020a05621420c100b0069693e1086dsm7357qve.2.2024.04.04.13.14.55
 (version=TLS1_2 cipher=ECDHE-ECDSA-AES128-GCM-SHA256 bits=128/128);
 Thu, 04 Apr 2024 13:14:55 -0700 (PDT)
X-Relaying-Domain: iol.unh.edu
Date: Thu, 04 Apr 2024 13:14:55 -0700 (PDT)
Message-ID: <660f0a3f.050a0220.97da7.054bSMTPIN_ADDED_MISSING@mx.google.com>
Received: from [172.21.0.6] (unknown [172.18.0.240])
 by postal.iol.unh.edu (Postfix) with ESMTP id 1382E6052471;
 Thu,  4 Apr 2024 16:14:55 -0400 (EDT)
Subject: |SUCCESS| pw139104-139106 [PATCH] [4/4] dispatcher: use alloca inste
From: dpdklab@iol.unh.edu
To: Test Report <test-report@dpdk.org>
Cc: dpdk-test-reports@iol.unh.edu
In-Reply-To: <1712250913-1977-5-git-send-email-roretzla@linux.microsoft.com>
References: <1712250913-1977-5-git-send-email-roretzla@linux.microsoft.com>
Content-Type: text/plain
X-BeenThere: test-report@dpdk.org
X-Mailman-Version: 2.1.29
Precedence: list
List-Id: automatic DPDK test reports <test-report.dpdk.org>
List-Unsubscribe: <https://mails.dpdk.org/options/test-report>,
 <mailto:test-report-request@dpdk.org?subject=unsubscribe>
List-Archive: <http://mails.dpdk.org/archives/test-report/>
List-Post: <mailto:test-report@dpdk.org>
List-Help: <mailto:test-report-request@dpdk.org?subject=help>
List-Subscribe: <https://mails.dpdk.org/listinfo/test-report>,
 <mailto:test-report-request@dpdk.org?subject=subscribe>
Errors-To: test-report-bounces@dpdk.org

Test-Label: iol-abi-testing
Test-Status: SUCCESS
http://dpdk.org/patch/139106

_Testing PASS_

Submitter: Tyler Retzlaff <roretzla@linux.microsoft.com>
Date: Thursday, April 04 2024 17:15:13 
DPDK git baseline: Repo:dpdk
  Branch: master
  CommitID:deedfb86a7a6e10064d3cccd593f62072de96e36

139104-139106 --> testing pass

Test environment and result as below:

+------------------+----------+
|   Environment    | abi_test |
+==================+==========+
| Fedora 39        | PASS     |
+------------------+----------+
| CentOS Stream 8  | PASS     |
+------------------+----------+
| Fedora 38        | PASS     |
+------------------+----------+
| Debian Bullseye  | PASS     |
+------------------+----------+
| openSUSE Leap 15 | PASS     |
+------------------+----------+
| CentOS Stream 9  | PASS     |
+------------------+----------+
| Fedora 37        | PASS     |
+------------------+----------+
| Ubuntu 22.04     | PASS     |
+------------------+----------+
| Debian 12        | PASS     |
+------------------+----------+
| RHEL8            | PASS     |
+------------------+----------+


Fedora 39
	Kernel: Depends on container host
	Compiler: clang 17.0.6

CentOS Stream 8
	Kernel: 5.4.0-167-generic
	Compiler: gcc 8.5.0 20210514

Fedora 38
	Kernel: Depends on container host
	Compiler: clang 16.0.6

Debian Bullseye
	Kernel: 5.4.0-167-generic
	Compiler: gcc 10.2.1-6

openSUSE Leap 15
	Kernel: 5.4.0-167-generic
	Compiler: gcc 7.5.0

CentOS Stream 9
	Kernel: 5.4.0-167-generic
	Compiler: gcc 11.4.1 20230605

Fedora 37
	Kernel: Depends on container host system
	Compiler: gcc 12.3.1

Ubuntu 22.04
	Kernel: 5.4.0-167-generic
	Compiler: gcc 11.4.0

Debian 12
	Kernel: Container Host Kernel
	Compiler: gcc 10.2.1

RHEL8
	Kernel: 5.4.0-167-generic
	Compiler: gcc 8.5.0 20210514 (Red Hat 8.5.0-20)

To view detailed results, visit:
https://lab.dpdk.org/results/dashboard/patchsets/29716/

UNH-IOL DPDK Community Lab

To manage your email subscriptions, visit: 
https://lab.dpdk.org/results/dashboard/preferences/subscriptions/