From mboxrd@z Thu Jan  1 00:00:00 1970
Return-Path: <test-report-bounces@dpdk.org>
Received: from mails.dpdk.org (mails.dpdk.org [217.70.189.124])
	by inbox.dpdk.org (Postfix) with ESMTP id A8DA643E02
	for <public@inbox.dpdk.org>; Thu,  4 Apr 2024 22:18:47 +0200 (CEST)
Received: from mails.dpdk.org (localhost [127.0.0.1])
	by mails.dpdk.org (Postfix) with ESMTP id A53C94064A;
	Thu,  4 Apr 2024 22:18:47 +0200 (CEST)
Received: from mail-vs1-f97.google.com (mail-vs1-f97.google.com
 [209.85.217.97]) by mails.dpdk.org (Postfix) with ESMTP id 76D50402BF
 for <test-report@dpdk.org>; Thu,  4 Apr 2024 22:18:46 +0200 (CEST)
Received: by mail-vs1-f97.google.com with SMTP id
 ada2fe7eead31-479cd22b586so351410137.3
 for <test-report@dpdk.org>; Thu, 04 Apr 2024 13:18:46 -0700 (PDT)
DKIM-Signature: v=1; a=rsa-sha256; c=relaxed/relaxed;
 d=iol.unh.edu; s=unh-iol; t=1712261925; x=1712866725; darn=dpdk.org;
 h=references:in-reply-to:cc:to:from:subject:message-id:date:from:to
 :cc:subject:date:message-id:reply-to;
 bh=mejwC/XzJJTl6sZv1jTDbcnDLf1rnuoqC1mzgZjK4cc=;
 b=aT4zA1lkKz3WPpfn2i6S/dUcb0zdnQNjHY08hrB70ThZtrIw7YA/zA3aRhgTmNjp8n
 ciN8RREeU7hWP73sypQUOMoSzdYbkbdWXZ1sF1AlqbkGjeUZp4Yf5iifg4lCKjaYD4nV
 1s9cb4OvNkFDPP0xBJEi+YETGczNzZyvjkUgc=
X-Google-DKIM-Signature: v=1; a=rsa-sha256; c=relaxed/relaxed;
 d=1e100.net; s=20230601; t=1712261925; x=1712866725;
 h=references:in-reply-to:cc:to:from:subject:message-id:date
 :x-gm-message-state:from:to:cc:subject:date:message-id:reply-to;
 bh=mejwC/XzJJTl6sZv1jTDbcnDLf1rnuoqC1mzgZjK4cc=;
 b=WbrvK6qOdfMq2JI8KLP+0E36xO94uagwgvwSxnNJKY0ff3XsphONRDWvebyDNQpene
 EXBj0/tFjyzp0PKXXThgaLDhMUGfdeNPdOx1kV6s8U0whFhE6rI58UDzRLpvJ5C+/TUJ
 qbvFDqMndvQdaGvCL3J8Dz+S6hIueG/2jQSOu2Pd712b58G7CqT0K5xVEtWS42mCzCIQ
 u++zHgkPKgIY9lHo9rKdpCcRN2NT9WzX8me+HACmB0pLHm71+QG5/V5qrtU9Hb9RYm06
 +euXgYMGWp5EItO3gbztLIfJKPJhATMi0Z6DqxOPw5CXsaB2YYFA/d8PIPC3xv85YIXv
 UX0g==
X-Gm-Message-State: AOJu0YxlxjD9cFUZ4nF78GDqa/cykCMU2Kw3GRBT8VHRv2IQAgkdKmxO
 JEjVpvfPBaWGVpAeu9oRSMzFT2hlByozWX+EtNj4ivcHdmfZFQgIVv5vtRFDgDl6yX/IpHquNEj
 titR3rk+tOC6dplJ3Ux/rC4qOQorwQ4Uj7zQn7eR7g2SN3QCEs+98fApt
X-Google-Smtp-Source: AGHT+IEqSPRl+s/yuMQaJ/FOeOeP6QHLlLj3iuFQG43edAA7JflvSuisz18l0QoxrnLJxVHJcrRSxQEy0Qwd
X-Received: by 2002:a05:6102:34c8:b0:476:f078:2526 with SMTP id
 a8-20020a05610234c800b00476f0782526mr3586926vst.15.1712261924805; 
 Thu, 04 Apr 2024 13:18:44 -0700 (PDT)
Received: from postal.iol.unh.edu (postal.iol.unh.edu.
 [2606:4100:3880:1234::84]) by smtp-relay.gmail.com with ESMTPS id
 ee11-20020a056130158b00b007e143e942efsm8011uab.20.2024.04.04.13.18.44
 (version=TLS1_2 cipher=ECDHE-ECDSA-AES128-GCM-SHA256 bits=128/128);
 Thu, 04 Apr 2024 13:18:44 -0700 (PDT)
X-Relaying-Domain: iol.unh.edu
Date: Thu, 04 Apr 2024 13:18:44 -0700 (PDT)
Message-ID: <660f0b24.050a0220.ceaab.0698SMTPIN_ADDED_MISSING@mx.google.com>
Received: from [172.21.0.6] (unknown [172.18.0.240])
 by postal.iol.unh.edu (Postfix) with ESMTP id 763966052471;
 Thu,  4 Apr 2024 16:18:44 -0400 (EDT)
Subject: |SUCCESS| pw139104-139106 [PATCH] [4/4] dispatcher: use alloca inste
From: dpdklab@iol.unh.edu
To: Test Report <test-report@dpdk.org>
Cc: dpdk-test-reports@iol.unh.edu
In-Reply-To: <1712250913-1977-5-git-send-email-roretzla@linux.microsoft.com>
References: <1712250913-1977-5-git-send-email-roretzla@linux.microsoft.com>
Content-Type: text/plain
X-BeenThere: test-report@dpdk.org
X-Mailman-Version: 2.1.29
Precedence: list
List-Id: automatic DPDK test reports <test-report.dpdk.org>
List-Unsubscribe: <https://mails.dpdk.org/options/test-report>,
 <mailto:test-report-request@dpdk.org?subject=unsubscribe>
List-Archive: <http://mails.dpdk.org/archives/test-report/>
List-Post: <mailto:test-report@dpdk.org>
List-Help: <mailto:test-report-request@dpdk.org?subject=help>
List-Subscribe: <https://mails.dpdk.org/listinfo/test-report>,
 <mailto:test-report-request@dpdk.org?subject=subscribe>
Errors-To: test-report-bounces@dpdk.org

Test-Label: iol-compile-amd64-testing
Test-Status: SUCCESS
http://dpdk.org/patch/139106

_Testing PASS_

Submitter: Tyler Retzlaff <roretzla@linux.microsoft.com>
Date: Thursday, April 04 2024 17:15:13 
DPDK git baseline: Repo:dpdk
  Branch: master
  CommitID:deedfb86a7a6e10064d3cccd593f62072de96e36

139104-139106 --> testing pass

Test environment and result as below:

+---------------------+--------------------+----------------------+-------------------+
|     Environment     | dpdk_meson_compile | dpdk_mingw64_compile | dpdk_msvc_compile |
+=====================+====================+======================+===================+
| Windows Server 2019 | PASS               | PASS                 | SKIPPED           |
+---------------------+--------------------+----------------------+-------------------+
| Windows Server 2022 | PASS               | PASS                 | PASS              |
+---------------------+--------------------+----------------------+-------------------+
| FreeBSD 13.2        | PASS               | SKIPPED              | SKIPPED           |
+---------------------+--------------------+----------------------+-------------------+
| Debian Bullseye     | PASS               | SKIPPED              | SKIPPED           |
+---------------------+--------------------+----------------------+-------------------+
| CentOS Stream 8     | PASS               | SKIPPED              | SKIPPED           |
+---------------------+--------------------+----------------------+-------------------+
| Fedora 37           | PASS               | SKIPPED              | SKIPPED           |
+---------------------+--------------------+----------------------+-------------------+
| CentOS Stream 9     | PASS               | SKIPPED              | SKIPPED           |
+---------------------+--------------------+----------------------+-------------------+
| Fedora 38           | PASS               | SKIPPED              | SKIPPED           |
+---------------------+--------------------+----------------------+-------------------+
| Debian 12           | PASS               | SKIPPED              | SKIPPED           |
+---------------------+--------------------+----------------------+-------------------+
| Fedora 39           | PASS               | SKIPPED              | SKIPPED           |
+---------------------+--------------------+----------------------+-------------------+
| openSUSE Leap 15    | PASS               | SKIPPED              | SKIPPED           |
+---------------------+--------------------+----------------------+-------------------+
| Ubuntu 20.04        | PASS               | SKIPPED              | SKIPPED           |
+---------------------+--------------------+----------------------+-------------------+
| RHEL8               | PASS               | SKIPPED              | SKIPPED           |
+---------------------+--------------------+----------------------+-------------------+


Windows Server 2019
	Kernel: 10.0.17763
	Compiler: clang 14.0 and gcc 8.1.0 (MinGW)

Windows Server 2022
	Kernel: 10.0.20348.2031
	Compiler: clang 15.0.7, gcc 8.1.0 (MinGW), and MSVC VS 17.9

FreeBSD 13.2
	Kernel: 13.2
	Compiler: clang 14.0.5

Debian Bullseye
	Kernel: 5.4.0-167-generic
	Compiler: gcc 10.2.1-6

CentOS Stream 8
	Kernel: 5.4.0-167-generic
	Compiler: gcc 8.5.0 20210514

Fedora 37
	Kernel: Depends on container host system
	Compiler: gcc 12.3.1

CentOS Stream 9
	Kernel: 5.4.0-167-generic
	Compiler: gcc 11.4.1 20230605

Fedora 38
	Kernel: Depends on container host
	Compiler: clang 16.0.6

Debian 12
	Kernel: Container Host Kernel
	Compiler: gcc 10.2.1

Fedora 39
	Kernel: Depends on container host
	Compiler: gcc 13.2.1

openSUSE Leap 15
	Kernel: 5.4.0-167-generic
	Compiler: gcc 7.5.0

Ubuntu 20.04
	Kernel: 5.4.0-167-generic
	Compiler: gcc 9.4.0-1ubuntu1~20.04.1

RHEL8
	Kernel: 5.4.0-167-generic
	Compiler: gcc 8.5.0 20210514 (Red Hat 8.5.0-20)

To view detailed results, visit:
https://lab.dpdk.org/results/dashboard/patchsets/29716/

UNH-IOL DPDK Community Lab

To manage your email subscriptions, visit: 
https://lab.dpdk.org/results/dashboard/preferences/subscriptions/