From mboxrd@z Thu Jan  1 00:00:00 1970
Return-Path: <test-report-bounces@dpdk.org>
Received: from mails.dpdk.org (mails.dpdk.org [217.70.189.124])
	by inbox.dpdk.org (Postfix) with ESMTP id 4670543E02
	for <public@inbox.dpdk.org>; Thu,  4 Apr 2024 22:25:17 +0200 (CEST)
Received: from mails.dpdk.org (localhost [127.0.0.1])
	by mails.dpdk.org (Postfix) with ESMTP id 43483402BF;
	Thu,  4 Apr 2024 22:25:17 +0200 (CEST)
Received: from mail-vk1-f225.google.com (mail-vk1-f225.google.com
 [209.85.221.225])
 by mails.dpdk.org (Postfix) with ESMTP id 83376402BC
 for <test-report@dpdk.org>; Thu,  4 Apr 2024 22:25:15 +0200 (CEST)
Received: by mail-vk1-f225.google.com with SMTP id
 71dfb90a1353d-4d8a748881aso592141e0c.1
 for <test-report@dpdk.org>; Thu, 04 Apr 2024 13:25:15 -0700 (PDT)
DKIM-Signature: v=1; a=rsa-sha256; c=relaxed/relaxed;
 d=iol.unh.edu; s=unh-iol; t=1712262315; x=1712867115; darn=dpdk.org;
 h=references:in-reply-to:cc:to:from:subject:message-id:date:from:to
 :cc:subject:date:message-id:reply-to;
 bh=EdBa0gLnMfEfxbyc7/PdyCSBO2OvbD0vIHZXTlJCBPo=;
 b=iXfGPd/5zqSRQoNg/52q5p86PwWNKXveSJWYoFrpYag2jrGnfEpugvN94Nx3Mteqnq
 PWyz0BgAS2BaXatUTpA4L5rd+P2j5aAAAqXq7WlbXrukvF08SyP1az47oWutDzA6uUyI
 cHojKN83D07QonRFpYXOAx7tSeTBf6gOh1icw=
X-Google-DKIM-Signature: v=1; a=rsa-sha256; c=relaxed/relaxed;
 d=1e100.net; s=20230601; t=1712262315; x=1712867115;
 h=references:in-reply-to:cc:to:from:subject:message-id:date
 :x-gm-message-state:from:to:cc:subject:date:message-id:reply-to;
 bh=EdBa0gLnMfEfxbyc7/PdyCSBO2OvbD0vIHZXTlJCBPo=;
 b=tqNKJ4Kjb+2aKcCEU/t6iGvSVBrkNASnzFmS60mm3uP+9TzDZA9RlCxpzjT5aye+Ul
 +VhkxgNaEyTn9kF1eIE++0L9CIi3qVCtCk7P1sB3GoYbFdxru78OugZG+nac9QxG1Ddl
 /1agjgaOgm4JGac73EivND7OMwaG6Xu3vnsBD0X7Jz9I4deIMJTidy9o9MAhOKja6HKv
 SE5MbP5SAiIjiURYqSz9qj4pcH3WGYsni6UQ1XAXuV/ZWe65gcUcT693Rd1WOfpE3iYJ
 c8gploImNAlEfOdl2CQA7AOrZ4DXwhh/6ktcid2rKXqsBDfmEyUE4h3xqZiKiEvv779L
 7RZQ==
X-Gm-Message-State: AOJu0YypCMPo3vGjihNkDZG/Kleivb7K4wyIwPn550o34+LN1CTlnGEC
 vYjkYeXhs7Lhcpv/dFOlJaMT9rMMoU17zx8mjuAfnAJLZaW3xbSFyeUGQB4iINnIgS+YMocKK84
 +bNLokWqvAjk1jV9al/vAdvVqkS96EbViB+DLFEXM
X-Google-Smtp-Source: AGHT+IGYeW9CSt0wow6XBx/wCutNbHm+8VXm9eN7cc35EMZun+kskt7xm2awMv2ED+SkFK4ByL9yVd5YAw0o
X-Received: by 2002:ac5:c767:0:b0:4d8:7339:4c35 with SMTP id
 c7-20020ac5c767000000b004d873394c35mr855729vkn.13.1712262314917; 
 Thu, 04 Apr 2024 13:25:14 -0700 (PDT)
Received: from postal.iol.unh.edu (postal.iol.unh.edu. [132.177.123.84])
 by smtp-relay.gmail.com with ESMTPS id
 di4-20020a056122468400b004d8891d220asm10332vkb.9.2024.04.04.13.25.14
 (version=TLS1_2 cipher=ECDHE-ECDSA-AES128-GCM-SHA256 bits=128/128);
 Thu, 04 Apr 2024 13:25:14 -0700 (PDT)
X-Relaying-Domain: iol.unh.edu
Date: Thu, 04 Apr 2024 13:25:14 -0700 (PDT)
Message-ID: <660f0caa.050a0220.54e17.0747SMTPIN_ADDED_MISSING@mx.google.com>
Received: from [172.21.0.6] (unknown [172.18.0.240])
 by postal.iol.unh.edu (Postfix) with ESMTP id E9A4B6052471;
 Thu,  4 Apr 2024 16:25:13 -0400 (EDT)
Subject: |SUCCESS| pw139107-139110 [PATCH] [v11,4/4] cryptodev: remove rte ma
From: dpdklab@iol.unh.edu
To: Test Report <test-report@dpdk.org>
Cc: dpdk-test-reports@iol.unh.edu
In-Reply-To: <1712253115-8755-5-git-send-email-roretzla@linux.microsoft.com>
References: <1712253115-8755-5-git-send-email-roretzla@linux.microsoft.com>
Content-Type: text/plain
X-BeenThere: test-report@dpdk.org
X-Mailman-Version: 2.1.29
Precedence: list
List-Id: automatic DPDK test reports <test-report.dpdk.org>
List-Unsubscribe: <https://mails.dpdk.org/options/test-report>,
 <mailto:test-report-request@dpdk.org?subject=unsubscribe>
List-Archive: <http://mails.dpdk.org/archives/test-report/>
List-Post: <mailto:test-report@dpdk.org>
List-Help: <mailto:test-report-request@dpdk.org?subject=help>
List-Subscribe: <https://mails.dpdk.org/listinfo/test-report>,
 <mailto:test-report-request@dpdk.org?subject=subscribe>
Errors-To: test-report-bounces@dpdk.org

Test-Label: iol-unit-arm64-testing
Test-Status: SUCCESS
http://dpdk.org/patch/139110

_Testing PASS_

Submitter: Tyler Retzlaff <roretzla@linux.microsoft.com>
Date: Thursday, April 04 2024 17:51:55 
DPDK git baseline: Repo:dpdk
  Branch: master
  CommitID:e2e546ab5bf5e024986ccb5310ab43982f3bb40c

139107-139110 --> testing pass

Test environment and result as below:

+-----------------------------+----------------+--------------+---------------------------+------------------------------+
|         Environment         | dpdk_unit_test | lpm_autotest | cryptodev_sw_zuc_autotest | cryptodev_sw_snow3g_autotest |
+=============================+================+==============+===========================+==============================+
| Debian 11 (Buster) (ARM)    | PASS           | SKIPPED      | SKIPPED                   | SKIPPED                      |
+-----------------------------+----------------+--------------+---------------------------+------------------------------+
| Debian 12 (arm)             | PASS           | SKIPPED      | PASS                      | PASS                         |
+-----------------------------+----------------+--------------+---------------------------+------------------------------+
| 32-bit Ubuntu 20.04.4 (ARM) | PASS           | SKIPPED      | SKIPPED                   | SKIPPED                      |
+-----------------------------+----------------+--------------+---------------------------+------------------------------+
| Fedora 37 (ARM)             | PASS           | SKIPPED      | SKIPPED                   | SKIPPED                      |
+-----------------------------+----------------+--------------+---------------------------+------------------------------+
| CentOS Stream 9 (ARM)       | PASS           | SKIPPED      | SKIPPED                   | SKIPPED                      |
+-----------------------------+----------------+--------------+---------------------------+------------------------------+
| Fedora 38 (ARM)             | PASS           | SKIPPED      | SKIPPED                   | SKIPPED                      |
+-----------------------------+----------------+--------------+---------------------------+------------------------------+
| Fedora 38 (ARM Clang)       | PASS           | SKIPPED      | SKIPPED                   | SKIPPED                      |
+-----------------------------+----------------+--------------+---------------------------+------------------------------+
| Ubuntu 20.04 (ARM)          | PASS           | SKIPPED      | SKIPPED                   | SKIPPED                      |
+-----------------------------+----------------+--------------+---------------------------+------------------------------+
| Ubuntu 20.04 ARM SVE        | SKIPPED        | PASS         | SKIPPED                   | SKIPPED                      |
+-----------------------------+----------------+--------------+---------------------------+------------------------------+


Debian 11 (Buster) (ARM)
	Kernel: Container Host Kernel
	Compiler: gcc 10.2.1

Debian 12 (arm)
	Kernel: Container Host Kernel
	Compiler: gcc 12.2.0

32-bit Ubuntu 20.04.4 (ARM)
	Kernel: 5.4.0-155-generic aarch64
	Compiler: gcc 9.4

Fedora 37 (ARM)
	Kernel: Depends on container host
	Compiler: gcc 12.3.1

CentOS Stream 9 (ARM)
	Kernel: Container Host Kernel
	Compiler: gcc 11.4.1

Fedora 38 (ARM)
	Kernel: Depends on container host
	Compiler: gcc 13.2.1

Fedora 38 (ARM Clang)
	Kernel: Depends on container host
	Compiler: clang 16.0.6

Ubuntu 20.04 (ARM)
	Kernel: Container Host Kernel
	Compiler: gcc 9.4.0

Ubuntu 20.04 ARM SVE
	Kernel: 5.4.0-167-generic
	Compiler: gcc (Ubuntu 10.5.0-1ubuntu1~20.04) 10.5.0

To view detailed results, visit:
https://lab.dpdk.org/results/dashboard/patchsets/29717/

UNH-IOL DPDK Community Lab

To manage your email subscriptions, visit: 
https://lab.dpdk.org/results/dashboard/preferences/subscriptions/