From mboxrd@z Thu Jan  1 00:00:00 1970
Return-Path: <test-report-bounces@dpdk.org>
Received: from mails.dpdk.org (mails.dpdk.org [217.70.189.124])
	by inbox.dpdk.org (Postfix) with ESMTP id 9378243E02
	for <public@inbox.dpdk.org>; Thu,  4 Apr 2024 23:07:09 +0200 (CEST)
Received: from mails.dpdk.org (localhost [127.0.0.1])
	by mails.dpdk.org (Postfix) with ESMTP id 8D15440C35;
	Thu,  4 Apr 2024 23:07:09 +0200 (CEST)
Received: from mail-pg1-f228.google.com (mail-pg1-f228.google.com
 [209.85.215.228])
 by mails.dpdk.org (Postfix) with ESMTP id 0FDFA40A87
 for <test-report@dpdk.org>; Thu,  4 Apr 2024 23:07:08 +0200 (CEST)
Received: by mail-pg1-f228.google.com with SMTP id
 41be03b00d2f7-5c229dabbb6so1068894a12.0
 for <test-report@dpdk.org>; Thu, 04 Apr 2024 14:07:07 -0700 (PDT)
DKIM-Signature: v=1; a=rsa-sha256; c=relaxed/relaxed;
 d=iol.unh.edu; s=unh-iol; t=1712264827; x=1712869627; darn=dpdk.org;
 h=references:in-reply-to:cc:to:from:subject:message-id:date:from:to
 :cc:subject:date:message-id:reply-to;
 bh=IPjPM2lCcEg5+z2CFK8H+oGLnLENj4lNDlwFsRwe3oo=;
 b=N5zuPmigP21TMjpyN01gSs1J4g6FvRMUs5yLjkeYlrUkQEhQ4ONvLOThPNVopYJdru
 SrwKUy5/gMj5NA0RnjGYASze46dVqQlxahNRxQ/8QmvcAazJm/sHZ0a+xV41xQajL+Vs
 c2DWjXecPZ7m/d8Gx3KsIF3DHUJEI1xkRGt44=
X-Google-DKIM-Signature: v=1; a=rsa-sha256; c=relaxed/relaxed;
 d=1e100.net; s=20230601; t=1712264827; x=1712869627;
 h=references:in-reply-to:cc:to:from:subject:message-id:date
 :x-gm-message-state:from:to:cc:subject:date:message-id:reply-to;
 bh=IPjPM2lCcEg5+z2CFK8H+oGLnLENj4lNDlwFsRwe3oo=;
 b=Q4j8Y3FMHOHDidxGOnCYc06yRZIGS0dXOBlcsjLdQrNzabFyZfFkng8FPpfAkUvCWF
 B05dX7eEznyHuefhYl6RbGNSj/4NMeVDTuqbDRZPjWoRRo66FkzKuOG2d69qcghuNOUe
 uT5EyHqYk4UKXAhjup3JU/aF1UfqBRvzbRtjC3DuT1jWu53QklqbasPlAQLIWUFNekLH
 3Qu5nIf7XTUEm92NEDWIk9gRqLYvUZPhIZsWjNUwUyISQfOqTtJcv7mIoi6qeH3h+04T
 ycIZkUsKMVxKqYHsCwQpgxiqIASkt8NxnvMDfOr5VluW5/2dBH8hRu3meT53Weh2uyeW
 UI6A==
X-Gm-Message-State: AOJu0YyTTnwrLnns9vuvxyrkna1iB7l5hBfNG90gTg0/zPnJdoa1mqHA
 aMeY+/ZAUEwEbthGLSfVKHYRGKD10kxVjbBW9wZ71m8Z+HSbzVa9dv51SR/2xPpkZGLDctmDaan
 6Iv0ygmU9ilw9xsY3fHT+5A8CINJbqXnXQjix+JoXkmsqaR7J4MVFtnzx
X-Google-Smtp-Source: AGHT+IEelWOixzlMHFh76M4wq5Ui5S3B6RdEKF6coMZxCmxctaYirJoK+h3eAeaye8qZydwkhYQAZPky+87Y
X-Received: by 2002:a17:90a:e28d:b0:29d:dd50:afe with SMTP id
 d13-20020a17090ae28d00b0029ddd500afemr813373pjz.30.1712264827224; 
 Thu, 04 Apr 2024 14:07:07 -0700 (PDT)
Received: from postal.iol.unh.edu (postal.iol.unh.edu.
 [2606:4100:3880:1234::84]) by smtp-relay.gmail.com with ESMTPS id
 ci18-20020a17090afc9200b0029c6755144bsm139373pjb.17.2024.04.04.14.07.07
 (version=TLS1_2 cipher=ECDHE-ECDSA-AES128-GCM-SHA256 bits=128/128);
 Thu, 04 Apr 2024 14:07:07 -0700 (PDT)
X-Relaying-Domain: iol.unh.edu
Date: Thu, 04 Apr 2024 14:07:07 -0700 (PDT)
Message-ID: <660f167b.170a0220.4f0d1.ba82SMTPIN_ADDED_MISSING@mx.google.com>
Received: from [172.21.0.6] (unknown [172.18.0.240])
 by postal.iol.unh.edu (Postfix) with ESMTP id 4F9336052471;
 Thu,  4 Apr 2024 17:07:06 -0400 (EDT)
Subject: |SUCCESS| pw139101-139102 [PATCH] [v3,2/2] test: add functional test
From: dpdklab@iol.unh.edu
To: Test Report <test-report@dpdk.org>
Cc: dpdk-test-reports@iol.unh.edu
In-Reply-To: <20240404162422.61510-3-stephen@networkplumber.org>
References: <20240404162422.61510-3-stephen@networkplumber.org>
Content-Type: text/plain
X-BeenThere: test-report@dpdk.org
X-Mailman-Version: 2.1.29
Precedence: list
List-Id: automatic DPDK test reports <test-report.dpdk.org>
List-Unsubscribe: <https://mails.dpdk.org/options/test-report>,
 <mailto:test-report-request@dpdk.org?subject=unsubscribe>
List-Archive: <http://mails.dpdk.org/archives/test-report/>
List-Post: <mailto:test-report@dpdk.org>
List-Help: <mailto:test-report-request@dpdk.org?subject=help>
List-Subscribe: <https://mails.dpdk.org/listinfo/test-report>,
 <mailto:test-report-request@dpdk.org?subject=subscribe>
Errors-To: test-report-bounces@dpdk.org

Test-Label: iol-compile-amd64-testing
Test-Status: SUCCESS
http://dpdk.org/patch/139102

_Testing PASS_

Submitter: Stephen Hemminger <stephen@networkplumber.org>
Date: Thursday, April 04 2024 16:22:14 
DPDK git baseline: Repo:dpdk
  Branch: master
  CommitID:e2e546ab5bf5e024986ccb5310ab43982f3bb40c

139101-139102 --> testing pass

Test environment and result as below:

+---------------------+--------------------+----------------------+-------------------+
|     Environment     | dpdk_meson_compile | dpdk_mingw64_compile | dpdk_msvc_compile |
+=====================+====================+======================+===================+
| Windows Server 2022 | PASS               | PASS                 | PASS              |
+---------------------+--------------------+----------------------+-------------------+
| Windows Server 2019 | PASS               | PASS                 | SKIPPED           |
+---------------------+--------------------+----------------------+-------------------+
| FreeBSD 13.2        | PASS               | SKIPPED              | SKIPPED           |
+---------------------+--------------------+----------------------+-------------------+
| CentOS Stream 8     | PASS               | SKIPPED              | SKIPPED           |
+---------------------+--------------------+----------------------+-------------------+
| Debian Bullseye     | PASS               | SKIPPED              | SKIPPED           |
+---------------------+--------------------+----------------------+-------------------+
| CentOS Stream 9     | PASS               | SKIPPED              | SKIPPED           |
+---------------------+--------------------+----------------------+-------------------+


Windows Server 2022
	Kernel: 10.0.20348.2031
	Compiler: clang 15.0.7, gcc 8.1.0 (MinGW), and MSVC VS 17.9

Windows Server 2019
	Kernel: 10.0.17763
	Compiler: clang 14.0 and gcc 8.1.0 (MinGW)

FreeBSD 13.2
	Kernel: 13.2
	Compiler: clang 14.0.5

CentOS Stream 8
	Kernel: 5.4.0-167-generic
	Compiler: gcc 8.5.0 20210514

Debian Bullseye
	Kernel: 5.4.0-167-generic
	Compiler: gcc 10.2.1-6

CentOS Stream 9
	Kernel: 5.4.0-167-generic
	Compiler: gcc 11.4.1 20230605

To view detailed results, visit:
https://lab.dpdk.org/results/dashboard/patchsets/29715/

UNH-IOL DPDK Community Lab

To manage your email subscriptions, visit: 
https://lab.dpdk.org/results/dashboard/preferences/subscriptions/