From mboxrd@z Thu Jan  1 00:00:00 1970
Return-Path: <test-report-bounces@dpdk.org>
Received: from mails.dpdk.org (mails.dpdk.org [217.70.189.124])
	by inbox.dpdk.org (Postfix) with ESMTP id B34E743E02
	for <public@inbox.dpdk.org>; Thu,  4 Apr 2024 23:24:56 +0200 (CEST)
Received: from mails.dpdk.org (localhost [127.0.0.1])
	by mails.dpdk.org (Postfix) with ESMTP id ABA4840A87;
	Thu,  4 Apr 2024 23:24:56 +0200 (CEST)
Received: from mail-oo1-f99.google.com (mail-oo1-f99.google.com
 [209.85.161.99]) by mails.dpdk.org (Postfix) with ESMTP id 19FCA402BF
 for <test-report@dpdk.org>; Thu,  4 Apr 2024 23:24:55 +0200 (CEST)
Received: by mail-oo1-f99.google.com with SMTP id
 006d021491bc7-5a4a102145fso851125eaf.3
 for <test-report@dpdk.org>; Thu, 04 Apr 2024 14:24:55 -0700 (PDT)
DKIM-Signature: v=1; a=rsa-sha256; c=relaxed/relaxed;
 d=iol.unh.edu; s=unh-iol; t=1712265894; x=1712870694; darn=dpdk.org;
 h=references:in-reply-to:cc:to:from:subject:message-id:date:from:to
 :cc:subject:date:message-id:reply-to;
 bh=4Nft79nHpAzycxh3g4lms15wba72tUMIktuSrW0qYN8=;
 b=EqVjqeb9HmozN75QCECnfdwDncbN95AT+X+BHMsHIzj/W9E9R7ED5YEMiZjQOWOcQy
 /qUX9jvpq5pTIHBZSf6EXVs9mEUUdzisrsMNtv7QrgwNM1jAJ3tgntGbFX6PEn1iSySN
 npvZpSrpgsm2yvyJSpWRul1i+cQHDHRFJIslQ=
X-Google-DKIM-Signature: v=1; a=rsa-sha256; c=relaxed/relaxed;
 d=1e100.net; s=20230601; t=1712265894; x=1712870694;
 h=references:in-reply-to:cc:to:from:subject:message-id:date
 :x-gm-message-state:from:to:cc:subject:date:message-id:reply-to;
 bh=4Nft79nHpAzycxh3g4lms15wba72tUMIktuSrW0qYN8=;
 b=jA4vdvKjoyJxQ2/beuLzV8LSDMSaY65VwLSA0va7lvZXHKTwedHzxAoQIIFLiILoI6
 Wu8tT2T3nXg2v8sO8UrQOrDk85P0/G2TADdfb6kPT/f+c1odpWb36eS4UoL9qF5uRxR2
 AsRVsAutKSVXPDyp55nLWuJbQlImXoxQXSbO/P06+SFm/jHS1YhCOFG6jMe2usgu0+7r
 pE6HzaERQdDzfiuc5aO5A9oWngickWUdrRVf/nHF0QrZNL4V5XNjVOpIL+mU+yUj5n4X
 146P2t5kY8Heq9N5NmZli27tlt6vdGQWyN7PBqeERIR8AmXOiDvhrHciHN00BF0ttLCP
 1SlQ==
X-Gm-Message-State: AOJu0Yx0PsHa8BR+vWL50mPn0qy6LMr2UAxC1yV7bdOUOjap0Fwo9Yyf
 b33EfSjHI32KrP58lzMMIIBcvQJxda52l5uoX23ppLhsTydn+s0/p7+wUbxzn9rrSk6tADTolQr
 sPxI2RoemVjGRw5VRqbHV4Q4+6UqzorTjuUM/STeE
X-Google-Smtp-Source: AGHT+IGmSPOQ5EB6mOIRtnfeBnYoqFeiHndcbwEMyPMmS9T9hiDW7oF4u3DQjNlZQjHpTfJfPoqtBnsxdZ5r
X-Received: by 2002:a05:6820:1904:b0:5a5:16e7:7a4f with SMTP id
 bk4-20020a056820190400b005a516e77a4fmr4160491oob.0.1712265894443; 
 Thu, 04 Apr 2024 14:24:54 -0700 (PDT)
Received: from postal.iol.unh.edu (postal.iol.unh.edu. [132.177.123.84])
 by smtp-relay.gmail.com with ESMTPS id
 66-20020a4a1d45000000b005a4c9182f4fsm2152oog.23.2024.04.04.14.24.54
 (version=TLS1_2 cipher=ECDHE-ECDSA-AES128-GCM-SHA256 bits=128/128);
 Thu, 04 Apr 2024 14:24:54 -0700 (PDT)
X-Relaying-Domain: iol.unh.edu
Date: Thu, 04 Apr 2024 14:24:54 -0700 (PDT)
Message-ID: <660f1aa6.4a0a0220.a6e5c.0259SMTPIN_ADDED_MISSING@mx.google.com>
Received: from [172.17.0.7] (unknown [172.18.0.217])
 by postal.iol.unh.edu (Postfix) with ESMTP id E298B6052471;
 Thu,  4 Apr 2024 17:24:53 -0400 (EDT)
Subject: |SUCCESS| pw139101-139102 [PATCH] [v3,2/2] test: add functional test
From: dpdklab@iol.unh.edu
To: Test Report <test-report@dpdk.org>
Cc: dpdk-test-reports@iol.unh.edu
In-Reply-To: <20240404162422.61510-3-stephen@networkplumber.org>
References: <20240404162422.61510-3-stephen@networkplumber.org>
Content-Type: text/plain
X-BeenThere: test-report@dpdk.org
X-Mailman-Version: 2.1.29
Precedence: list
List-Id: automatic DPDK test reports <test-report.dpdk.org>
List-Unsubscribe: <https://mails.dpdk.org/options/test-report>,
 <mailto:test-report-request@dpdk.org?subject=unsubscribe>
List-Archive: <http://mails.dpdk.org/archives/test-report/>
List-Post: <mailto:test-report@dpdk.org>
List-Help: <mailto:test-report-request@dpdk.org?subject=help>
List-Subscribe: <https://mails.dpdk.org/listinfo/test-report>,
 <mailto:test-report-request@dpdk.org?subject=subscribe>
Errors-To: test-report-bounces@dpdk.org

Test-Label: iol-unit-amd64-testing
Test-Status: SUCCESS
http://dpdk.org/patch/139102

_Testing PASS_

Submitter: Stephen Hemminger <stephen@networkplumber.org>
Date: Thursday, April 04 2024 16:22:14 
DPDK git baseline: Repo:dpdk
  Branch: master
  CommitID:e2e546ab5bf5e024986ccb5310ab43982f3bb40c

139101-139102 --> testing pass

Test environment and result as below:

+-----------------+----------------+
|   Environment   | dpdk_unit_test |
+=================+================+
| CentOS Stream 8 | PASS           |
+-----------------+----------------+
| Debian Bullseye | PASS           |
+-----------------+----------------+
| CentOS Stream 9 | PASS           |
+-----------------+----------------+
| Debian 12       | PASS           |
+-----------------+----------------+
| Fedora 38       | PASS           |
+-----------------+----------------+


CentOS Stream 8
	Kernel: 5.4.0-167-generic
	Compiler: gcc 8.5.0 20210514

Debian Bullseye
	Kernel: 5.4.0-167-generic
	Compiler: gcc 10.2.1-6

CentOS Stream 9
	Kernel: 5.4.0-167-generic
	Compiler: gcc 11.4.1 20230605

Debian 12
	Kernel: Container Host Kernel
	Compiler: gcc 10.2.1

Fedora 38
	Kernel: Depends on container host
	Compiler: gcc 13.2.1

To view detailed results, visit:
https://lab.dpdk.org/results/dashboard/patchsets/29715/

UNH-IOL DPDK Community Lab

To manage your email subscriptions, visit: 
https://lab.dpdk.org/results/dashboard/preferences/subscriptions/