From mboxrd@z Thu Jan  1 00:00:00 1970
Return-Path: <test-report-bounces@dpdk.org>
Received: from mails.dpdk.org (mails.dpdk.org [217.70.189.124])
	by inbox.dpdk.org (Postfix) with ESMTP id 98F2243E02
	for <public@inbox.dpdk.org>; Thu,  4 Apr 2024 23:36:30 +0200 (CEST)
Received: from mails.dpdk.org (localhost [127.0.0.1])
	by mails.dpdk.org (Postfix) with ESMTP id 93EE6402F2;
	Thu,  4 Apr 2024 23:36:30 +0200 (CEST)
Received: from mail-qt1-f225.google.com (mail-qt1-f225.google.com
 [209.85.160.225])
 by mails.dpdk.org (Postfix) with ESMTP id 84FCE402BF
 for <test-report@dpdk.org>; Thu,  4 Apr 2024 23:36:29 +0200 (CEST)
Received: by mail-qt1-f225.google.com with SMTP id
 d75a77b69052e-430ddb1a227so8373571cf.3
 for <test-report@dpdk.org>; Thu, 04 Apr 2024 14:36:29 -0700 (PDT)
DKIM-Signature: v=1; a=rsa-sha256; c=relaxed/relaxed;
 d=iol.unh.edu; s=unh-iol; t=1712266588; x=1712871388; darn=dpdk.org;
 h=references:in-reply-to:cc:to:from:subject:message-id:date:from:to
 :cc:subject:date:message-id:reply-to;
 bh=yxL2Byz76wmFV1mYQZ9vZjKl99TkC/pcH/moVrpBAOE=;
 b=ZLiAYbJpI/wbneY6FSuBNvinN0XYhsEKud9TqVk6u3TYUpAfDaBv1RikK5O0tjwDST
 3FHQvJfWMQkhDGE7oEYl+vsBW58WRPdjqnASyWZ/58p17sMCMkA4EGFUL0P2IWd30Kgd
 UsvGsASXbemz9ts94UX32D18Nx6772D63OKP8=
X-Google-DKIM-Signature: v=1; a=rsa-sha256; c=relaxed/relaxed;
 d=1e100.net; s=20230601; t=1712266588; x=1712871388;
 h=references:in-reply-to:cc:to:from:subject:message-id:date
 :x-gm-message-state:from:to:cc:subject:date:message-id:reply-to;
 bh=yxL2Byz76wmFV1mYQZ9vZjKl99TkC/pcH/moVrpBAOE=;
 b=U33f5SUTzZ939ZOWKeV3eakm/43r9erlsDxIisKEoKanrcLdSfJR2fgZnsgNU+QWPm
 MK+ZTT9gD0sHfH179Y4fg1P+5e9YOKPdj9Q7uksmkFKIdLN89uXo0Vz+e4Rfq+x3O39B
 TSmzySVQSZhSfC1E8z0kT0TaIjbpdMNAd/YC65WdFoOM0jRNERE7pAZJsR/Z+ldk8Jrw
 xFPyYJrGGdXmtHt8OLJAD1qaAQ0zTiD6ihV80Dgim7R9mbudgSPidZ7o1oX8PvBZffwy
 nRcZHhkGCQULvCwpbJ1PM+yqUtke1w6s0D8XTDC1gYRklaMN3Y9iLTDX58QFVo4Mcuh0
 Bi5A==
X-Gm-Message-State: AOJu0YyGxsSM8vzYp5bPcAbo1Cho7gHm0vcY/pAaOi8lriwP6mGJuN/t
 iFvhhBUIx/nJwpLX8JtXxz+7X2nveSrNgH26Yr2rjrGeDFnizwYY5Qm6LIFrPPLLTC6PGAtmPyC
 IZTVbVpuP4WNKYs9JFdHRECgDP2yZkdTq9DIQo1/G
X-Google-Smtp-Source: AGHT+IFq9kDwN/OYgCHEQY6hxPCdGojh75MJeKEKVrobhC/ogfwlj3Xoi65H4Qcw57j2CumnRv979oLn8ofL
X-Received: by 2002:a05:622a:553:b0:434:583d:7c88 with SMTP id
 m19-20020a05622a055300b00434583d7c88mr1028136qtx.7.1712266588248; 
 Thu, 04 Apr 2024 14:36:28 -0700 (PDT)
Received: from postal.iol.unh.edu (postal.iol.unh.edu. [132.177.123.84])
 by smtp-relay.gmail.com with ESMTPS id
 c9-20020ac85a89000000b00431236d1f55sm10868qtc.14.2024.04.04.14.36.28
 (version=TLS1_2 cipher=ECDHE-ECDSA-AES128-GCM-SHA256 bits=128/128);
 Thu, 04 Apr 2024 14:36:28 -0700 (PDT)
X-Relaying-Domain: iol.unh.edu
Date: Thu, 04 Apr 2024 14:36:28 -0700 (PDT)
Message-ID: <660f1d5c.c80a0220.68d83.0a72SMTPIN_ADDED_MISSING@mx.google.com>
Received: from [172.21.0.6] (unknown [172.18.0.240])
 by postal.iol.unh.edu (Postfix) with ESMTP id EBE866052471;
 Thu,  4 Apr 2024 17:36:27 -0400 (EDT)
Subject: |SUCCESS| pw139107-139110 [PATCH] [v11,4/4] cryptodev: remove rte ma
From: dpdklab@iol.unh.edu
To: Test Report <test-report@dpdk.org>
Cc: dpdk-test-reports@iol.unh.edu
In-Reply-To: <1712253115-8755-5-git-send-email-roretzla@linux.microsoft.com>
References: <1712253115-8755-5-git-send-email-roretzla@linux.microsoft.com>
Content-Type: text/plain
X-BeenThere: test-report@dpdk.org
X-Mailman-Version: 2.1.29
Precedence: list
List-Id: automatic DPDK test reports <test-report.dpdk.org>
List-Unsubscribe: <https://mails.dpdk.org/options/test-report>,
 <mailto:test-report-request@dpdk.org?subject=unsubscribe>
List-Archive: <http://mails.dpdk.org/archives/test-report/>
List-Post: <mailto:test-report@dpdk.org>
List-Help: <mailto:test-report-request@dpdk.org?subject=help>
List-Subscribe: <https://mails.dpdk.org/listinfo/test-report>,
 <mailto:test-report-request@dpdk.org?subject=subscribe>
Errors-To: test-report-bounces@dpdk.org

Test-Label: iol-compile-arm64-testing
Test-Status: SUCCESS
http://dpdk.org/patch/139110

_Testing PASS_

Submitter: Tyler Retzlaff <roretzla@linux.microsoft.com>
Date: Thursday, April 04 2024 17:51:55 
DPDK git baseline: Repo:dpdk
  Branch: master
  CommitID:e2e546ab5bf5e024986ccb5310ab43982f3bb40c

139107-139110 --> testing pass

Test environment and result as below:

+----------------------------------------+--------------------+
|              Environment               | dpdk_meson_compile |
+========================================+====================+
| Ubuntu 20.04 ARM SVE                   | PASS               |
+----------------------------------------+--------------------+
| Debian 12 with MUSDK                   | PASS               |
+----------------------------------------+--------------------+
| Debian 11 (Buster) (ARM)               | PASS               |
+----------------------------------------+--------------------+
| Debian 12 (arm)                        | PASS               |
+----------------------------------------+--------------------+
| Ubuntu 20.04 aarch32 GCC Cross Compile | PASS               |
+----------------------------------------+--------------------+
| Ubuntu 20.04 ARM Clang Cross Compile   | PASS               |
+----------------------------------------+--------------------+
| CentOS Stream 9 (ARM)                  | PASS               |
+----------------------------------------+--------------------+
| Ubuntu 20.04 ARM GCC Cross Compile     | PASS               |
+----------------------------------------+--------------------+
| Fedora 38 (ARM Clang)                  | PASS               |
+----------------------------------------+--------------------+
| Fedora 38 (ARM)                        | PASS               |
+----------------------------------------+--------------------+
| Fedora 37 (ARM)                        | PASS               |
+----------------------------------------+--------------------+
| Fedora 39 (ARM Clang)                  | PASS               |
+----------------------------------------+--------------------+


Ubuntu 20.04 ARM SVE
	Kernel: 5.4.0-167-generic
	Compiler: gcc (Ubuntu 10.5.0-1ubuntu1~20.04) 10.5.0

Debian 12 with MUSDK
	Kernel: Container Host Kernel
	Compiler: gcc 12.2.0

Debian 11 (Buster) (ARM)
	Kernel: Container Host Kernel
	Compiler: gcc 10.2.1

Debian 12 (arm)
	Kernel: Container Host Kernel
	Compiler: gcc 12.2.0

Ubuntu 20.04 aarch32 GCC Cross Compile
	Kernel: 5.4.0-167-generic
	Compiler: gcc 9.4.0

Ubuntu 20.04 ARM Clang Cross Compile
	Kernel: 5.4.0-72-generic
	Compiler: clang 10.0.0-4ubuntu1

CentOS Stream 9 (ARM)
	Kernel: Container Host Kernel
	Compiler: gcc 11.4.1

Ubuntu 20.04 ARM GCC Cross Compile
	Kernel: 5.4.0-167-generic
	Compiler: aarch64-linux-gnu-gcc (Ubuntu 9.4.0-1ubuntu1~20.04.2) 9.4.0

Fedora 38 (ARM Clang)
	Kernel: Depends on container host
	Compiler: clang 16.0.6

Fedora 38 (ARM)
	Kernel: Depends on container host
	Compiler: gcc 13.2.1

Fedora 37 (ARM)
	Kernel: Depends on container host
	Compiler: gcc 12.3.1

Fedora 39 (ARM Clang)
	Kernel: Depends on container host
	Compiler: clang 17.0.6

To view detailed results, visit:
https://lab.dpdk.org/results/dashboard/patchsets/29717/

UNH-IOL DPDK Community Lab

To manage your email subscriptions, visit: 
https://lab.dpdk.org/results/dashboard/preferences/subscriptions/