From mboxrd@z Thu Jan  1 00:00:00 1970
Return-Path: <test-report-bounces@dpdk.org>
Received: from mails.dpdk.org (mails.dpdk.org [217.70.189.124])
	by inbox.dpdk.org (Postfix) with ESMTP id 617E343E02
	for <public@inbox.dpdk.org>; Thu,  4 Apr 2024 23:55:33 +0200 (CEST)
Received: from mails.dpdk.org (localhost [127.0.0.1])
	by mails.dpdk.org (Postfix) with ESMTP id 58C25402E9;
	Thu,  4 Apr 2024 23:55:33 +0200 (CEST)
Received: from mail-vs1-f100.google.com (mail-vs1-f100.google.com
 [209.85.217.100])
 by mails.dpdk.org (Postfix) with ESMTP id 05B9E402BF
 for <test-report@dpdk.org>; Thu,  4 Apr 2024 23:55:31 +0200 (CEST)
Received: by mail-vs1-f100.google.com with SMTP id
 ada2fe7eead31-479c8f43ca5so491713137.0
 for <test-report@dpdk.org>; Thu, 04 Apr 2024 14:55:30 -0700 (PDT)
DKIM-Signature: v=1; a=rsa-sha256; c=relaxed/relaxed;
 d=iol.unh.edu; s=unh-iol; t=1712267730; x=1712872530; darn=dpdk.org;
 h=references:in-reply-to:cc:to:from:subject:message-id:date:from:to
 :cc:subject:date:message-id:reply-to;
 bh=gNkvBtA0Rf1f2GgmnqpmlcjFgUwrnTClz/9h/K3ldcs=;
 b=K3gslPzgKHvq6MmXgXwPwcbMrNSN/A68XegHL1mqe5uUBqCyr5NKDKIbdJLui7YddF
 5xQoL4smgb3x3G8mRovI7Hiz2TA8hwyRNXomHgukStQLS8xq4tCn0KHbJgMfC5VQqr5g
 N/aY6FbOzGiW0/XW1NH6LaHOOoIx0vFh33zHo=
X-Google-DKIM-Signature: v=1; a=rsa-sha256; c=relaxed/relaxed;
 d=1e100.net; s=20230601; t=1712267730; x=1712872530;
 h=references:in-reply-to:cc:to:from:subject:message-id:date
 :x-gm-message-state:from:to:cc:subject:date:message-id:reply-to;
 bh=gNkvBtA0Rf1f2GgmnqpmlcjFgUwrnTClz/9h/K3ldcs=;
 b=jVGuz4G9H/yIdgLO10Pma39e/4fZk5LSJt+JoHN4GD6ZjGe+34k2251vbcLexMlWfl
 r2Gmkr1p0KDVKwU6VAqUuGnCCJKTSSCUSgRp6VSZrvvlf9q3jsBuuawqG1VCR+RlXgcV
 o0Z64f7GO/dpT2R9bcngtMx/kbSQRAcgoQedX6p8JV6Yr0yvot0dxx/sygc23UXe8zom
 PpTgwrnuM/eJRT+wf1+5l1onj0G15jWIGvDl0MvIu4sLMVWRkG1Z0Ai0YfpxwBb2S7Qa
 HdgkRylKO088WLQufsghXM+okBzACWrfi/tGSiWERCcz8jQxSNzMYt1dwcGM1pk6fx+u
 X2LA==
X-Gm-Message-State: AOJu0YxzdP4/XJB//2v3njjz8hiH+S7KEnjXNFyhg/JR0IPBPyul4MXJ
 HAd6pFX3xmywREs9dEXKsxZBC8J4Zcf542Pn3VxZzujg/WfyjV08b7IeCqEZ2/glIKx5U/1mLOB
 EDAM3Gb23JAz7Iz0HTZfRViKb7t84tzwAnYhGYGkRpHZ9fktCBQ8Y/aMG
X-Google-Smtp-Source: AGHT+IG3XHbkR6Fq+dKPCNYPWUIUGq555kL7WR0oEhF26rvfykGB+a/24+AHmIqNCKRu0MQ+kC9IGMXmFsn1
X-Received: by 2002:a05:6102:34d1:b0:478:6d74:f31a with SMTP id
 a17-20020a05610234d100b004786d74f31amr4159470vst.15.1712267730424; 
 Thu, 04 Apr 2024 14:55:30 -0700 (PDT)
Received: from postal.iol.unh.edu (postal.iol.unh.edu.
 [2606:4100:3880:1234::84]) by smtp-relay.gmail.com with ESMTPS id
 eo8-20020a0561302d0800b007dbfb43e977sm13433uab.10.2024.04.04.14.55.30
 (version=TLS1_2 cipher=ECDHE-ECDSA-AES128-GCM-SHA256 bits=128/128);
 Thu, 04 Apr 2024 14:55:30 -0700 (PDT)
X-Relaying-Domain: iol.unh.edu
Date: Thu, 04 Apr 2024 14:55:30 -0700 (PDT)
Message-ID: <660f21d2.050a0220.90cee.0aedSMTPIN_ADDED_MISSING@mx.google.com>
Received: from [172.21.0.6] (unknown [172.18.0.240])
 by postal.iol.unh.edu (Postfix) with ESMTP id 144D66052471;
 Thu,  4 Apr 2024 17:55:30 -0400 (EDT)
Subject: |SUCCESS| pw139111-139112 [PATCH] [v1,3/3] test/bbdev: update for qu
From: dpdklab@iol.unh.edu
To: Test Report <test-report@dpdk.org>
Cc: dpdk-test-reports@iol.unh.edu
In-Reply-To: <20240404210447.1915517-4-nicolas.chautru@intel.com>
References: <20240404210447.1915517-4-nicolas.chautru@intel.com>
Content-Type: text/plain
X-BeenThere: test-report@dpdk.org
X-Mailman-Version: 2.1.29
Precedence: list
List-Id: automatic DPDK test reports <test-report.dpdk.org>
List-Unsubscribe: <https://mails.dpdk.org/options/test-report>,
 <mailto:test-report-request@dpdk.org?subject=unsubscribe>
List-Archive: <http://mails.dpdk.org/archives/test-report/>
List-Post: <mailto:test-report@dpdk.org>
List-Help: <mailto:test-report-request@dpdk.org?subject=help>
List-Subscribe: <https://mails.dpdk.org/listinfo/test-report>,
 <mailto:test-report-request@dpdk.org?subject=subscribe>
Errors-To: test-report-bounces@dpdk.org

Test-Label: iol-compile-amd64-testing
Test-Status: SUCCESS
http://dpdk.org/patch/139112

_Testing PASS_

Submitter: Nicolas Chautru <nicolas.chautru@intel.com>
Date: Thursday, April 04 2024 21:04:47 
DPDK git baseline: Repo:dpdk
  Branch: master
  CommitID:98b4ecb4e4d73e93fdfa53f552b48d71104b445f

139111-139112 --> testing pass

Test environment and result as below:

+---------------------+--------------------+----------------------+-------------------+
|     Environment     | dpdk_meson_compile | dpdk_mingw64_compile | dpdk_msvc_compile |
+=====================+====================+======================+===================+
| FreeBSD 13.2        | PASS               | SKIPPED              | SKIPPED           |
+---------------------+--------------------+----------------------+-------------------+
| Windows Server 2019 | PASS               | PASS                 | SKIPPED           |
+---------------------+--------------------+----------------------+-------------------+
| Windows Server 2022 | PASS               | PASS                 | PASS              |
+---------------------+--------------------+----------------------+-------------------+


FreeBSD 13.2
	Kernel: 13.2
	Compiler: clang 14.0.5

Windows Server 2019
	Kernel: 10.0.17763
	Compiler: clang 14.0 and gcc 8.1.0 (MinGW)

Windows Server 2022
	Kernel: 10.0.20348.2031
	Compiler: clang 15.0.7, gcc 8.1.0 (MinGW), and MSVC VS 17.9

To view detailed results, visit:
https://lab.dpdk.org/results/dashboard/patchsets/29718/

UNH-IOL DPDK Community Lab

To manage your email subscriptions, visit: 
https://lab.dpdk.org/results/dashboard/preferences/subscriptions/