From mboxrd@z Thu Jan  1 00:00:00 1970
Return-Path: <test-report-bounces@dpdk.org>
Received: from mails.dpdk.org (mails.dpdk.org [217.70.189.124])
	by inbox.dpdk.org (Postfix) with ESMTP id 1524343E02
	for <public@inbox.dpdk.org>; Thu,  4 Apr 2024 23:57:12 +0200 (CEST)
Received: from mails.dpdk.org (localhost [127.0.0.1])
	by mails.dpdk.org (Postfix) with ESMTP id 08DAE402BF;
	Thu,  4 Apr 2024 23:57:12 +0200 (CEST)
Received: from mail-pl1-f228.google.com (mail-pl1-f228.google.com
 [209.85.214.228])
 by mails.dpdk.org (Postfix) with ESMTP id 74585402B0
 for <test-report@dpdk.org>; Thu,  4 Apr 2024 23:57:10 +0200 (CEST)
Received: by mail-pl1-f228.google.com with SMTP id
 d9443c01a7336-1e24c889618so13496445ad.2
 for <test-report@dpdk.org>; Thu, 04 Apr 2024 14:57:10 -0700 (PDT)
DKIM-Signature: v=1; a=rsa-sha256; c=relaxed/relaxed;
 d=iol.unh.edu; s=unh-iol; t=1712267830; x=1712872630; darn=dpdk.org;
 h=references:in-reply-to:cc:to:from:subject:message-id:date:from:to
 :cc:subject:date:message-id:reply-to;
 bh=gNkvBtA0Rf1f2GgmnqpmlcjFgUwrnTClz/9h/K3ldcs=;
 b=WVetf1wVW6qs26MNQj4+qNYdOdxp3h68rC9av44mmaJnahnLzyjy+PhB6MiorZs8L/
 fFsbJIt6HQCuoNIB24vZvQubUpKVK53Y1EVcF3nQJI0p5fzDjGbaGLrvhD/jHMkRLid8
 mluRaZTnQZxFnvXBYFyhP2WNxhKG41rIBykCk=
X-Google-DKIM-Signature: v=1; a=rsa-sha256; c=relaxed/relaxed;
 d=1e100.net; s=20230601; t=1712267830; x=1712872630;
 h=references:in-reply-to:cc:to:from:subject:message-id:date
 :x-gm-message-state:from:to:cc:subject:date:message-id:reply-to;
 bh=gNkvBtA0Rf1f2GgmnqpmlcjFgUwrnTClz/9h/K3ldcs=;
 b=KDpah5HEVeLRTizhABkrAXhrESk/pGPYw9OJALHzm0VJQ1Ns2FeV2/1+zf478hu728
 W0LqqrNqKqiiiYDCdH6gyno6HHAi55MetjoSaawBFchY0zMOJXoD7ApcFmymA2vJoe0w
 4CxJL20Lqvd2M+wmYi9a4M88f39aCuQVXsqzrjoU5c1Y2m0K3hbuN5ks/unOW24jm2cF
 3k8QYs82T9FNHcitGb6kLz5jiQa8FQmKPGSG8YaO9/kUwlSBYo2pR7pO+DLLoz6XPSWe
 YLGwM5W/aHUvdqXbqC1XxNDRKfwO/WLtb3hLo2tkXNbcyEIRka2TD5KtCds82KDcgFUN
 n9HQ==
X-Gm-Message-State: AOJu0YyUzYcGgkDnLn4dPU4PaNbHgNx58q0FXHVRrfaNESWpQHFBg+hN
 rpFUiXRI4f0f8yPI/uAm6Dv/eG8ZAfT8AZEVS9kdlVpSvY8I4wUYkfQoZju0EHw2J2gvWRYgHLR
 n59AuH4X8FMZ9eLSpvEIl+x5yoi9jfRDe9mdJDD/M2xnASWx10DskShvr
X-Google-Smtp-Source: AGHT+IEokfob6PUDenKpPOVlI0P8fvEBjr8MqeTLJYTbZp62yMDhB9khyatgRBQctbil2iBwDdatgjbMft2b
X-Received: by 2002:a17:903:2656:b0:1df:f681:3cd8 with SMTP id
 je22-20020a170903265600b001dff6813cd8mr3445840plb.12.1712267829720; 
 Thu, 04 Apr 2024 14:57:09 -0700 (PDT)
Received: from postal.iol.unh.edu (postal.iol.unh.edu.
 [2606:4100:3880:1234::84]) by smtp-relay.gmail.com with ESMTPS id
 e7-20020a170902b78700b001e0ae6906b5sm3575pls.101.2024.04.04.14.57.09
 (version=TLS1_2 cipher=ECDHE-ECDSA-AES128-GCM-SHA256 bits=128/128);
 Thu, 04 Apr 2024 14:57:09 -0700 (PDT)
X-Relaying-Domain: iol.unh.edu
Date: Thu, 04 Apr 2024 14:57:09 -0700 (PDT)
Message-ID: <660f2235.170a0220.d4f2f.0418SMTPIN_ADDED_MISSING@mx.google.com>
Received: from [172.21.0.6] (unknown [172.18.0.240])
 by postal.iol.unh.edu (Postfix) with ESMTP id E5FB56052471;
 Thu,  4 Apr 2024 17:57:08 -0400 (EDT)
Subject: |SUCCESS| pw139111-139112 [PATCH] [v1,3/3] test/bbdev: update for qu
From: dpdklab@iol.unh.edu
To: Test Report <test-report@dpdk.org>
Cc: dpdk-test-reports@iol.unh.edu
In-Reply-To: <20240404210447.1915517-4-nicolas.chautru@intel.com>
References: <20240404210447.1915517-4-nicolas.chautru@intel.com>
Content-Type: text/plain
X-BeenThere: test-report@dpdk.org
X-Mailman-Version: 2.1.29
Precedence: list
List-Id: automatic DPDK test reports <test-report.dpdk.org>
List-Unsubscribe: <https://mails.dpdk.org/options/test-report>,
 <mailto:test-report-request@dpdk.org?subject=unsubscribe>
List-Archive: <http://mails.dpdk.org/archives/test-report/>
List-Post: <mailto:test-report@dpdk.org>
List-Help: <mailto:test-report-request@dpdk.org?subject=help>
List-Subscribe: <https://mails.dpdk.org/listinfo/test-report>,
 <mailto:test-report-request@dpdk.org?subject=subscribe>
Errors-To: test-report-bounces@dpdk.org

Test-Label: iol-compile-amd64-testing
Test-Status: SUCCESS
http://dpdk.org/patch/139112

_Testing PASS_

Submitter: Nicolas Chautru <nicolas.chautru@intel.com>
Date: Thursday, April 04 2024 21:04:47 
DPDK git baseline: Repo:dpdk
  Branch: master
  CommitID:98b4ecb4e4d73e93fdfa53f552b48d71104b445f

139111-139112 --> testing pass

Test environment and result as below:

+---------------------+--------------------+----------------------+-------------------+
|     Environment     | dpdk_meson_compile | dpdk_mingw64_compile | dpdk_msvc_compile |
+=====================+====================+======================+===================+
| FreeBSD 13.2        | PASS               | SKIPPED              | SKIPPED           |
+---------------------+--------------------+----------------------+-------------------+
| Windows Server 2019 | PASS               | PASS                 | SKIPPED           |
+---------------------+--------------------+----------------------+-------------------+
| Windows Server 2022 | PASS               | PASS                 | PASS              |
+---------------------+--------------------+----------------------+-------------------+


FreeBSD 13.2
	Kernel: 13.2
	Compiler: clang 14.0.5

Windows Server 2019
	Kernel: 10.0.17763
	Compiler: clang 14.0 and gcc 8.1.0 (MinGW)

Windows Server 2022
	Kernel: 10.0.20348.2031
	Compiler: clang 15.0.7, gcc 8.1.0 (MinGW), and MSVC VS 17.9

To view detailed results, visit:
https://lab.dpdk.org/results/dashboard/patchsets/29718/

UNH-IOL DPDK Community Lab

To manage your email subscriptions, visit: 
https://lab.dpdk.org/results/dashboard/preferences/subscriptions/