From mboxrd@z Thu Jan  1 00:00:00 1970
Return-Path: <test-report-bounces@dpdk.org>
Received: from mails.dpdk.org (mails.dpdk.org [217.70.189.124])
	by inbox.dpdk.org (Postfix) with ESMTP id BC32643E02
	for <public@inbox.dpdk.org>; Thu,  4 Apr 2024 23:59:25 +0200 (CEST)
Received: from mails.dpdk.org (localhost [127.0.0.1])
	by mails.dpdk.org (Postfix) with ESMTP id B3849402BF;
	Thu,  4 Apr 2024 23:59:25 +0200 (CEST)
Received: from mail-pf1-f226.google.com (mail-pf1-f226.google.com
 [209.85.210.226])
 by mails.dpdk.org (Postfix) with ESMTP id 0E060402B0
 for <test-report@dpdk.org>; Thu,  4 Apr 2024 23:59:24 +0200 (CEST)
Received: by mail-pf1-f226.google.com with SMTP id
 d2e1a72fcca58-6ecfeefe94cso48898b3a.0
 for <test-report@dpdk.org>; Thu, 04 Apr 2024 14:59:23 -0700 (PDT)
DKIM-Signature: v=1; a=rsa-sha256; c=relaxed/relaxed;
 d=iol.unh.edu; s=unh-iol; t=1712267963; x=1712872763; darn=dpdk.org;
 h=references:in-reply-to:cc:to:from:subject:message-id:date:from:to
 :cc:subject:date:message-id:reply-to;
 bh=wHvEGdjTYY9YQktdoDtqgG5Job2rVa8EvG8TvCY1NPE=;
 b=a9uHcQEYCc1jhPrqRtlXHDNo4It/I3V7kVI9ZO//9n4gnm2jHVvnFXQyZ4/EmtorHH
 tFzW2ppxxh+qOigTe50Czopfztmli0LKt8cEpj3XD7juH147E8IBYdy/M2pbNSKyWLFz
 /hteUCR+P7t94uyXgrORQIk6zzVShX/+nloWs=
X-Google-DKIM-Signature: v=1; a=rsa-sha256; c=relaxed/relaxed;
 d=1e100.net; s=20230601; t=1712267963; x=1712872763;
 h=references:in-reply-to:cc:to:from:subject:message-id:date
 :x-gm-message-state:from:to:cc:subject:date:message-id:reply-to;
 bh=wHvEGdjTYY9YQktdoDtqgG5Job2rVa8EvG8TvCY1NPE=;
 b=Eg6E3sZC66NXFMp0fEZTcqUvc6jlKQ5TnJQ9GG0LvEWwGy9Pemehlyd/Gz3rCPYmuH
 9M5WEyxtXRsShSkIFTuqRm5Dm6hboVqPZSPi4pB4nZYW5pd403GLhpKFjGeh0CmNfsJS
 RDxXa32TvP175IPwLa8R8BhbBeZJJyzt5uawlvkb2aTPvc9rr+Gb5KFO4uSpLXyL93e0
 M6PTvTBFakN0kUlKRiXtxieBPEAGM2P5eDBKYBlDan1xU9NLv8qXfGmDGuyBLpZWQHaH
 hBV1cl4jFYJ4RyqSKmwJ1GwCXTcVAnk7r9eA6HbHUQSo+SzXQp2Igtg3+DudrtWOPO9Q
 y2UQ==
X-Gm-Message-State: AOJu0YwgvAL8U6aNsR+t+kf1mVsM85CMuvoxh9tVp6AS8Qe6oD3AB29y
 NZGHZuPZokESm3KiLz87pginjYbGDvGTv7S3PKD/bgQ0kgFncKMZAmqLPX6AkNclyqmUaWGNnc8
 ycEQZYFwqSnztvyECZme7rgk11qsg8Xkssmtlkauq
X-Google-Smtp-Source: AGHT+IFW4W0x0sLkeCfQOXZUJ9aG4Iv2wl5C9uiU5FcB3F02fyidXAjEUDgjCQE4ww54NoQa/qzu2wJl2P3s
X-Received: by 2002:a05:6a00:198a:b0:6ec:f676:26d with SMTP id
 d10-20020a056a00198a00b006ecf676026dmr759910pfl.8.1712267962512; 
 Thu, 04 Apr 2024 14:59:22 -0700 (PDT)
Received: from postal.iol.unh.edu (postal.iol.unh.edu. [132.177.123.84])
 by smtp-relay.gmail.com with ESMTPS id
 kq19-20020a056a004b1300b006eabdbc0613sm12764pfb.7.2024.04.04.14.59.22
 (version=TLS1_2 cipher=ECDHE-ECDSA-AES128-GCM-SHA256 bits=128/128);
 Thu, 04 Apr 2024 14:59:22 -0700 (PDT)
X-Relaying-Domain: iol.unh.edu
Date: Thu, 04 Apr 2024 14:59:22 -0700 (PDT)
Message-ID: <660f22ba.050a0220.fc30f.110fSMTPIN_ADDED_MISSING@mx.google.com>
Received: from [172.21.0.6] (unknown [172.18.0.240])
 by postal.iol.unh.edu (Postfix) with ESMTP id A405B6052471;
 Thu,  4 Apr 2024 17:59:21 -0400 (EDT)
Subject: |SUCCESS| pw139101-139102 [PATCH] [v3,2/2] test: add functional test
From: dpdklab@iol.unh.edu
To: Test Report <test-report@dpdk.org>
Cc: dpdk-test-reports@iol.unh.edu
In-Reply-To: <20240404162422.61510-3-stephen@networkplumber.org>
References: <20240404162422.61510-3-stephen@networkplumber.org>
Content-Type: text/plain
X-BeenThere: test-report@dpdk.org
X-Mailman-Version: 2.1.29
Precedence: list
List-Id: automatic DPDK test reports <test-report.dpdk.org>
List-Unsubscribe: <https://mails.dpdk.org/options/test-report>,
 <mailto:test-report-request@dpdk.org?subject=unsubscribe>
List-Archive: <http://mails.dpdk.org/archives/test-report/>
List-Post: <mailto:test-report@dpdk.org>
List-Help: <mailto:test-report-request@dpdk.org?subject=help>
List-Subscribe: <https://mails.dpdk.org/listinfo/test-report>,
 <mailto:test-report-request@dpdk.org?subject=subscribe>
Errors-To: test-report-bounces@dpdk.org

Test-Label: iol-compile-arm64-testing
Test-Status: SUCCESS
http://dpdk.org/patch/139102

_Testing PASS_

Submitter: Stephen Hemminger <stephen@networkplumber.org>
Date: Thursday, April 04 2024 16:22:14 
DPDK git baseline: Repo:dpdk
  Branch: master
  CommitID:e2e546ab5bf5e024986ccb5310ab43982f3bb40c

139101-139102 --> testing pass

Test environment and result as below:

+----------------------------------------+--------------------+
|              Environment               | dpdk_meson_compile |
+========================================+====================+
| Ubuntu 20.04 ARM SVE                   | PASS               |
+----------------------------------------+--------------------+
| Debian 12 with MUSDK                   | PASS               |
+----------------------------------------+--------------------+
| Ubuntu 20.04 aarch32 GCC Cross Compile | PASS               |
+----------------------------------------+--------------------+
| Ubuntu 20.04 ARM Clang Cross Compile   | PASS               |
+----------------------------------------+--------------------+
| Ubuntu 20.04 ARM GCC Cross Compile     | PASS               |
+----------------------------------------+--------------------+


Ubuntu 20.04 ARM SVE
	Kernel: 5.4.0-167-generic
	Compiler: gcc (Ubuntu 10.5.0-1ubuntu1~20.04) 10.5.0

Debian 12 with MUSDK
	Kernel: Container Host Kernel
	Compiler: gcc 12.2.0

Ubuntu 20.04 aarch32 GCC Cross Compile
	Kernel: 5.4.0-167-generic
	Compiler: gcc 9.4.0

Ubuntu 20.04 ARM Clang Cross Compile
	Kernel: 5.4.0-72-generic
	Compiler: clang 10.0.0-4ubuntu1

Ubuntu 20.04 ARM GCC Cross Compile
	Kernel: 5.4.0-167-generic
	Compiler: aarch64-linux-gnu-gcc (Ubuntu 9.4.0-1ubuntu1~20.04.2) 9.4.0

To view detailed results, visit:
https://lab.dpdk.org/results/dashboard/patchsets/29715/

UNH-IOL DPDK Community Lab

To manage your email subscriptions, visit: 
https://lab.dpdk.org/results/dashboard/preferences/subscriptions/