From mboxrd@z Thu Jan  1 00:00:00 1970
Return-Path: <test-report-bounces@dpdk.org>
Received: from mails.dpdk.org (mails.dpdk.org [217.70.189.124])
	by inbox.dpdk.org (Postfix) with ESMTP id 1EF1743E03
	for <public@inbox.dpdk.org>; Fri,  5 Apr 2024 00:07:14 +0200 (CEST)
Received: from mails.dpdk.org (localhost [127.0.0.1])
	by mails.dpdk.org (Postfix) with ESMTP id 144604029C;
	Fri,  5 Apr 2024 00:07:14 +0200 (CEST)
Received: from mail-pg1-f228.google.com (mail-pg1-f228.google.com
 [209.85.215.228])
 by mails.dpdk.org (Postfix) with ESMTP id 9204740284
 for <test-report@dpdk.org>; Fri,  5 Apr 2024 00:07:12 +0200 (CEST)
Received: by mail-pg1-f228.google.com with SMTP id
 41be03b00d2f7-5cfd95130c6so1175693a12.1
 for <test-report@dpdk.org>; Thu, 04 Apr 2024 15:07:12 -0700 (PDT)
DKIM-Signature: v=1; a=rsa-sha256; c=relaxed/relaxed;
 d=iol.unh.edu; s=unh-iol; t=1712268432; x=1712873232; darn=dpdk.org;
 h=references:in-reply-to:cc:to:from:subject:message-id:date:from:to
 :cc:subject:date:message-id:reply-to;
 bh=wVKX3almCJWv/WZXdVxiZquklTT91djWiQ/LD90gaqI=;
 b=h+zNY+WciiC6+YwS8WqRvNIG7gytSgeC4IYfVAj1hc4qF5z89obJEOG04Li5Jws/ww
 Ob8uhOFIqG4CqgguODctTB+fO/RKi/+b/DrujRz+1gq/ZW+hcBGkPj1TlX+NmS2/aFes
 Q3vv4jM54YIUELa6+BWJFIP9+SZxQh3Hgrmfs=
X-Google-DKIM-Signature: v=1; a=rsa-sha256; c=relaxed/relaxed;
 d=1e100.net; s=20230601; t=1712268432; x=1712873232;
 h=references:in-reply-to:cc:to:from:subject:message-id:date
 :x-gm-message-state:from:to:cc:subject:date:message-id:reply-to;
 bh=wVKX3almCJWv/WZXdVxiZquklTT91djWiQ/LD90gaqI=;
 b=Ptz6ktjS4GAEiBtIRvCFetF0+z2Ov0tBeSxwrACo4W6kVOvbFGOEWh5tp7deyvaagr
 s3FeBTx0/0EK+p3veaV6qZTDv09F9aQ0FnjtTk/NzHj8T6CVEB3UNPmDe4Ry4mYHIs/W
 Rx+lPXEQbNkgYvxdbVhjO4LFBtoYvAMH+RyP4ew4RsGSsV5TX0K+uYTRZPPMQ/w5EmzB
 8kbjmYp0a1VZhccrM2Wprmn0Qw8DfE3SLqnSTgBZ1VglFJje1Uc009ETxxMTaEzuw5bI
 PqNSNQMvfwKTN0WdALeTWifJZX+njTfCi289k0mgzu+8YekgztS5KmvdZok09hpParhO
 igqw==
X-Gm-Message-State: AOJu0Yy9sm6CMn/6od//15geYAz7gOztzNWsK8UsIXS34SD8lrjHgQGF
 zHy3vZT1+ch6L7QPOhOx8VselGlkQi9EvYfReC6NvTjcR93AqmV08h1a/CiLDqfKQ77eRznZKHE
 q6I3HVjpIzEz3mO2nCBXjYeuMdG1SMY1MmjteC8ncvGU7vbwKxWl4qp1y
X-Google-Smtp-Source: AGHT+IGjaGhoTvms1ytSYMx1Jp2Io/xCtQL3UtFbAZndGyXS02JYTd9k3RuugKXvyfkXeVvCYfmHOqTKDqO8
X-Received: by 2002:a17:902:cec9:b0:1e2:a325:4ca5 with SMTP id
 d9-20020a170902cec900b001e2a3254ca5mr988342plg.29.1712268431796; 
 Thu, 04 Apr 2024 15:07:11 -0700 (PDT)
Received: from postal.iol.unh.edu (postal.iol.unh.edu.
 [2606:4100:3880:1234::84]) by smtp-relay.gmail.com with ESMTPS id
 je3-20020a170903264300b001e10722d335sm5081plb.52.2024.04.04.15.07.11
 (version=TLS1_2 cipher=ECDHE-ECDSA-AES128-GCM-SHA256 bits=128/128);
 Thu, 04 Apr 2024 15:07:11 -0700 (PDT)
X-Relaying-Domain: iol.unh.edu
Date: Thu, 04 Apr 2024 15:07:11 -0700 (PDT)
Message-ID: <660f248f.170a0220.55b86.0723SMTPIN_ADDED_MISSING@mx.google.com>
Received: from [172.21.0.6] (unknown [172.18.0.240])
 by postal.iol.unh.edu (Postfix) with ESMTP id 032676052471;
 Thu,  4 Apr 2024 18:07:11 -0400 (EDT)
Subject: |SUCCESS| pw139101-139102 [PATCH] [v3,2/2] test: add functional test
From: dpdklab@iol.unh.edu
To: Test Report <test-report@dpdk.org>
Cc: dpdk-test-reports@iol.unh.edu
In-Reply-To: <20240404162422.61510-3-stephen@networkplumber.org>
References: <20240404162422.61510-3-stephen@networkplumber.org>
Content-Type: text/plain
X-BeenThere: test-report@dpdk.org
X-Mailman-Version: 2.1.29
Precedence: list
List-Id: automatic DPDK test reports <test-report.dpdk.org>
List-Unsubscribe: <https://mails.dpdk.org/options/test-report>,
 <mailto:test-report-request@dpdk.org?subject=unsubscribe>
List-Archive: <http://mails.dpdk.org/archives/test-report/>
List-Post: <mailto:test-report@dpdk.org>
List-Help: <mailto:test-report-request@dpdk.org?subject=help>
List-Subscribe: <https://mails.dpdk.org/listinfo/test-report>,
 <mailto:test-report-request@dpdk.org?subject=subscribe>
Errors-To: test-report-bounces@dpdk.org

Test-Label: iol-unit-amd64-testing
Test-Status: SUCCESS
http://dpdk.org/patch/139102

_Testing PASS_

Submitter: Stephen Hemminger <stephen@networkplumber.org>
Date: Thursday, April 04 2024 16:22:14 
DPDK git baseline: Repo:dpdk
  Branch: master
  CommitID:e2e546ab5bf5e024986ccb5310ab43982f3bb40c

139101-139102 --> testing pass

Test environment and result as below:

+---------------------+----------------+
|     Environment     | dpdk_unit_test |
+=====================+================+
| CentOS Stream 8     | PASS           |
+---------------------+----------------+
| Debian Bullseye     | PASS           |
+---------------------+----------------+
| CentOS Stream 9     | PASS           |
+---------------------+----------------+
| Debian 12           | PASS           |
+---------------------+----------------+
| Fedora 38           | PASS           |
+---------------------+----------------+
| Fedora 37           | PASS           |
+---------------------+----------------+
| Windows Server 2019 | PASS           |
+---------------------+----------------+
| RHEL8               | PASS           |
+---------------------+----------------+
| Fedora 39           | PASS           |
+---------------------+----------------+
| openSUSE Leap 15    | PASS           |
+---------------------+----------------+
| Ubuntu 20.04        | PASS           |
+---------------------+----------------+
| Ubuntu 22.04        | PASS           |
+---------------------+----------------+
| Windows Server 2022 | PASS           |
+---------------------+----------------+


CentOS Stream 8
	Kernel: 5.4.0-167-generic
	Compiler: gcc 8.5.0 20210514

Debian Bullseye
	Kernel: 5.4.0-167-generic
	Compiler: gcc 10.2.1-6

CentOS Stream 9
	Kernel: 5.4.0-167-generic
	Compiler: gcc 11.4.1 20230605

Debian 12
	Kernel: Container Host Kernel
	Compiler: gcc 10.2.1

Fedora 38
	Kernel: Depends on container host
	Compiler: gcc 13.2.1

Fedora 37
	Kernel: Depends on container host system
	Compiler: gcc 12.3.1

Windows Server 2019
	Kernel: 10.0.17763
	Compiler: clang 14.0 and gcc 8.1.0 (MinGW)

RHEL8
	Kernel: 5.4.0-167-generic
	Compiler: gcc 8.5.0 20210514 (Red Hat 8.5.0-20)

Fedora 39
	Kernel: Depends on container host
	Compiler: gcc 13.2.1

openSUSE Leap 15
	Kernel: 5.4.0-167-generic
	Compiler: gcc 7.5.0

Ubuntu 20.04
	Kernel: 5.4.0-167-generic
	Compiler: gcc 9.4.0-1ubuntu1~20.04.1

Ubuntu 22.04
	Kernel: 5.4.0-167-generic
	Compiler: gcc 11.4.0

Windows Server 2022
	Kernel: 10.0.20348.2031
	Compiler: clang 15.0.7, gcc 8.1.0 (MinGW), and MSVC VS 17.9

To view detailed results, visit:
https://lab.dpdk.org/results/dashboard/patchsets/29715/

UNH-IOL DPDK Community Lab

To manage your email subscriptions, visit: 
https://lab.dpdk.org/results/dashboard/preferences/subscriptions/