From mboxrd@z Thu Jan  1 00:00:00 1970
Return-Path: <test-report-bounces@dpdk.org>
Received: from mails.dpdk.org (mails.dpdk.org [217.70.189.124])
	by inbox.dpdk.org (Postfix) with ESMTP id 1F9EE43E03
	for <public@inbox.dpdk.org>; Fri,  5 Apr 2024 00:25:16 +0200 (CEST)
Received: from mails.dpdk.org (localhost [127.0.0.1])
	by mails.dpdk.org (Postfix) with ESMTP id 15C9E406B8;
	Fri,  5 Apr 2024 00:25:16 +0200 (CEST)
Received: from mail-oa1-f100.google.com (mail-oa1-f100.google.com
 [209.85.160.100])
 by mails.dpdk.org (Postfix) with ESMTP id 643174029C
 for <test-report@dpdk.org>; Fri,  5 Apr 2024 00:25:14 +0200 (CEST)
Received: by mail-oa1-f100.google.com with SMTP id
 586e51a60fabf-2228c4c5ac3so876516fac.0
 for <test-report@dpdk.org>; Thu, 04 Apr 2024 15:25:14 -0700 (PDT)
DKIM-Signature: v=1; a=rsa-sha256; c=relaxed/relaxed;
 d=iol.unh.edu; s=unh-iol; t=1712269513; x=1712874313; darn=dpdk.org;
 h=references:in-reply-to:cc:to:from:subject:message-id:date:from:to
 :cc:subject:date:message-id:reply-to;
 bh=j8YkVGEr6zCVoVmjyb3qubSrB964r1J2BEqfPVEbJ6o=;
 b=D72leP5qm0itEkOD3r6CGZuiTWwGIpJYGFJ8poByoHAyU/hTvv0Q5MZdchh6eFfnt3
 hbPf2Yvg5giBl0EJ0aKUsUUko6nWt/pNAx4WVNEBRM7RYue4biRmv/3/hd4O8IKWifny
 OCWpJLkyzIqIYBF8zQANaPspy8v//mY2U43a8=
X-Google-DKIM-Signature: v=1; a=rsa-sha256; c=relaxed/relaxed;
 d=1e100.net; s=20230601; t=1712269513; x=1712874313;
 h=references:in-reply-to:cc:to:from:subject:message-id:date
 :x-gm-message-state:from:to:cc:subject:date:message-id:reply-to;
 bh=j8YkVGEr6zCVoVmjyb3qubSrB964r1J2BEqfPVEbJ6o=;
 b=RwiiQJMXYVcANLluf+oolFifRODSqYOZb742IST4TSX3gk5/YuNUgJN7bzjRdo34tj
 8NNFrgLrEzbPtyH+K27MSr3MGFRoSXjAP/vxwj46cO7b+axa/xccdS4M2J8O2NZRTRiw
 eYDzCWu6S6nwo/zKm9IIoPvzgl4ZuAavwW/10RzIasFss26Rf5QuKdhYY+40kDUmx2By
 3k3Cfzss/uNVrpZDY869SFEAqR3u7a50TuHrsl+0OALcL2K1BlxpQKrF58VA1Osp2bVg
 tM5jcIpg/Al9cWPrIoA18lL4VbzGc7011rdE8bl5SM27XYo0d8oITbHVtoBf3iN+sNm3
 tegA==
X-Gm-Message-State: AOJu0Yz3BMCW3qAp0DfLE3FXnRdIjxG8Jelfvpy5GTWAIXf0s0Kq93va
 zcXnPxDHyvOS2aHRBrYY+9zeSThboWHfV4Fk9RGRjfep/bxS5cbOcOUccCpsdpSnZgZvH3ECi+F
 9+/4wQb+ZydmGaBlcoAUbXoDked5L3GOaFpTDzNeuQgHk2Oqhxte4k2jh
X-Google-Smtp-Source: AGHT+IHq5SAEZBVLWzGCPNfajAkleU9kjW3bERFUPwK6Tmp4SqylXuskPGfZSJ7x8aSpshyITtUR8MDnJVDM
X-Received: by 2002:a05:6871:582a:b0:22e:ccb6:7cb6 with SMTP id
 oj42-20020a056871582a00b0022eccb67cb6mr1019656oac.40.1712269513573; 
 Thu, 04 Apr 2024 15:25:13 -0700 (PDT)
Received: from postal.iol.unh.edu (postal.iol.unh.edu.
 [2606:4100:3880:1234::84]) by smtp-relay.gmail.com with ESMTPS id
 ed26-20020a0568306e9a00b006e8a3c55ef8sm18937otb.0.2024.04.04.15.25.13
 (version=TLS1_2 cipher=ECDHE-ECDSA-AES128-GCM-SHA256 bits=128/128);
 Thu, 04 Apr 2024 15:25:13 -0700 (PDT)
X-Relaying-Domain: iol.unh.edu
Date: Thu, 04 Apr 2024 15:25:13 -0700 (PDT)
Message-ID: <660f28c9.050a0220.182f9.1395SMTPIN_ADDED_MISSING@mx.google.com>
Received: from [172.21.0.7] (unknown [172.18.0.240])
 by postal.iol.unh.edu (Postfix) with ESMTP id 0C86F6052471;
 Thu,  4 Apr 2024 18:25:13 -0400 (EDT)
Subject: |SUCCESS| pw139101-139102 [PATCH] [v3,2/2] test: add functional test
From: dpdklab@iol.unh.edu
To: Test Report <test-report@dpdk.org>
Cc: dpdk-test-reports@iol.unh.edu
In-Reply-To: <20240404162422.61510-3-stephen@networkplumber.org>
References: <20240404162422.61510-3-stephen@networkplumber.org>
Content-Type: text/plain
X-BeenThere: test-report@dpdk.org
X-Mailman-Version: 2.1.29
Precedence: list
List-Id: automatic DPDK test reports <test-report.dpdk.org>
List-Unsubscribe: <https://mails.dpdk.org/options/test-report>,
 <mailto:test-report-request@dpdk.org?subject=unsubscribe>
List-Archive: <http://mails.dpdk.org/archives/test-report/>
List-Post: <mailto:test-report@dpdk.org>
List-Help: <mailto:test-report-request@dpdk.org?subject=help>
List-Subscribe: <https://mails.dpdk.org/listinfo/test-report>,
 <mailto:test-report-request@dpdk.org?subject=subscribe>
Errors-To: test-report-bounces@dpdk.org

Test-Label: iol-unit-arm64-testing
Test-Status: SUCCESS
http://dpdk.org/patch/139102

_Testing PASS_

Submitter: Stephen Hemminger <stephen@networkplumber.org>
Date: Thursday, April 04 2024 16:22:14 
DPDK git baseline: Repo:dpdk
  Branch: master
  CommitID:e2e546ab5bf5e024986ccb5310ab43982f3bb40c

139101-139102 --> testing pass

Test environment and result as below:

+-----------------------------+----------------+--------------+
|         Environment         | dpdk_unit_test | lpm_autotest |
+=============================+================+==============+
| 32-bit Ubuntu 20.04.4 (ARM) | PASS           | SKIPPED      |
+-----------------------------+----------------+--------------+
| Debian 11 (Buster) (ARM)    | PASS           | SKIPPED      |
+-----------------------------+----------------+--------------+
| Ubuntu 20.04 ARM SVE        | SKIPPED        | PASS         |
+-----------------------------+----------------+--------------+


32-bit Ubuntu 20.04.4 (ARM)
	Kernel: 5.4.0-155-generic aarch64
	Compiler: gcc 9.4

Debian 11 (Buster) (ARM)
	Kernel: Container Host Kernel
	Compiler: gcc 10.2.1

Ubuntu 20.04 ARM SVE
	Kernel: 5.4.0-167-generic
	Compiler: gcc (Ubuntu 10.5.0-1ubuntu1~20.04) 10.5.0

To view detailed results, visit:
https://lab.dpdk.org/results/dashboard/patchsets/29715/

UNH-IOL DPDK Community Lab

To manage your email subscriptions, visit: 
https://lab.dpdk.org/results/dashboard/preferences/subscriptions/