From mboxrd@z Thu Jan  1 00:00:00 1970
Return-Path: <test-report-bounces@dpdk.org>
Received: from mails.dpdk.org (mails.dpdk.org [217.70.189.124])
	by inbox.dpdk.org (Postfix) with ESMTP id 3548B43E03
	for <public@inbox.dpdk.org>; Fri,  5 Apr 2024 00:30:45 +0200 (CEST)
Received: from mails.dpdk.org (localhost [127.0.0.1])
	by mails.dpdk.org (Postfix) with ESMTP id 2EB0B40A67;
	Fri,  5 Apr 2024 00:30:45 +0200 (CEST)
Received: from mail-il1-f228.google.com (mail-il1-f228.google.com
 [209.85.166.228])
 by mails.dpdk.org (Postfix) with ESMTP id 1AA5940284
 for <test-report@dpdk.org>; Fri,  5 Apr 2024 00:30:43 +0200 (CEST)
Received: by mail-il1-f228.google.com with SMTP id
 e9e14a558f8ab-36a0cc66deeso834495ab.0
 for <test-report@dpdk.org>; Thu, 04 Apr 2024 15:30:43 -0700 (PDT)
DKIM-Signature: v=1; a=rsa-sha256; c=relaxed/relaxed;
 d=iol.unh.edu; s=unh-iol; t=1712269842; x=1712874642; darn=dpdk.org;
 h=references:in-reply-to:cc:to:from:subject:message-id:date:from:to
 :cc:subject:date:message-id:reply-to;
 bh=wTefpeLoxfY3ZaJSoAtlNyxZTFCLUESi5hwRzX8MSCM=;
 b=e2yF4n/NdphTy9BdtZ7Kw9aEKW3O/0EerRkWPV9cziIX7o+DnNo5kpIgUP3g5ApCQx
 ZI79RdJA/hXVkKuJ2Th2bQa/WW61b5qLLKLoqVv8WIfFHwMBx7+3DaBwdUA1EYZQqYtG
 kPZSRIQ5fbM1TfsT32CPITFUJv2s+6jNYtK+c=
X-Google-DKIM-Signature: v=1; a=rsa-sha256; c=relaxed/relaxed;
 d=1e100.net; s=20230601; t=1712269842; x=1712874642;
 h=references:in-reply-to:cc:to:from:subject:message-id:date
 :x-gm-message-state:from:to:cc:subject:date:message-id:reply-to;
 bh=wTefpeLoxfY3ZaJSoAtlNyxZTFCLUESi5hwRzX8MSCM=;
 b=cN71OdXchHIYKlRraT0C/6nPgp0Ilo7IgfuWbwGWG1an2vs9YyIgqPnhthTxFWxERQ
 2mclwuH9vsCJh8sEZcKxSeuH8K9g6GDaHVKYI6Tu24thkNNlzkLPIWLLHsVUjwaioBWJ
 w7D8pZWEgYMSY0CAiaiZBW++fHxjq87amB/phtx8dlULu9OQM4jmvAVZkRX+Y3+8jXNB
 n8AGH4VziE05H8B64hvCIbCh9uLUVtKRnsUsG1a/V3S0L2GeutoG4YRS6iLgY5qUeW5V
 dM/pxJuH+Z4QnQX3EstpqwVQx1L6IKCsiUVfXBfLTVsFN8lxLx3pIhRBiHMTa1mDghu8
 x7KQ==
X-Gm-Message-State: AOJu0YzpYhFz+eKP65B/wBwVoQpBDjmf0TfER+D05PlWf6DJjzewTPy3
 gcYdzTEQFxmXDA4YLiJ85d69NQEsgRdN1+K1LramqrWsfYdOEnmSQI590vuSUoAR/xh05TCc0Xa
 0q6kSqBQmlQ9skARVSXibkv5HeoiOIeXYTnwdLiEK
X-Google-Smtp-Source: AGHT+IHDCNmJbFoNkDc3tbk3WDB5LPg8sFjkMMo3XIRyibRmWjwwTu5Np4sQ0GtOo6Ys9+IXqN61ZWZFhdOs
X-Received: by 2002:a05:6e02:18c5:b0:369:f750:5bfc with SMTP id
 s5-20020a056e0218c500b00369f7505bfcmr4802093ilu.22.1712269842491; 
 Thu, 04 Apr 2024 15:30:42 -0700 (PDT)
Received: from postal.iol.unh.edu (postal.iol.unh.edu. [132.177.123.84])
 by smtp-relay.gmail.com with ESMTPS id
 z2-20020a056638318200b004773c3ca54asm18498jak.40.2024.04.04.15.30.42
 (version=TLS1_2 cipher=ECDHE-ECDSA-AES128-GCM-SHA256 bits=128/128);
 Thu, 04 Apr 2024 15:30:42 -0700 (PDT)
X-Relaying-Domain: iol.unh.edu
Date: Thu, 04 Apr 2024 15:30:42 -0700 (PDT)
Message-ID: <660f2a12.050a0220.fc4d4.1232SMTPIN_ADDED_MISSING@mx.google.com>
Received: from [172.21.0.6] (unknown [172.18.0.240])
 by postal.iol.unh.edu (Postfix) with ESMTP id F36066052471;
 Thu,  4 Apr 2024 18:30:40 -0400 (EDT)
Subject: |SUCCESS| pw139101-139102 [PATCH] [v3,2/2] test: add functional test
From: dpdklab@iol.unh.edu
To: Test Report <test-report@dpdk.org>
Cc: dpdk-test-reports@iol.unh.edu
In-Reply-To: <20240404162422.61510-3-stephen@networkplumber.org>
References: <20240404162422.61510-3-stephen@networkplumber.org>
Content-Type: text/plain
X-BeenThere: test-report@dpdk.org
X-Mailman-Version: 2.1.29
Precedence: list
List-Id: automatic DPDK test reports <test-report.dpdk.org>
List-Unsubscribe: <https://mails.dpdk.org/options/test-report>,
 <mailto:test-report-request@dpdk.org?subject=unsubscribe>
List-Archive: <http://mails.dpdk.org/archives/test-report/>
List-Post: <mailto:test-report@dpdk.org>
List-Help: <mailto:test-report-request@dpdk.org?subject=help>
List-Subscribe: <https://mails.dpdk.org/listinfo/test-report>,
 <mailto:test-report-request@dpdk.org?subject=subscribe>
Errors-To: test-report-bounces@dpdk.org

Test-Label: iol-unit-arm64-testing
Test-Status: SUCCESS
http://dpdk.org/patch/139102

_Testing PASS_

Submitter: Stephen Hemminger <stephen@networkplumber.org>
Date: Thursday, April 04 2024 16:22:14 
DPDK git baseline: Repo:dpdk
  Branch: master
  CommitID:e2e546ab5bf5e024986ccb5310ab43982f3bb40c

139101-139102 --> testing pass

Test environment and result as below:

+-----------------------------+----------------+--------------+------------------------------+
|         Environment         | dpdk_unit_test | lpm_autotest | cryptodev_sw_snow3g_autotest |
+=============================+================+==============+==============================+
| 32-bit Ubuntu 20.04.4 (ARM) | PASS           | SKIPPED      | SKIPPED                      |
+-----------------------------+----------------+--------------+------------------------------+
| Debian 11 (Buster) (ARM)    | PASS           | SKIPPED      | SKIPPED                      |
+-----------------------------+----------------+--------------+------------------------------+
| Ubuntu 20.04 ARM SVE        | SKIPPED        | PASS         | SKIPPED                      |
+-----------------------------+----------------+--------------+------------------------------+
| Debian 12 (arm)             | SKIPPED        | SKIPPED      | PASS                         |
+-----------------------------+----------------+--------------+------------------------------+


32-bit Ubuntu 20.04.4 (ARM)
	Kernel: 5.4.0-155-generic aarch64
	Compiler: gcc 9.4

Debian 11 (Buster) (ARM)
	Kernel: Container Host Kernel
	Compiler: gcc 10.2.1

Ubuntu 20.04 ARM SVE
	Kernel: 5.4.0-167-generic
	Compiler: gcc (Ubuntu 10.5.0-1ubuntu1~20.04) 10.5.0

Debian 12 (arm)
	Kernel: Container Host Kernel
	Compiler: gcc 12.2.0

To view detailed results, visit:
https://lab.dpdk.org/results/dashboard/patchsets/29715/

UNH-IOL DPDK Community Lab

To manage your email subscriptions, visit: 
https://lab.dpdk.org/results/dashboard/preferences/subscriptions/