From mboxrd@z Thu Jan  1 00:00:00 1970
Return-Path: <test-report-bounces@dpdk.org>
Received: from mails.dpdk.org (mails.dpdk.org [217.70.189.124])
	by inbox.dpdk.org (Postfix) with ESMTP id B182443E03
	for <public@inbox.dpdk.org>; Fri,  5 Apr 2024 00:47:47 +0200 (CEST)
Received: from mails.dpdk.org (localhost [127.0.0.1])
	by mails.dpdk.org (Postfix) with ESMTP id AC9854029C;
	Fri,  5 Apr 2024 00:47:47 +0200 (CEST)
Received: from mail-qv1-f97.google.com (mail-qv1-f97.google.com
 [209.85.219.97]) by mails.dpdk.org (Postfix) with ESMTP id 17FEC40284
 for <test-report@dpdk.org>; Fri,  5 Apr 2024 00:47:47 +0200 (CEST)
Received: by mail-qv1-f97.google.com with SMTP id
 6a1803df08f44-6962a97752eso10194336d6.2
 for <test-report@dpdk.org>; Thu, 04 Apr 2024 15:47:47 -0700 (PDT)
DKIM-Signature: v=1; a=rsa-sha256; c=relaxed/relaxed;
 d=iol.unh.edu; s=unh-iol; t=1712270866; x=1712875666; darn=dpdk.org;
 h=references:in-reply-to:cc:to:from:subject:message-id:date:from:to
 :cc:subject:date:message-id:reply-to;
 bh=34VQOrW6ddFgLrPBBsvLRdDqnhu35D16fIylrqeGUso=;
 b=BJOnji3n387pssvN7/JG7ymqgS+LA7JSdUiNarvO2eHuJ/CvHsYwlHd1bUYcIVIftW
 bKBsbPCz4w0Fs6lqwp1Tt6txdcUNB/5fWvrg//RwJaeLo+o6HtL7XCIbNGv8zIB/4WJn
 /dgtV+gs9rOyegNsXD2wDEUnu3m03y+9mi0nA=
X-Google-DKIM-Signature: v=1; a=rsa-sha256; c=relaxed/relaxed;
 d=1e100.net; s=20230601; t=1712270866; x=1712875666;
 h=references:in-reply-to:cc:to:from:subject:message-id:date
 :x-gm-message-state:from:to:cc:subject:date:message-id:reply-to;
 bh=34VQOrW6ddFgLrPBBsvLRdDqnhu35D16fIylrqeGUso=;
 b=KjAZHLgraEhLX4HSUfCRVH2FB3x0heDRFWfMIlJb35Fx+Ay1dzwoyShySUC8i+kUIS
 /QhVS2urbOxcbKSEAEvIDy+XEifxWgA/jGscVsvnac6TQhzrU2ROXI7wY6XBXdsphyJO
 YFukeG1n7PS5sB1mQEGs613n1/jM0dOzUjkYEempvc/1GkOH8sHFnWArkNfg5X2qdO+Y
 OkVmJsOe7cNV9yVTFvVfcue07omnAKKwfN+HWi9AWCyeWJtv3BrOLtxQ4eViUg49C5vP
 iyU8T233+B5ho9Xy8SlH4ovWSwxv9vyBCXsy871UMvkimiXx1NTorIamaBv2F9EMAt1d
 IBWQ==
X-Gm-Message-State: AOJu0Yy0g4/+ILNoeKbNhWP7UqpKFq8xFc0S2Iep7GmdGUbvegcyTnwp
 nBoFG/DUgF3aC7ZHZtcqSE6cANlGGruSN9gOm0TdNyWckFLWr7Ka/L8JwT18D3cfsvj6B/e/jKE
 OuWDF73Uzmre5VG5xKSmopRE1/xRI3iZdmVfgrsZjkQLCivS5btOJrlJG
X-Google-Smtp-Source: AGHT+IGh4/LOpgt82+11q3DQAjbCuUBSF65nIdDKREPrd8TFXC4cQS1M+iOOBAPQ060ftjKBUUpV1Ghs2qXu
X-Received: by 2002:a05:6214:21ad:b0:698:6fbd:b164 with SMTP id
 t13-20020a05621421ad00b006986fbdb164mr1181370qvc.4.1712270866515; 
 Thu, 04 Apr 2024 15:47:46 -0700 (PDT)
Received: from postal.iol.unh.edu (postal.iol.unh.edu.
 [2606:4100:3880:1234::84]) by smtp-relay.gmail.com with ESMTPS id
 o5-20020ad45c85000000b0069903f9ec5fsm17605qvh.50.2024.04.04.15.47.46
 (version=TLS1_2 cipher=ECDHE-ECDSA-AES128-GCM-SHA256 bits=128/128);
 Thu, 04 Apr 2024 15:47:46 -0700 (PDT)
X-Relaying-Domain: iol.unh.edu
Date: Thu, 04 Apr 2024 15:47:46 -0700 (PDT)
Message-ID: <660f2e12.d40a0220.3abe6.148aSMTPIN_ADDED_MISSING@mx.google.com>
Received: from [172.17.0.6] (unknown [172.18.0.217])
 by postal.iol.unh.edu (Postfix) with ESMTP id 36C4D6052471;
 Thu,  4 Apr 2024 18:47:46 -0400 (EDT)
Subject: |SUCCESS| pw139111-139112 [PATCH] [v1,3/3] test/bbdev: update for qu
From: dpdklab@iol.unh.edu
To: Test Report <test-report@dpdk.org>
Cc: dpdk-test-reports@iol.unh.edu
In-Reply-To: <20240404210447.1915517-4-nicolas.chautru@intel.com>
References: <20240404210447.1915517-4-nicolas.chautru@intel.com>
Content-Type: text/plain
X-BeenThere: test-report@dpdk.org
X-Mailman-Version: 2.1.29
Precedence: list
List-Id: automatic DPDK test reports <test-report.dpdk.org>
List-Unsubscribe: <https://mails.dpdk.org/options/test-report>,
 <mailto:test-report-request@dpdk.org?subject=unsubscribe>
List-Archive: <http://mails.dpdk.org/archives/test-report/>
List-Post: <mailto:test-report@dpdk.org>
List-Help: <mailto:test-report-request@dpdk.org?subject=help>
List-Subscribe: <https://mails.dpdk.org/listinfo/test-report>,
 <mailto:test-report-request@dpdk.org?subject=subscribe>
Errors-To: test-report-bounces@dpdk.org

Test-Label: iol-compile-arm64-testing
Test-Status: SUCCESS
http://dpdk.org/patch/139112

_Testing PASS_

Submitter: Nicolas Chautru <nicolas.chautru@intel.com>
Date: Thursday, April 04 2024 21:04:47 
DPDK git baseline: Repo:dpdk
  Branch: master
  CommitID:98b4ecb4e4d73e93fdfa53f552b48d71104b445f

139111-139112 --> testing pass

Test environment and result as below:

+----------------------------------------+--------------------+
|              Environment               | dpdk_meson_compile |
+========================================+====================+
| Ubuntu 20.04 ARM SVE                   | PASS               |
+----------------------------------------+--------------------+
| Ubuntu 20.04 aarch32 GCC Cross Compile | PASS               |
+----------------------------------------+--------------------+
| Debian 12 with MUSDK                   | PASS               |
+----------------------------------------+--------------------+
| Ubuntu 20.04 ARM Clang Cross Compile   | PASS               |
+----------------------------------------+--------------------+
| Ubuntu 20.04 ARM GCC Cross Compile     | PASS               |
+----------------------------------------+--------------------+


Ubuntu 20.04 ARM SVE
	Kernel: 5.4.0-167-generic
	Compiler: gcc (Ubuntu 10.5.0-1ubuntu1~20.04) 10.5.0

Ubuntu 20.04 aarch32 GCC Cross Compile
	Kernel: 5.4.0-167-generic
	Compiler: gcc 9.4.0

Debian 12 with MUSDK
	Kernel: Container Host Kernel
	Compiler: gcc 12.2.0

Ubuntu 20.04 ARM Clang Cross Compile
	Kernel: 5.4.0-72-generic
	Compiler: clang 10.0.0-4ubuntu1

Ubuntu 20.04 ARM GCC Cross Compile
	Kernel: 5.4.0-167-generic
	Compiler: aarch64-linux-gnu-gcc (Ubuntu 9.4.0-1ubuntu1~20.04.2) 9.4.0

To view detailed results, visit:
https://lab.dpdk.org/results/dashboard/patchsets/29718/

UNH-IOL DPDK Community Lab

To manage your email subscriptions, visit: 
https://lab.dpdk.org/results/dashboard/preferences/subscriptions/