From mboxrd@z Thu Jan  1 00:00:00 1970
Return-Path: <test-report-bounces@dpdk.org>
Received: from mails.dpdk.org (mails.dpdk.org [217.70.189.124])
	by inbox.dpdk.org (Postfix) with ESMTP id 9E0E743E03
	for <public@inbox.dpdk.org>; Fri,  5 Apr 2024 01:41:56 +0200 (CEST)
Received: from mails.dpdk.org (localhost [127.0.0.1])
	by mails.dpdk.org (Postfix) with ESMTP id 86CC340284;
	Fri,  5 Apr 2024 01:41:56 +0200 (CEST)
Received: from mail-io1-f97.google.com (mail-io1-f97.google.com
 [209.85.166.97]) by mails.dpdk.org (Postfix) with ESMTP id 9200D4027E
 for <test-report@dpdk.org>; Fri,  5 Apr 2024 01:41:55 +0200 (CEST)
Received: by mail-io1-f97.google.com with SMTP id
 ca18e2360f4ac-7cc77e74b5cso69388239f.2
 for <test-report@dpdk.org>; Thu, 04 Apr 2024 16:41:55 -0700 (PDT)
DKIM-Signature: v=1; a=rsa-sha256; c=relaxed/relaxed;
 d=iol.unh.edu; s=unh-iol; t=1712274115; x=1712878915; darn=dpdk.org;
 h=references:in-reply-to:cc:to:from:subject:message-id:date:from:to
 :cc:subject:date:message-id:reply-to;
 bh=YAf0BGaCUYdSx4OcRhBt3g5cm+48rItU4WpxadShLU4=;
 b=gV4JImW8iv19w7y5Mawm59jlDjFachf70Hy/4c2awry2yCc3glCRNEnLoZm4CnVvS7
 I/e5kN9ggR1WXPuJDCjf6IhXkiIfI00n9CqKHyyDT8E9CGWaEcOCNjOwW7ZJMMnkCQQg
 DXPpurbm6LXbmg1fCnqUOLgvClgzAyRy0Uafw=
X-Google-DKIM-Signature: v=1; a=rsa-sha256; c=relaxed/relaxed;
 d=1e100.net; s=20230601; t=1712274115; x=1712878915;
 h=references:in-reply-to:cc:to:from:subject:message-id:date
 :x-gm-message-state:from:to:cc:subject:date:message-id:reply-to;
 bh=YAf0BGaCUYdSx4OcRhBt3g5cm+48rItU4WpxadShLU4=;
 b=H20n0uLPAw9PPwGx5XFkxw/DTRVFCDTWt+0AWYC+uN4oNLwyVAjy0Wd263+/1DzXEs
 A9fad9spqwG3Ks6vHab4W4LHOg7QkoBst5SmqmBDyu4gCgZWAuCYmqoqG+DXTcVID967
 5Ml0qvKFDcFujl11Np6is2dUHs4wb2KeP1ETVJy9zoS5gpAO6YzHPHKHx+sTQx8xfFeV
 whoeLf+8Xyd2jll4+Y+aX/0ovxQ3Ga2bQKR3em7vvcB7UQbYmEIApNEqQu8kD2KRs9T/
 uJSMEAf15IV6vN6YZKj5S4Fk0JeKoO/Gv9bwsnpizQ9wlzpI7eroI7LJhPqEXstJKoXS
 YMCg==
X-Gm-Message-State: AOJu0YwCE60jBZ1YyWPvW8dcNvz29iaYBJdoBJXSYllAAdBArGzJ/xQr
 uNdl4RL+96xp0cavCQH0Wv1l/+t0rTGPwDOYt8pETbvM5mTYXZ2n07iVLKWKygPUwE6RR9UVwaw
 LjBxUKhiKZhAy/OjUgu+Ov/00aeUbWkcEkqKv3b1S
X-Google-Smtp-Source: AGHT+IGZQYWgvI2ccd+YnebzdKyo2w7UMROr/ZP54b0zaNS5y9F6GwXaQXIIc22eOUEH//2GqwWqrBVM50OH
X-Received: by 2002:a5e:8818:0:b0:7d3:4343:bb79 with SMTP id
 l24-20020a5e8818000000b007d34343bb79mr4900122ioj.11.1712274114953; 
 Thu, 04 Apr 2024 16:41:54 -0700 (PDT)
Received: from postal.iol.unh.edu (postal.iol.unh.edu. [132.177.123.84])
 by smtp-relay.gmail.com with ESMTPS id
 bg14-20020a0566383c4e00b004773214dd0asm22273jab.19.2024.04.04.16.41.54
 (version=TLS1_2 cipher=ECDHE-ECDSA-AES128-GCM-SHA256 bits=128/128);
 Thu, 04 Apr 2024 16:41:54 -0700 (PDT)
X-Relaying-Domain: iol.unh.edu
Date: Thu, 04 Apr 2024 16:41:54 -0700 (PDT)
Message-ID: <660f3ac2.050a0220.a0bd3.25dcSMTPIN_ADDED_MISSING@mx.google.com>
Received: from [172.17.0.6] (unknown [172.18.0.217])
 by postal.iol.unh.edu (Postfix) with ESMTP id 6784E6052471;
 Thu,  4 Apr 2024 19:41:54 -0400 (EDT)
Subject: |SUCCESS| pw139101-139102 [PATCH] [v3,2/2] test: add functional test
From: dpdklab@iol.unh.edu
To: Test Report <test-report@dpdk.org>
Cc: dpdk-test-reports@iol.unh.edu
In-Reply-To: <20240404162422.61510-3-stephen@networkplumber.org>
References: <20240404162422.61510-3-stephen@networkplumber.org>
Content-Type: text/plain
X-BeenThere: test-report@dpdk.org
X-Mailman-Version: 2.1.29
Precedence: list
List-Id: automatic DPDK test reports <test-report.dpdk.org>
List-Unsubscribe: <https://mails.dpdk.org/options/test-report>,
 <mailto:test-report-request@dpdk.org?subject=unsubscribe>
List-Archive: <http://mails.dpdk.org/archives/test-report/>
List-Post: <mailto:test-report@dpdk.org>
List-Help: <mailto:test-report-request@dpdk.org?subject=help>
List-Subscribe: <https://mails.dpdk.org/listinfo/test-report>,
 <mailto:test-report-request@dpdk.org?subject=subscribe>
Errors-To: test-report-bounces@dpdk.org

Test-Label: iol-unit-arm64-testing
Test-Status: SUCCESS
http://dpdk.org/patch/139102

_Testing PASS_

Submitter: Stephen Hemminger <stephen@networkplumber.org>
Date: Thursday, April 04 2024 16:22:14 
DPDK git baseline: Repo:dpdk
  Branch: master
  CommitID:e2e546ab5bf5e024986ccb5310ab43982f3bb40c

139101-139102 --> testing pass

Test environment and result as below:

+-----------------------------+----------------+--------------+------------------------------+---------------------------+
|         Environment         | dpdk_unit_test | lpm_autotest | cryptodev_sw_snow3g_autotest | cryptodev_sw_zuc_autotest |
+=============================+================+==============+==============================+===========================+
| 32-bit Ubuntu 20.04.4 (ARM) | PASS           | SKIPPED      | SKIPPED                      | SKIPPED                   |
+-----------------------------+----------------+--------------+------------------------------+---------------------------+
| Debian 11 (Buster) (ARM)    | PASS           | SKIPPED      | SKIPPED                      | SKIPPED                   |
+-----------------------------+----------------+--------------+------------------------------+---------------------------+
| Debian 12 (arm)             | PASS           | SKIPPED      | PASS                         | PASS                      |
+-----------------------------+----------------+--------------+------------------------------+---------------------------+
| Fedora 37 (ARM)             | PASS           | SKIPPED      | SKIPPED                      | SKIPPED                   |
+-----------------------------+----------------+--------------+------------------------------+---------------------------+
| CentOS Stream 9 (ARM)       | PASS           | SKIPPED      | SKIPPED                      | SKIPPED                   |
+-----------------------------+----------------+--------------+------------------------------+---------------------------+
| Fedora 38 (ARM Clang)       | PASS           | SKIPPED      | SKIPPED                      | SKIPPED                   |
+-----------------------------+----------------+--------------+------------------------------+---------------------------+
| Fedora 38 (ARM)             | PASS           | SKIPPED      | SKIPPED                      | SKIPPED                   |
+-----------------------------+----------------+--------------+------------------------------+---------------------------+
| Ubuntu 20.04 (ARM)          | PASS           | SKIPPED      | SKIPPED                      | SKIPPED                   |
+-----------------------------+----------------+--------------+------------------------------+---------------------------+
| Ubuntu 20.04 ARM SVE        | SKIPPED        | PASS         | SKIPPED                      | SKIPPED                   |
+-----------------------------+----------------+--------------+------------------------------+---------------------------+


32-bit Ubuntu 20.04.4 (ARM)
	Kernel: 5.4.0-155-generic aarch64
	Compiler: gcc 9.4

Debian 11 (Buster) (ARM)
	Kernel: Container Host Kernel
	Compiler: gcc 10.2.1

Debian 12 (arm)
	Kernel: Container Host Kernel
	Compiler: gcc 12.2.0

Fedora 37 (ARM)
	Kernel: Depends on container host
	Compiler: gcc 12.3.1

CentOS Stream 9 (ARM)
	Kernel: Container Host Kernel
	Compiler: gcc 11.4.1

Fedora 38 (ARM Clang)
	Kernel: Depends on container host
	Compiler: clang 16.0.6

Fedora 38 (ARM)
	Kernel: Depends on container host
	Compiler: gcc 13.2.1

Ubuntu 20.04 (ARM)
	Kernel: Container Host Kernel
	Compiler: gcc 9.4.0

Ubuntu 20.04 ARM SVE
	Kernel: 5.4.0-167-generic
	Compiler: gcc (Ubuntu 10.5.0-1ubuntu1~20.04) 10.5.0

To view detailed results, visit:
https://lab.dpdk.org/results/dashboard/patchsets/29715/

UNH-IOL DPDK Community Lab

To manage your email subscriptions, visit: 
https://lab.dpdk.org/results/dashboard/preferences/subscriptions/