From mboxrd@z Thu Jan  1 00:00:00 1970
Return-Path: <test-report-bounces@dpdk.org>
Received: from mails.dpdk.org (mails.dpdk.org [217.70.189.124])
	by inbox.dpdk.org (Postfix) with ESMTP id 05D6643E03
	for <public@inbox.dpdk.org>; Fri,  5 Apr 2024 01:59:58 +0200 (CEST)
Received: from mails.dpdk.org (localhost [127.0.0.1])
	by mails.dpdk.org (Postfix) with ESMTP id D920D40284;
	Fri,  5 Apr 2024 01:59:58 +0200 (CEST)
Received: from mail-il1-f225.google.com (mail-il1-f225.google.com
 [209.85.166.225])
 by mails.dpdk.org (Postfix) with ESMTP id ABAE14027E
 for <test-report@dpdk.org>; Fri,  5 Apr 2024 01:59:56 +0200 (CEST)
Received: by mail-il1-f225.google.com with SMTP id
 e9e14a558f8ab-368a97b31d1so6900465ab.0
 for <test-report@dpdk.org>; Thu, 04 Apr 2024 16:59:56 -0700 (PDT)
DKIM-Signature: v=1; a=rsa-sha256; c=relaxed/relaxed;
 d=iol.unh.edu; s=unh-iol; t=1712275196; x=1712879996; darn=dpdk.org;
 h=references:in-reply-to:cc:to:from:subject:message-id:date:from:to
 :cc:subject:date:message-id:reply-to;
 bh=ijCSg7trkCZLQYyHYJYhY5J2yaTOYZ6kVIV60yxE2Qw=;
 b=PjiBFElicjCzFMxwUV81Bs/UE30GpBbqwoEMtcZiQ/LOgftL2q5YPYPO5nTgbwFdY7
 iZoYAxB3+s9OxH8hbQHjlXXoa4s8ZCLdzg7F4cIhCUAGGycxAEJkOk6i7luoBDR5LwCR
 I2mqjdjYyvM6QCKyDbu4BByy6cITyCT7X45WY=
X-Google-DKIM-Signature: v=1; a=rsa-sha256; c=relaxed/relaxed;
 d=1e100.net; s=20230601; t=1712275196; x=1712879996;
 h=references:in-reply-to:cc:to:from:subject:message-id:date
 :x-gm-message-state:from:to:cc:subject:date:message-id:reply-to;
 bh=ijCSg7trkCZLQYyHYJYhY5J2yaTOYZ6kVIV60yxE2Qw=;
 b=rc9DWMc8+Sh8sruelVjbBcm2TZYDLvKi8FHU3jmfs5sbFhW2aTsIc5zJrwOXoXDc3m
 YIyN3awMu2EqPiUmDAsI7/+b50DRlURFPFCq4nnRWwhhzGy6z+tO5LouiLascTbIDF2Q
 DGEuiyNLrjlfP1Skq4WM1Cye2vrYYbGhlrcSzWIw/pkEoAk8lbzxlK5aRak6Myv3Hz6Z
 Ft34A3Ik2/zbrMvBaFmaexqMugWQR/Ge1GeI9KaGtJYOjwD76c9WEVbaEDSsQO9papBU
 GYeEi6bVVPdQRtTwioAUj3dmIkYf+9CQE9fp6+Ry5Fy/DQNbDMslQuzCGlcHgSjg2kTv
 AHqA==
X-Gm-Message-State: AOJu0YyG723BAj4BpSpnjt7QvzXn57PIIOjcGr8qvWJscF1G5lFJmGPj
 CctvwBLN04BlODkk9Azl8wiu5KNT3p8zdcPf/WL77vPCvpFCx4pTyNncMoOuWEVfpjGFUEAXlU9
 4HYu/zHrHY+FigT0n8cVhQYt0aMzCxWEIiWR9rJa0
X-Google-Smtp-Source: AGHT+IH4mdLVt+oycORsQ+9sJGFcinETl1aZx6NswXhVS6Si94CfFTzLQjMlMvOoxSLl6x9Qom+AXfZS/CD0
X-Received: by 2002:a05:6e02:1ca8:b0:369:bdb3:4fa8 with SMTP id
 x8-20020a056e021ca800b00369bdb34fa8mr852666ill.9.1712275196033; 
 Thu, 04 Apr 2024 16:59:56 -0700 (PDT)
Received: from postal.iol.unh.edu (postal.iol.unh.edu. [132.177.123.84])
 by smtp-relay.gmail.com with ESMTPS id
 u14-20020a056638134e00b0047f1440892dsm23379jad.44.2024.04.04.16.59.55
 (version=TLS1_2 cipher=ECDHE-ECDSA-AES128-GCM-SHA256 bits=128/128);
 Thu, 04 Apr 2024 16:59:55 -0700 (PDT)
X-Relaying-Domain: iol.unh.edu
Date: Thu, 04 Apr 2024 16:59:55 -0700 (PDT)
Message-ID: <660f3efb.050a0220.66c07.2076SMTPIN_ADDED_MISSING@mx.google.com>
Received: from [172.17.0.6] (unknown [172.18.0.217])
 by postal.iol.unh.edu (Postfix) with ESMTP id 6F9E46052471;
 Thu,  4 Apr 2024 19:59:55 -0400 (EDT)
Subject: |SUCCESS| pw139111-139112 [PATCH] [v1,3/3] test/bbdev: update for qu
From: dpdklab@iol.unh.edu
To: Test Report <test-report@dpdk.org>
Cc: dpdk-test-reports@iol.unh.edu
In-Reply-To: <20240404210447.1915517-4-nicolas.chautru@intel.com>
References: <20240404210447.1915517-4-nicolas.chautru@intel.com>
Content-Type: text/plain
X-BeenThere: test-report@dpdk.org
X-Mailman-Version: 2.1.29
Precedence: list
List-Id: automatic DPDK test reports <test-report.dpdk.org>
List-Unsubscribe: <https://mails.dpdk.org/options/test-report>,
 <mailto:test-report-request@dpdk.org?subject=unsubscribe>
List-Archive: <http://mails.dpdk.org/archives/test-report/>
List-Post: <mailto:test-report@dpdk.org>
List-Help: <mailto:test-report-request@dpdk.org?subject=help>
List-Subscribe: <https://mails.dpdk.org/listinfo/test-report>,
 <mailto:test-report-request@dpdk.org?subject=subscribe>
Errors-To: test-report-bounces@dpdk.org

Test-Label: iol-compile-arm64-testing
Test-Status: SUCCESS
http://dpdk.org/patch/139112

_Testing PASS_

Submitter: Nicolas Chautru <nicolas.chautru@intel.com>
Date: Thursday, April 04 2024 21:04:47 
DPDK git baseline: Repo:dpdk
  Branch: master
  CommitID:98b4ecb4e4d73e93fdfa53f552b48d71104b445f

139111-139112 --> testing pass

Test environment and result as below:

+----------------------------------------+--------------------+
|              Environment               | dpdk_meson_compile |
+========================================+====================+
| Ubuntu 20.04 ARM SVE                   | PASS               |
+----------------------------------------+--------------------+
| Ubuntu 20.04 aarch32 GCC Cross Compile | PASS               |
+----------------------------------------+--------------------+
| Debian 12 with MUSDK                   | PASS               |
+----------------------------------------+--------------------+
| Ubuntu 20.04 ARM Clang Cross Compile   | PASS               |
+----------------------------------------+--------------------+
| Ubuntu 20.04 ARM GCC Cross Compile     | PASS               |
+----------------------------------------+--------------------+
| Fedora 38 (ARM Clang)                  | PASS               |
+----------------------------------------+--------------------+
| Debian 12 (arm)                        | PASS               |
+----------------------------------------+--------------------+


Ubuntu 20.04 ARM SVE
	Kernel: 5.4.0-167-generic
	Compiler: gcc (Ubuntu 10.5.0-1ubuntu1~20.04) 10.5.0

Ubuntu 20.04 aarch32 GCC Cross Compile
	Kernel: 5.4.0-167-generic
	Compiler: gcc 9.4.0

Debian 12 with MUSDK
	Kernel: Container Host Kernel
	Compiler: gcc 12.2.0

Ubuntu 20.04 ARM Clang Cross Compile
	Kernel: 5.4.0-72-generic
	Compiler: clang 10.0.0-4ubuntu1

Ubuntu 20.04 ARM GCC Cross Compile
	Kernel: 5.4.0-167-generic
	Compiler: aarch64-linux-gnu-gcc (Ubuntu 9.4.0-1ubuntu1~20.04.2) 9.4.0

Fedora 38 (ARM Clang)
	Kernel: Depends on container host
	Compiler: clang 16.0.6

Debian 12 (arm)
	Kernel: Container Host Kernel
	Compiler: gcc 12.2.0

To view detailed results, visit:
https://lab.dpdk.org/results/dashboard/patchsets/29718/

UNH-IOL DPDK Community Lab

To manage your email subscriptions, visit: 
https://lab.dpdk.org/results/dashboard/preferences/subscriptions/