From mboxrd@z Thu Jan  1 00:00:00 1970
Return-Path: <test-report-bounces@dpdk.org>
Received: from mails.dpdk.org (mails.dpdk.org [217.70.189.124])
	by inbox.dpdk.org (Postfix) with ESMTP id CA17043E04
	for <public@inbox.dpdk.org>; Fri,  5 Apr 2024 02:10:31 +0200 (CEST)
Received: from mails.dpdk.org (localhost [127.0.0.1])
	by mails.dpdk.org (Postfix) with ESMTP id BEAC140284;
	Fri,  5 Apr 2024 02:10:31 +0200 (CEST)
Received: from mail-qt1-f228.google.com (mail-qt1-f228.google.com
 [209.85.160.228])
 by mails.dpdk.org (Postfix) with ESMTP id 1C7794027E
 for <test-report@dpdk.org>; Fri,  5 Apr 2024 02:10:30 +0200 (CEST)
Received: by mail-qt1-f228.google.com with SMTP id
 d75a77b69052e-43444a599d0so8605641cf.3
 for <test-report@dpdk.org>; Thu, 04 Apr 2024 17:10:30 -0700 (PDT)
DKIM-Signature: v=1; a=rsa-sha256; c=relaxed/relaxed;
 d=iol.unh.edu; s=unh-iol; t=1712275829; x=1712880629; darn=dpdk.org;
 h=references:in-reply-to:cc:to:from:subject:message-id:date:from:to
 :cc:subject:date:message-id:reply-to;
 bh=1L7b1L67iGq2/irvKybmChBPx0Q8aZar/5VuqL1DDXQ=;
 b=a7Szi5EHEaHeqfnLKGUyqHzFxjS++QhDjDUCfhxAm/6CMk8sCL+28kq1u9vITh5gH+
 VpHnjr1YJty+3H3ZxKnNdF5w3n4EjOqrkE7FhGMREoqGFJFByGAoHjtgD4n6Alz2CI6q
 yC/SVfetEddrzWLpcRydcOgJpAJ7pDu/VMQ6g=
X-Google-DKIM-Signature: v=1; a=rsa-sha256; c=relaxed/relaxed;
 d=1e100.net; s=20230601; t=1712275829; x=1712880629;
 h=references:in-reply-to:cc:to:from:subject:message-id:date
 :x-gm-message-state:from:to:cc:subject:date:message-id:reply-to;
 bh=1L7b1L67iGq2/irvKybmChBPx0Q8aZar/5VuqL1DDXQ=;
 b=naBIoVrRkB1cdzBrKrmpBzr3pdtVV6cCDnB52xWkKsllwetT+Ppv9UBRQvQ4Yql0bw
 vYZG4qb2siymT0Wd0raFY5Q/loZWOiM5Nj0vIH9zA8bzOCiN4unOc7JFGu90tT3BRA1n
 I7cawhD2QsO2VTR56KhqHnDRXPNM/4TpFWLjlbtuT2c4YmrUPJiWIFOUOEZQqB6OsusL
 vFm+4UZb7yfVJSktHFdh4ivARfscoFXG9XgC02k/1JYt3OnnngTLTBsAVXU+41g2hY3I
 e55hFSk3WgR3w1hcFr4eiujtUmJlSxmrVfpsq0Xhq9g40tJCLLoZuQ0ul+ua9PGK9luE
 aaXg==
X-Gm-Message-State: AOJu0YyKeLW3qieV5dPAoVmHJdfR74mbFO0U1O7CvdH4U60vhYUHEpn0
 AaQGGqyM08x1oJyeTErSiY+NXAgZp5lTLkrASl/eT9IKSG/QRMwzE3H9UDxacRD8+JB3Tz9yc7/
 gPZKNgZsH0K769c1cEFIFCT1GIxneQqt10n6rhck+rGxc/ppNy1kfIKt4
X-Google-Smtp-Source: AGHT+IFSc/lfrFg3UQmwKTWg0eVErHxb2OVgTkkijwM+JP2GZ4vmYPKD+0I8ud/wwlAjfXyYs3WMxzPcIY67
X-Received: by 2002:ac8:7fca:0:b0:432:d0ba:c04f with SMTP id
 b10-20020ac87fca000000b00432d0bac04fmr4220869qtk.18.1712275829451; 
 Thu, 04 Apr 2024 17:10:29 -0700 (PDT)
Received: from postal.iol.unh.edu (postal.iol.unh.edu.
 [2606:4100:3880:1234::84]) by smtp-relay.gmail.com with ESMTPS id
 e2-20020a05622a110200b00432d2f238c1sm21788qty.17.2024.04.04.17.10.29
 (version=TLS1_2 cipher=ECDHE-ECDSA-AES128-GCM-SHA256 bits=128/128);
 Thu, 04 Apr 2024 17:10:29 -0700 (PDT)
X-Relaying-Domain: iol.unh.edu
Date: Thu, 04 Apr 2024 17:10:29 -0700 (PDT)
Message-ID: <660f4175.050a0220.cdbe3.220aSMTPIN_ADDED_MISSING@mx.google.com>
Received: from [172.17.0.6] (unknown [172.18.0.217])
 by postal.iol.unh.edu (Postfix) with ESMTP id 202296052471;
 Thu,  4 Apr 2024 20:10:29 -0400 (EDT)
Subject: |SUCCESS| pw139111-139112 [PATCH] [v1,3/3] test/bbdev: update for qu
From: dpdklab@iol.unh.edu
To: Test Report <test-report@dpdk.org>
Cc: dpdk-test-reports@iol.unh.edu
In-Reply-To: <20240404210447.1915517-4-nicolas.chautru@intel.com>
References: <20240404210447.1915517-4-nicolas.chautru@intel.com>
Content-Type: text/plain
X-BeenThere: test-report@dpdk.org
X-Mailman-Version: 2.1.29
Precedence: list
List-Id: automatic DPDK test reports <test-report.dpdk.org>
List-Unsubscribe: <https://mails.dpdk.org/options/test-report>,
 <mailto:test-report-request@dpdk.org?subject=unsubscribe>
List-Archive: <http://mails.dpdk.org/archives/test-report/>
List-Post: <mailto:test-report@dpdk.org>
List-Help: <mailto:test-report-request@dpdk.org?subject=help>
List-Subscribe: <https://mails.dpdk.org/listinfo/test-report>,
 <mailto:test-report-request@dpdk.org?subject=subscribe>
Errors-To: test-report-bounces@dpdk.org

Test-Label: iol-compile-arm64-testing
Test-Status: SUCCESS
http://dpdk.org/patch/139112

_Testing PASS_

Submitter: Nicolas Chautru <nicolas.chautru@intel.com>
Date: Thursday, April 04 2024 21:04:47 
DPDK git baseline: Repo:dpdk
  Branch: master
  CommitID:98b4ecb4e4d73e93fdfa53f552b48d71104b445f

139111-139112 --> testing pass

Test environment and result as below:

+----------------------------------------+--------------------+
|              Environment               | dpdk_meson_compile |
+========================================+====================+
| Ubuntu 20.04 ARM SVE                   | PASS               |
+----------------------------------------+--------------------+
| Ubuntu 20.04 aarch32 GCC Cross Compile | PASS               |
+----------------------------------------+--------------------+
| Debian 12 with MUSDK                   | PASS               |
+----------------------------------------+--------------------+
| Ubuntu 20.04 ARM Clang Cross Compile   | PASS               |
+----------------------------------------+--------------------+
| Ubuntu 20.04 ARM GCC Cross Compile     | PASS               |
+----------------------------------------+--------------------+
| Fedora 38 (ARM Clang)                  | PASS               |
+----------------------------------------+--------------------+
| Debian 12 (arm)                        | PASS               |
+----------------------------------------+--------------------+
| Fedora 39 (ARM Clang)                  | PASS               |
+----------------------------------------+--------------------+
| Debian 11 (Buster) (ARM)               | PASS               |
+----------------------------------------+--------------------+
| Ubuntu 20.04 (ARM)                     | PASS               |
+----------------------------------------+--------------------+


Ubuntu 20.04 ARM SVE
	Kernel: 5.4.0-167-generic
	Compiler: gcc (Ubuntu 10.5.0-1ubuntu1~20.04) 10.5.0

Ubuntu 20.04 aarch32 GCC Cross Compile
	Kernel: 5.4.0-167-generic
	Compiler: gcc 9.4.0

Debian 12 with MUSDK
	Kernel: Container Host Kernel
	Compiler: gcc 12.2.0

Ubuntu 20.04 ARM Clang Cross Compile
	Kernel: 5.4.0-72-generic
	Compiler: clang 10.0.0-4ubuntu1

Ubuntu 20.04 ARM GCC Cross Compile
	Kernel: 5.4.0-167-generic
	Compiler: aarch64-linux-gnu-gcc (Ubuntu 9.4.0-1ubuntu1~20.04.2) 9.4.0

Fedora 38 (ARM Clang)
	Kernel: Depends on container host
	Compiler: clang 16.0.6

Debian 12 (arm)
	Kernel: Container Host Kernel
	Compiler: gcc 12.2.0

Fedora 39 (ARM Clang)
	Kernel: Depends on container host
	Compiler: clang 17.0.6

Debian 11 (Buster) (ARM)
	Kernel: Container Host Kernel
	Compiler: gcc 10.2.1

Ubuntu 20.04 (ARM)
	Kernel: Container Host Kernel
	Compiler: gcc 9.4.0

To view detailed results, visit:
https://lab.dpdk.org/results/dashboard/patchsets/29718/

UNH-IOL DPDK Community Lab

To manage your email subscriptions, visit: 
https://lab.dpdk.org/results/dashboard/preferences/subscriptions/