From mboxrd@z Thu Jan  1 00:00:00 1970
Return-Path: <test-report-bounces@dpdk.org>
Received: from mails.dpdk.org (mails.dpdk.org [217.70.189.124])
	by inbox.dpdk.org (Postfix) with ESMTP id 8188C43E06
	for <public@inbox.dpdk.org>; Fri,  5 Apr 2024 02:30:09 +0200 (CEST)
Received: from mails.dpdk.org (localhost [127.0.0.1])
	by mails.dpdk.org (Postfix) with ESMTP id 38FA740284;
	Fri,  5 Apr 2024 02:30:09 +0200 (CEST)
Received: from mail-pl1-f227.google.com (mail-pl1-f227.google.com
 [209.85.214.227])
 by mails.dpdk.org (Postfix) with ESMTP id 196D44027E
 for <test-report@dpdk.org>; Fri,  5 Apr 2024 02:30:07 +0200 (CEST)
Received: by mail-pl1-f227.google.com with SMTP id
 d9443c01a7336-1e223025ccbso9050525ad.3
 for <test-report@dpdk.org>; Thu, 04 Apr 2024 17:30:07 -0700 (PDT)
DKIM-Signature: v=1; a=rsa-sha256; c=relaxed/relaxed;
 d=iol.unh.edu; s=unh-iol; t=1712277006; x=1712881806; darn=dpdk.org;
 h=references:in-reply-to:cc:to:from:subject:message-id:date:from:to
 :cc:subject:date:message-id:reply-to;
 bh=J+J/hZEyOJ6dcY+0Awl39HHohZxQRfyW1oETl+1MZks=;
 b=KHfHkGBz0B/457jhEPdtND7W4CoNDnzwgvWraq1IONErI2li/ZP0NSWHLqygJJCnG8
 WYEZVKmTacIqulKnMQdsRMDdnXKR7ZUA4owtJwV1+G6kHy6+yLlURcTOEKnG7//9YcgC
 Me4LB/kIEDJTGk1TRd4vd5ed9YeSZyAvmpaxM=
X-Google-DKIM-Signature: v=1; a=rsa-sha256; c=relaxed/relaxed;
 d=1e100.net; s=20230601; t=1712277006; x=1712881806;
 h=references:in-reply-to:cc:to:from:subject:message-id:date
 :x-gm-message-state:from:to:cc:subject:date:message-id:reply-to;
 bh=J+J/hZEyOJ6dcY+0Awl39HHohZxQRfyW1oETl+1MZks=;
 b=mAiegQEf91/J/PjZEn60AxEcWY/XrKuVkAzZErxUwnAok7/4U0xre4/sIieX47EpHD
 cpmPmPtE2yfOIJW3sKYw5xs482Bz76nanAgYqi4p2o6cYUq/vvZlG3HbBQo8FZuSVMQ6
 YzEy9hQINnNLhxKSN7pGzaUUbLNHXhqZPARfgK0hmWM29RNE+95AarPrL1/GuRqnSEyG
 HgB6E9q2UFWKuqEwqTShN5TRmLO/sPUqttZ/6orXzESaiXiV395693cITJuljYvNXii+
 65xCi3mUDdhiDA74m2pINVcgkm8xzzmPBjI6ZQQgLJ47DqKZJcewkgCAmIuGM5xPx0bp
 FSXw==
X-Gm-Message-State: AOJu0YyQsI5+VATSHEXoyA+88kb7TuGxcz5t4R73v5ey0hfpb/3bYQ+4
 GlX6gLk7l4wkLBRXTd1g64kOTQOFqhguWRgymZAzhu8MS0MnFt0J2oU1lbhEE71eQbXGK7XUFgg
 OKhGhg0W39sUlBS8yDGbO+ZQ0YaL8IlnEcrNa7UBT
X-Google-Smtp-Source: AGHT+IHCCYPUExH8p1x3NsJkXabvnZwsS/vbAUTBNxX5HuOPpNa6kboSVn6yBhqbA4RlYpc6Sx0OlfXVuP2/
X-Received: by 2002:a17:903:1247:b0:1e2:be29:4b6b with SMTP id
 u7-20020a170903124700b001e2be294b6bmr1175506plh.62.1712277006195; 
 Thu, 04 Apr 2024 17:30:06 -0700 (PDT)
Received: from postal.iol.unh.edu (postal.iol.unh.edu. [132.177.123.84])
 by smtp-relay.gmail.com with ESMTPS id
 e7-20020a170902b78700b001e0ae6906b5sm9031pls.101.2024.04.04.17.30.06
 (version=TLS1_2 cipher=ECDHE-ECDSA-AES128-GCM-SHA256 bits=128/128);
 Thu, 04 Apr 2024 17:30:06 -0700 (PDT)
X-Relaying-Domain: iol.unh.edu
Date: Thu, 04 Apr 2024 17:30:06 -0700 (PDT)
Message-ID: <660f460e.170a0220.d4f2f.0a0cSMTPIN_ADDED_MISSING@mx.google.com>
Received: from [172.17.0.6] (unknown [172.18.0.217])
 by postal.iol.unh.edu (Postfix) with ESMTP id 505F06052471;
 Thu,  4 Apr 2024 20:30:05 -0400 (EDT)
Subject: |SUCCESS| pw139111-139112 [PATCH] [v1,3/3] test/bbdev: update for qu
From: dpdklab@iol.unh.edu
To: Test Report <test-report@dpdk.org>
Cc: dpdk-test-reports@iol.unh.edu
In-Reply-To: <20240404210447.1915517-4-nicolas.chautru@intel.com>
References: <20240404210447.1915517-4-nicolas.chautru@intel.com>
Content-Type: text/plain
X-BeenThere: test-report@dpdk.org
X-Mailman-Version: 2.1.29
Precedence: list
List-Id: automatic DPDK test reports <test-report.dpdk.org>
List-Unsubscribe: <https://mails.dpdk.org/options/test-report>,
 <mailto:test-report-request@dpdk.org?subject=unsubscribe>
List-Archive: <http://mails.dpdk.org/archives/test-report/>
List-Post: <mailto:test-report@dpdk.org>
List-Help: <mailto:test-report-request@dpdk.org?subject=help>
List-Subscribe: <https://mails.dpdk.org/listinfo/test-report>,
 <mailto:test-report-request@dpdk.org?subject=subscribe>
Errors-To: test-report-bounces@dpdk.org

Test-Label: iol-unit-arm64-testing
Test-Status: SUCCESS
http://dpdk.org/patch/139112

_Testing PASS_

Submitter: Nicolas Chautru <nicolas.chautru@intel.com>
Date: Thursday, April 04 2024 21:04:47 
DPDK git baseline: Repo:dpdk
  Branch: master
  CommitID:98b4ecb4e4d73e93fdfa53f552b48d71104b445f

139111-139112 --> testing pass

Test environment and result as below:

+-----------------------------+--------------+----------------+---------------------------+------------------------------+
|         Environment         | lpm_autotest | dpdk_unit_test | cryptodev_sw_zuc_autotest | cryptodev_sw_snow3g_autotest |
+=============================+==============+================+===========================+==============================+
| Ubuntu 20.04 ARM SVE        | PASS         | SKIPPED        | SKIPPED                   | SKIPPED                      |
+-----------------------------+--------------+----------------+---------------------------+------------------------------+
| 32-bit Ubuntu 20.04.4 (ARM) | SKIPPED      | PASS           | SKIPPED                   | SKIPPED                      |
+-----------------------------+--------------+----------------+---------------------------+------------------------------+
| Debian 12 (arm)             | SKIPPED      | PASS           | PASS                      | PASS                         |
+-----------------------------+--------------+----------------+---------------------------+------------------------------+
| CentOS Stream 9 (ARM)       | SKIPPED      | PASS           | SKIPPED                   | SKIPPED                      |
+-----------------------------+--------------+----------------+---------------------------+------------------------------+
| Fedora 38 (ARM)             | SKIPPED      | PASS           | SKIPPED                   | SKIPPED                      |
+-----------------------------+--------------+----------------+---------------------------+------------------------------+


Ubuntu 20.04 ARM SVE
	Kernel: 5.4.0-167-generic
	Compiler: gcc (Ubuntu 10.5.0-1ubuntu1~20.04) 10.5.0

32-bit Ubuntu 20.04.4 (ARM)
	Kernel: 5.4.0-155-generic aarch64
	Compiler: gcc 9.4

Debian 12 (arm)
	Kernel: Container Host Kernel
	Compiler: gcc 12.2.0

CentOS Stream 9 (ARM)
	Kernel: Container Host Kernel
	Compiler: gcc 11.4.1

Fedora 38 (ARM)
	Kernel: Depends on container host
	Compiler: gcc 13.2.1

To view detailed results, visit:
https://lab.dpdk.org/results/dashboard/patchsets/29718/

UNH-IOL DPDK Community Lab

To manage your email subscriptions, visit: 
https://lab.dpdk.org/results/dashboard/preferences/subscriptions/