From mboxrd@z Thu Jan  1 00:00:00 1970
Return-Path: <test-report-bounces@dpdk.org>
Received: from mails.dpdk.org (mails.dpdk.org [217.70.189.124])
	by inbox.dpdk.org (Postfix) with ESMTP id C138143E01
	for <public@inbox.dpdk.org>; Fri,  5 Apr 2024 14:20:00 +0200 (CEST)
Received: from mails.dpdk.org (localhost [127.0.0.1])
	by mails.dpdk.org (Postfix) with ESMTP id BD0AF402D4;
	Fri,  5 Apr 2024 14:20:00 +0200 (CEST)
Received: from mail-pf1-f227.google.com (mail-pf1-f227.google.com
 [209.85.210.227])
 by mails.dpdk.org (Postfix) with ESMTP id BF4A8402CE
 for <test-report@dpdk.org>; Fri,  5 Apr 2024 14:19:59 +0200 (CEST)
Received: by mail-pf1-f227.google.com with SMTP id
 d2e1a72fcca58-6eaf7c97738so1689802b3a.2
 for <test-report@dpdk.org>; Fri, 05 Apr 2024 05:19:59 -0700 (PDT)
DKIM-Signature: v=1; a=rsa-sha256; c=relaxed/relaxed;
 d=iol.unh.edu; s=unh-iol; t=1712319599; x=1712924399; darn=dpdk.org;
 h=references:in-reply-to:cc:to:from:subject:message-id:date:from:to
 :cc:subject:date:message-id:reply-to;
 bh=9las/Id515P7rhI2eFpP/YjRBYeXusB2Xpd/dUgSTTI=;
 b=Xy78Z+VCK9n0h7P0e3GztFYdOU56wAjJi8Mgxd58ZP3zWBBVVthbDs6gpYKsjNCjEc
 cizWqGnLggklxuWTY+ildAAxlsgfgWQI68OLrvLAeCY5KmFP1iUU5S3fVVYCi+kRhU6k
 7w4FADGvOOkFPnHl99iWrBDxryDBmFeRDSAGM=
X-Google-DKIM-Signature: v=1; a=rsa-sha256; c=relaxed/relaxed;
 d=1e100.net; s=20230601; t=1712319599; x=1712924399;
 h=references:in-reply-to:cc:to:from:subject:message-id:date
 :x-gm-message-state:from:to:cc:subject:date:message-id:reply-to;
 bh=9las/Id515P7rhI2eFpP/YjRBYeXusB2Xpd/dUgSTTI=;
 b=v8DHPGdAXuvQye66Rj/jNfFlPi77s0sTjWI41SldSbpDDqIX+wdBlGyVBGUNPsraiZ
 WUVLeSQJT9tmEibeQu5z0G1ZDQ7mJCNeBbAGk3cn5yKZw9pogC6qhADVPg+m0koVL09A
 Yw6HhgxsTpt81tt6qcrysZgVrBhw4JNTKSu58rXNE5tizcsw7fHYs+PpMxDpU1pC5Xl1
 b+jPti6XnxSiH8fa345VZFa4ku1GBUS6GPD3/CRDW2D+tBdAb/tfPSwoc0+mpwAQ3MkF
 3pesvyyCJotj5DNqQyKUOWXm8qqX5Wxns1oc8aaxoh4N9dDne29YmKcxKpktSLnCE7DL
 XW0w==
X-Gm-Message-State: AOJu0YyQZNPid2LR7k8nIxmb/BlRjfPMUoNZ7q/BjLDgyjhzCtJZoqYq
 Part0vW/PIn2p0mg8UGve4F2AMyVj8cZ/iUJN6dpRsidXGwPDZ1Fy1YAWpAKaMGPE9MVk46+H2R
 oARHGlhHVzHxJv2Y0AWK0pLmPJz7AsAtJU36I8+V6
X-Google-Smtp-Source: AGHT+IGz6rK+cigliQZ0z6zZH3bwvjitb3p9tJTnRmIlp2BuWT+1in1RlMM3jQeBW9XJJhxrTL2RipgtjO+6
X-Received: by 2002:a05:6a20:9f95:b0:1a3:c971:5421 with SMTP id
 mm21-20020a056a209f9500b001a3c9715421mr1373735pzb.45.1712319599051; 
 Fri, 05 Apr 2024 05:19:59 -0700 (PDT)
Received: from postal.iol.unh.edu (postal.iol.unh.edu. [132.177.123.84])
 by smtp-relay.gmail.com with ESMTPS id
 f13-20020a056a00228d00b006e74604138esm60945pfe.10.2024.04.05.05.19.58
 (version=TLS1_2 cipher=ECDHE-ECDSA-AES128-GCM-SHA256 bits=128/128);
 Fri, 05 Apr 2024 05:19:59 -0700 (PDT)
X-Relaying-Domain: iol.unh.edu
Date: Fri, 05 Apr 2024 05:19:59 -0700 (PDT)
Message-ID: <660fec6f.050a0220.31fe0.4c37SMTPIN_ADDED_MISSING@mx.google.com>
Received: from [172.21.0.7] (unknown [172.18.0.240])
 by postal.iol.unh.edu (Postfix) with ESMTP id 426716052471;
 Fri,  5 Apr 2024 08:19:58 -0400 (EDT)
Subject: |SUCCESS| pw139116 [PATCH] meson/mlx5: Suppress -Wunused-value diagn
From: dpdklab@iol.unh.edu
To: Test Report <test-report@dpdk.org>
Cc: dpdk-test-reports@iol.unh.edu
In-Reply-To: <20240405111310.3280084-1-sebastian.brzezinka@intel.com>
References: <20240405111310.3280084-1-sebastian.brzezinka@intel.com>
Content-Type: text/plain
X-BeenThere: test-report@dpdk.org
X-Mailman-Version: 2.1.29
Precedence: list
List-Id: automatic DPDK test reports <test-report.dpdk.org>
List-Unsubscribe: <https://mails.dpdk.org/options/test-report>,
 <mailto:test-report-request@dpdk.org?subject=unsubscribe>
List-Archive: <http://mails.dpdk.org/archives/test-report/>
List-Post: <mailto:test-report@dpdk.org>
List-Help: <mailto:test-report-request@dpdk.org?subject=help>
List-Subscribe: <https://mails.dpdk.org/listinfo/test-report>,
 <mailto:test-report-request@dpdk.org?subject=subscribe>
Errors-To: test-report-bounces@dpdk.org

Test-Label: iol-abi-testing
Test-Status: SUCCESS
http://dpdk.org/patch/139116

_Testing PASS_

Submitter: Sebastian Brzezinka <sebastian.brzezinka@intel.com>
Date: Friday, April 05 2024 11:13:10 
DPDK git baseline: Repo:dpdk
  Branch: master
  CommitID:80ecef6d1f71fcebc0a51d7cabc51f73ee142ff2

139116 --> testing pass

Test environment and result as below:

+------------------+----------+
|   Environment    | abi_test |
+==================+==========+
| Debian Bullseye  | PASS     |
+------------------+----------+
| Fedora 38        | PASS     |
+------------------+----------+
| Fedora 39        | PASS     |
+------------------+----------+
| openSUSE Leap 15 | PASS     |
+------------------+----------+
| RHEL8            | PASS     |
+------------------+----------+
| Fedora 37        | PASS     |
+------------------+----------+
| Ubuntu 22.04     | PASS     |
+------------------+----------+
| CentOS Stream 8  | PASS     |
+------------------+----------+
| CentOS Stream 9  | PASS     |
+------------------+----------+


Debian Bullseye
	Kernel: 5.4.0-167-generic
	Compiler: gcc 10.2.1-6

Fedora 38
	Kernel: Depends on container host
	Compiler: clang 16.0.6

Fedora 39
	Kernel: Depends on container host
	Compiler: clang 17.0.6

openSUSE Leap 15
	Kernel: 5.4.0-167-generic
	Compiler: gcc 7.5.0

RHEL8
	Kernel: 5.4.0-167-generic
	Compiler: gcc 8.5.0 20210514 (Red Hat 8.5.0-20)

Fedora 37
	Kernel: Depends on container host system
	Compiler: gcc 12.3.1

Ubuntu 22.04
	Kernel: 5.4.0-167-generic
	Compiler: gcc 11.4.0

CentOS Stream 8
	Kernel: 5.4.0-167-generic
	Compiler: gcc 8.5.0 20210514

CentOS Stream 9
	Kernel: 5.4.0-167-generic
	Compiler: gcc 11.4.1 20230605

To view detailed results, visit:
https://lab.dpdk.org/results/dashboard/patchsets/29721/

UNH-IOL DPDK Community Lab

To manage your email subscriptions, visit: 
https://lab.dpdk.org/results/dashboard/preferences/subscriptions/