From mboxrd@z Thu Jan  1 00:00:00 1970
Return-Path: <test-report-bounces@dpdk.org>
Received: from mails.dpdk.org (mails.dpdk.org [217.70.189.124])
	by inbox.dpdk.org (Postfix) with ESMTP id B79E043E01
	for <public@inbox.dpdk.org>; Fri,  5 Apr 2024 14:22:53 +0200 (CEST)
Received: from mails.dpdk.org (localhost [127.0.0.1])
	by mails.dpdk.org (Postfix) with ESMTP id B37F7402D4;
	Fri,  5 Apr 2024 14:22:53 +0200 (CEST)
Received: from mail-qk1-f227.google.com (mail-qk1-f227.google.com
 [209.85.222.227])
 by mails.dpdk.org (Postfix) with ESMTP id 05F0E402CE
 for <test-report@dpdk.org>; Fri,  5 Apr 2024 14:22:51 +0200 (CEST)
Received: by mail-qk1-f227.google.com with SMTP id
 af79cd13be357-78bc322a55cso127899685a.1
 for <test-report@dpdk.org>; Fri, 05 Apr 2024 05:22:50 -0700 (PDT)
DKIM-Signature: v=1; a=rsa-sha256; c=relaxed/relaxed;
 d=iol.unh.edu; s=unh-iol; t=1712319770; x=1712924570; darn=dpdk.org;
 h=references:in-reply-to:cc:to:from:subject:message-id:date:from:to
 :cc:subject:date:message-id:reply-to;
 bh=mC6lTkH+7u7ZX3TELDD1G2e9whqFz5QNc4N4WrGagHk=;
 b=PTX8iwGBoOFaYJn1/5wpeyMwWyf3eyyvAcxxmIzvlN5dLuqRD4gvXwqQSYc9CmjwRW
 6qxCoUoJmt29o8PlJ5T7EwJ8kQUmtu2Zzq1vc4IXb/5/CSDoUgDlLFRMh3tbJjm+ejPY
 eIT+6GAIPmiJUnoiCNpMTvnC5eKbEEzbrSnDQ=
X-Google-DKIM-Signature: v=1; a=rsa-sha256; c=relaxed/relaxed;
 d=1e100.net; s=20230601; t=1712319770; x=1712924570;
 h=references:in-reply-to:cc:to:from:subject:message-id:date
 :x-gm-message-state:from:to:cc:subject:date:message-id:reply-to;
 bh=mC6lTkH+7u7ZX3TELDD1G2e9whqFz5QNc4N4WrGagHk=;
 b=jnroj0qmUZD8+3Nk1HIcAaSJQRNyoPUpwWBerwZEAS5rZ1AKTIXFIgBOJsh8MnEpgw
 RDQwesapfjajaUcK8QAuaaVuNCNR7byCUCMku3tUWNh87LyptlhmgdF6CecC3ZTLDntt
 iQuBqs7jEXXWr9hrRwOvV4NEW3C8EZ4zj2nxxxUo35iHzvCQdCuWgN1s3BK9Qvho1U0E
 baURN7gmQMGMjesbEHdNQj/lClXdygncLaQtsJJluog//0gR/gt2ESnufaudu+fP0zbu
 3DLwY3SWSNkFEo8K5kN0YMgREYO4O6THRN21TBh18npCH+jSlc7uSvHHZFQc06AIp7S5
 cavw==
X-Gm-Message-State: AOJu0Yzom49MBFFeSHKuyN5i/oElGqADbumcJuiRVsGNad/7Jogiikv/
 A7ZFotYzB0fvCTzvxBVa0OU0kuimWuJzkPeu+smM9XcXU1f5sDXNxkTK4xGLjCg8HURRrVq7IV5
 FM77GWSPqlpSS3cypIMD5nQ9wQCUNZ9zcEgNkCLao
X-Google-Smtp-Source: AGHT+IFUstCy4dZR6vKKH2lsBeYpl5NKkWbrZknidcNCbbDB1TfuCt0NeApfPLS0FnuhCW2B3dcNrMBbtpkk
X-Received: by 2002:a05:620a:56ce:b0:78d:46ef:8280 with SMTP id
 wh14-20020a05620a56ce00b0078d46ef8280mr1139020qkn.60.1712319770507; 
 Fri, 05 Apr 2024 05:22:50 -0700 (PDT)
Received: from postal.iol.unh.edu (postal.iol.unh.edu. [132.177.123.84])
 by smtp-relay.gmail.com with ESMTPS id
 w10-20020a05620a424a00b0078d4cafb0f7sm17589qko.2.2024.04.05.05.22.50
 (version=TLS1_2 cipher=ECDHE-ECDSA-AES128-GCM-SHA256 bits=128/128);
 Fri, 05 Apr 2024 05:22:50 -0700 (PDT)
X-Relaying-Domain: iol.unh.edu
Date: Fri, 05 Apr 2024 05:22:50 -0700 (PDT)
Message-ID: <660fed1a.050a0220.a895e.0ebaSMTPIN_ADDED_MISSING@mx.google.com>
Received: from [172.21.0.10] (unknown [172.18.0.240])
 by postal.iol.unh.edu (Postfix) with ESMTP id 3324A6052471;
 Fri,  5 Apr 2024 08:22:50 -0400 (EDT)
Subject: |SUCCESS| pw139116 [PATCH] meson/mlx5: Suppress -Wunused-value diagn
From: dpdklab@iol.unh.edu
To: Test Report <test-report@dpdk.org>
Cc: dpdk-test-reports@iol.unh.edu
In-Reply-To: <20240405111310.3280084-1-sebastian.brzezinka@intel.com>
References: <20240405111310.3280084-1-sebastian.brzezinka@intel.com>
Content-Type: text/plain
X-BeenThere: test-report@dpdk.org
X-Mailman-Version: 2.1.29
Precedence: list
List-Id: automatic DPDK test reports <test-report.dpdk.org>
List-Unsubscribe: <https://mails.dpdk.org/options/test-report>,
 <mailto:test-report-request@dpdk.org?subject=unsubscribe>
List-Archive: <http://mails.dpdk.org/archives/test-report/>
List-Post: <mailto:test-report@dpdk.org>
List-Help: <mailto:test-report-request@dpdk.org?subject=help>
List-Subscribe: <https://mails.dpdk.org/listinfo/test-report>,
 <mailto:test-report-request@dpdk.org?subject=subscribe>
Errors-To: test-report-bounces@dpdk.org

Test-Label: iol-compile-arm64-testing
Test-Status: SUCCESS
http://dpdk.org/patch/139116

_Testing PASS_

Submitter: Sebastian Brzezinka <sebastian.brzezinka@intel.com>
Date: Friday, April 05 2024 11:13:10 
DPDK git baseline: Repo:dpdk
  Branch: master
  CommitID:80ecef6d1f71fcebc0a51d7cabc51f73ee142ff2

139116 --> testing pass

Test environment and result as below:

+--------------------------+--------------------+
|       Environment        | dpdk_meson_compile |
+==========================+====================+
| Ubuntu 20.04 ARM SVE     | PASS               |
+--------------------------+--------------------+
| Debian 12 with MUSDK     | PASS               |
+--------------------------+--------------------+
| Fedora 38 (ARM)          | PASS               |
+--------------------------+--------------------+
| Ubuntu 20.04 (ARM)       | PASS               |
+--------------------------+--------------------+
| CentOS Stream 9 (ARM)    | PASS               |
+--------------------------+--------------------+
| Debian 11 (Buster) (ARM) | PASS               |
+--------------------------+--------------------+
| Fedora 37 (ARM)          | PASS               |
+--------------------------+--------------------+
| Debian 12 (arm)          | PASS               |
+--------------------------+--------------------+
| Fedora 39 (ARM)          | PASS               |
+--------------------------+--------------------+


Ubuntu 20.04 ARM SVE
	Kernel: 5.4.0-167-generic
	Compiler: gcc (Ubuntu 10.5.0-1ubuntu1~20.04) 10.5.0

Debian 12 with MUSDK
	Kernel: Container Host Kernel
	Compiler: gcc 12.2.0

Fedora 38 (ARM)
	Kernel: Depends on container host
	Compiler: gcc 13.2.1

Ubuntu 20.04 (ARM)
	Kernel: Container Host Kernel
	Compiler: gcc 9.4.0

CentOS Stream 9 (ARM)
	Kernel: Container Host Kernel
	Compiler: gcc 11.4.1

Debian 11 (Buster) (ARM)
	Kernel: Container Host Kernel
	Compiler: gcc 10.2.1

Fedora 37 (ARM)
	Kernel: Depends on container host
	Compiler: gcc 12.3.1

Debian 12 (arm)
	Kernel: Container Host Kernel
	Compiler: gcc 12.2.0

Fedora 39 (ARM)
	Kernel: Depends on container host
	Compiler: gcc 13.2.1

To view detailed results, visit:
https://lab.dpdk.org/results/dashboard/patchsets/29721/

UNH-IOL DPDK Community Lab

To manage your email subscriptions, visit: 
https://lab.dpdk.org/results/dashboard/preferences/subscriptions/