From mboxrd@z Thu Jan  1 00:00:00 1970
Return-Path: <test-report-bounces@dpdk.org>
Received: from mails.dpdk.org (mails.dpdk.org [217.70.189.124])
	by inbox.dpdk.org (Postfix) with ESMTP id 5995143E01
	for <public@inbox.dpdk.org>; Fri,  5 Apr 2024 14:26:37 +0200 (CEST)
Received: from mails.dpdk.org (localhost [127.0.0.1])
	by mails.dpdk.org (Postfix) with ESMTP id 55EF8402D4;
	Fri,  5 Apr 2024 14:26:37 +0200 (CEST)
Received: from mail-io1-f100.google.com (mail-io1-f100.google.com
 [209.85.166.100])
 by mails.dpdk.org (Postfix) with ESMTP id 0D6DD402CE
 for <test-report@dpdk.org>; Fri,  5 Apr 2024 14:26:36 +0200 (CEST)
Received: by mail-io1-f100.google.com with SMTP id
 ca18e2360f4ac-7d0d0057c8aso58411339f.0
 for <test-report@dpdk.org>; Fri, 05 Apr 2024 05:26:36 -0700 (PDT)
DKIM-Signature: v=1; a=rsa-sha256; c=relaxed/relaxed;
 d=iol.unh.edu; s=unh-iol; t=1712319995; x=1712924795; darn=dpdk.org;
 h=references:in-reply-to:cc:to:from:subject:message-id:date:from:to
 :cc:subject:date:message-id:reply-to;
 bh=9t0PAw/FpQspQd85IP33T0/RR2DTilBvmC4RqORB3ak=;
 b=B8i37Zimt07yuKP7l038eFRVMNwdE55y7hQ1uY4aoMiWhe9mKqk7RvTMJxgDRrxqfU
 I4JyXuO4pRrOD5KNJIxP9L4JX2J1Bz/DcI0KlRl3Qw9WV5cxBut7C+h9/5bNEMHm8cyq
 7cpQNHYtUZqtlOQum7Au1NNvAkhTaHscDTJ3c=
X-Google-DKIM-Signature: v=1; a=rsa-sha256; c=relaxed/relaxed;
 d=1e100.net; s=20230601; t=1712319995; x=1712924795;
 h=references:in-reply-to:cc:to:from:subject:message-id:date
 :x-gm-message-state:from:to:cc:subject:date:message-id:reply-to;
 bh=9t0PAw/FpQspQd85IP33T0/RR2DTilBvmC4RqORB3ak=;
 b=HlytHJQCl/vRmOtp08um/WZL1YTbNiEFgHcfdHaK75YI8vJK1Ug4IgrH89uMFlDq2I
 DN06H+y5zFWr8qwvqyFqNtWN4zAOMbWzh6DQb1FHgmlILHfLW5qmHVQS4mbIGTVkaVjc
 IqxG6poLOdTc8n1ic2g7ITFMGIbDOC3Cqp9RQ+3dPabviKlh8xLdZPKfif/zX3iV1QNy
 3D4ByNeyzzx8Rjez17ZBUXt9Bo3UJQqw9IOJYIf98u2MHQKHxe52lcvtUNjClu5wXdcE
 jRJaTKgKLYrn0vudrYtASpYQTMaDJQWJPCLd/ytINxnyNFtBlSCFHSyr6wkTJSRDht4y
 zUFQ==
X-Gm-Message-State: AOJu0YyF7+QB4BUgGoI6RomRmEeRXKQaAoOflaGNi8zW+DGNhQwMgPqD
 Sq0MTQZMzX7RY06cZxGyzZU+d/dG5zwknOs0IREXQ/a0xXkDj6paRDnx7FrAfLsUW6177OPAO/U
 11aUqIOkjur15UDWutp+9MFhmvCylpuUWo4lRWjdr
X-Google-Smtp-Source: AGHT+IEYkEmReKZsHCaLrGY81r88yzaz/Mw0K2D6GieZkv3Ltoo+vb0wkpxztTUN0IICELFui00/Kc0QZfdm
X-Received: by 2002:a5e:8714:0:b0:7d3:55a9:a65b with SMTP id
 y20-20020a5e8714000000b007d355a9a65bmr1158088ioj.5.1712319995380; 
 Fri, 05 Apr 2024 05:26:35 -0700 (PDT)
Received: from postal.iol.unh.edu (postal.iol.unh.edu. [132.177.123.84])
 by smtp-relay.gmail.com with ESMTPS id
 b7-20020a05660214c700b007d07b990043sm67403iow.22.2024.04.05.05.26.35
 (version=TLS1_2 cipher=ECDHE-ECDSA-AES128-GCM-SHA256 bits=128/128);
 Fri, 05 Apr 2024 05:26:35 -0700 (PDT)
X-Relaying-Domain: iol.unh.edu
Date: Fri, 05 Apr 2024 05:26:35 -0700 (PDT)
Message-ID: <660fedfb.050a0220.1cc53.50c8SMTPIN_ADDED_MISSING@mx.google.com>
Received: from [172.21.0.11] (unknown [172.18.0.240])
 by postal.iol.unh.edu (Postfix) with ESMTP id D06A56052471;
 Fri,  5 Apr 2024 08:26:34 -0400 (EDT)
Subject: |SUCCESS| pw139116 [PATCH] meson/mlx5: Suppress -Wunused-value diagn
From: dpdklab@iol.unh.edu
To: Test Report <test-report@dpdk.org>
Cc: dpdk-test-reports@iol.unh.edu
In-Reply-To: <20240405111310.3280084-1-sebastian.brzezinka@intel.com>
References: <20240405111310.3280084-1-sebastian.brzezinka@intel.com>
Content-Type: text/plain
X-BeenThere: test-report@dpdk.org
X-Mailman-Version: 2.1.29
Precedence: list
List-Id: automatic DPDK test reports <test-report.dpdk.org>
List-Unsubscribe: <https://mails.dpdk.org/options/test-report>,
 <mailto:test-report-request@dpdk.org?subject=unsubscribe>
List-Archive: <http://mails.dpdk.org/archives/test-report/>
List-Post: <mailto:test-report@dpdk.org>
List-Help: <mailto:test-report-request@dpdk.org?subject=help>
List-Subscribe: <https://mails.dpdk.org/listinfo/test-report>,
 <mailto:test-report-request@dpdk.org?subject=subscribe>
Errors-To: test-report-bounces@dpdk.org

Test-Label: iol-compile-amd64-testing
Test-Status: SUCCESS
http://dpdk.org/patch/139116

_Testing PASS_

Submitter: Sebastian Brzezinka <sebastian.brzezinka@intel.com>
Date: Friday, April 05 2024 11:13:10 
DPDK git baseline: Repo:dpdk
  Branch: master
  CommitID:80ecef6d1f71fcebc0a51d7cabc51f73ee142ff2

139116 --> testing pass

Test environment and result as below:

+---------------------+--------------------+----------------------+-------------------+
|     Environment     | dpdk_meson_compile | dpdk_mingw64_compile | dpdk_msvc_compile |
+=====================+====================+======================+===================+
| FreeBSD 13.2        | PASS               | SKIPPED              | SKIPPED           |
+---------------------+--------------------+----------------------+-------------------+
| Windows Server 2022 | PASS               | PASS                 | PASS              |
+---------------------+--------------------+----------------------+-------------------+
| Windows Server 2019 | PASS               | PASS                 | SKIPPED           |
+---------------------+--------------------+----------------------+-------------------+
| CentOS Stream 8     | PASS               | SKIPPED              | SKIPPED           |
+---------------------+--------------------+----------------------+-------------------+
| CentOS Stream 9     | PASS               | SKIPPED              | SKIPPED           |
+---------------------+--------------------+----------------------+-------------------+
| Debian Bullseye     | PASS               | SKIPPED              | SKIPPED           |
+---------------------+--------------------+----------------------+-------------------+
| Fedora 38           | PASS               | SKIPPED              | SKIPPED           |
+---------------------+--------------------+----------------------+-------------------+
| Fedora 39           | PASS               | SKIPPED              | SKIPPED           |
+---------------------+--------------------+----------------------+-------------------+
| Ubuntu 20.04        | PASS               | SKIPPED              | SKIPPED           |
+---------------------+--------------------+----------------------+-------------------+
| RHEL8               | PASS               | SKIPPED              | SKIPPED           |
+---------------------+--------------------+----------------------+-------------------+
| Ubuntu 22.04        | PASS               | SKIPPED              | SKIPPED           |
+---------------------+--------------------+----------------------+-------------------+


FreeBSD 13.2
	Kernel: 13.2
	Compiler: clang 14.0.5

Windows Server 2022
	Kernel: 10.0.20348.2031
	Compiler: clang 15.0.7, gcc 8.1.0 (MinGW), and MSVC VS 17.9

Windows Server 2019
	Kernel: 10.0.17763
	Compiler: clang 14.0 and gcc 8.1.0 (MinGW)

CentOS Stream 8
	Kernel: 5.4.0-167-generic
	Compiler: gcc 8.5.0 20210514

CentOS Stream 9
	Kernel: 5.4.0-167-generic
	Compiler: gcc 11.4.1 20230605

Debian Bullseye
	Kernel: 5.4.0-167-generic
	Compiler: gcc 10.2.1-6

Fedora 38
	Kernel: Depends on container host
	Compiler: gcc 13.2.1

Fedora 39
	Kernel: Depends on container host
	Compiler: gcc 13.2.1

Ubuntu 20.04
	Kernel: 5.4.0-167-generic
	Compiler: gcc 9.4.0-1ubuntu1~20.04.1

RHEL8
	Kernel: 5.4.0-167-generic
	Compiler: gcc 8.5.0 20210514 (Red Hat 8.5.0-20)

Ubuntu 22.04
	Kernel: 5.4.0-167-generic
	Compiler: gcc 11.4.0

To view detailed results, visit:
https://lab.dpdk.org/results/dashboard/patchsets/29721/

UNH-IOL DPDK Community Lab

To manage your email subscriptions, visit: 
https://lab.dpdk.org/results/dashboard/preferences/subscriptions/