From mboxrd@z Thu Jan  1 00:00:00 1970
Return-Path: <test-report-bounces@dpdk.org>
Received: from mails.dpdk.org (mails.dpdk.org [217.70.189.124])
	by inbox.dpdk.org (Postfix) with ESMTP id A0DF043E01
	for <public@inbox.dpdk.org>; Fri,  5 Apr 2024 14:27:13 +0200 (CEST)
Received: from mails.dpdk.org (localhost [127.0.0.1])
	by mails.dpdk.org (Postfix) with ESMTP id 99F18402D8;
	Fri,  5 Apr 2024 14:27:13 +0200 (CEST)
Received: from mail-vs1-f99.google.com (mail-vs1-f99.google.com
 [209.85.217.99]) by mails.dpdk.org (Postfix) with ESMTP id 60EB4402CE
 for <test-report@dpdk.org>; Fri,  5 Apr 2024 14:27:12 +0200 (CEST)
Received: by mail-vs1-f99.google.com with SMTP id
 ada2fe7eead31-479d6a85be8so320911137.3
 for <test-report@dpdk.org>; Fri, 05 Apr 2024 05:27:12 -0700 (PDT)
DKIM-Signature: v=1; a=rsa-sha256; c=relaxed/relaxed;
 d=iol.unh.edu; s=unh-iol; t=1712320032; x=1712924832; darn=dpdk.org;
 h=references:in-reply-to:cc:to:from:subject:message-id:date:from:to
 :cc:subject:date:message-id:reply-to;
 bh=9t0PAw/FpQspQd85IP33T0/RR2DTilBvmC4RqORB3ak=;
 b=A0HjvmH3WXQMJczpoc0iVTita1q9jfb1/b/udhLy7Vws0ICzbNQ0JP5CQHUHT8vlTQ
 4yB5++PYyBwnAu0wtoMuNuIh9Lfwf0yelnU5UVt93FHXu/JvjEKg5nCB/Eo/KnRCNU1c
 /Lr57dCoQasHtWxWLZqzAVe783sS6PxX/e+nw=
X-Google-DKIM-Signature: v=1; a=rsa-sha256; c=relaxed/relaxed;
 d=1e100.net; s=20230601; t=1712320032; x=1712924832;
 h=references:in-reply-to:cc:to:from:subject:message-id:date
 :x-gm-message-state:from:to:cc:subject:date:message-id:reply-to;
 bh=9t0PAw/FpQspQd85IP33T0/RR2DTilBvmC4RqORB3ak=;
 b=FeNwpPXz8a6pwB9TDknTAsMx9ZjYFS9oY2/IwG95gbrcVtPggD4ngMtGdTDkXT0pSk
 UMXVHMKXKveDJFL9aiLEasj3ppkzO66+XrNcuOm4nC37VKChCWTq4erCqoRowOB6VW+6
 rNtgnd7Chi5Bh5gO4ZUiciMYcKwXuWlEgawqBXzI/64EB+QAV+LzHThcobmd2NLFkHS6
 W5nY9pZg8qpZWrESFvLkdYgYZSBPWcDEXelXQZTLEz0KsEBv3n+UWODY7cyPU17RnBS2
 WxduPE2Vxa/5NdDHyhb2er8XQ3jldlM5pXnLmhSxoJK+A2FuuBQHHq4bdnS68d3KSutV
 0QBQ==
X-Gm-Message-State: AOJu0YzXKTtzMRM+X2d5hE5lKURx1DJcdvhl7bF+s5zNMXPu0QAE6TdQ
 fhX4llftvDzwFA+kLQMktZBwsE/GF5eCOQjI82ZHbrMH+rIEi5j5mLNL1iaru3nrobIelja0AYS
 J4modQyeXoFOHzXDwX/hX03d5J/OsMPlU/ZeIqwtB
X-Google-Smtp-Source: AGHT+IHO/yIWpypLQ8Q7kQ30TumbeyA/P5TScVyNdF6AmF51trmz2bOXHzMy7o2ERr+zO8Txhd/Jg7DCX9/h
X-Received: by 2002:a05:6102:c90:b0:479:e421:60f9 with SMTP id
 f16-20020a0561020c9000b00479e42160f9mr263919vst.23.1712320031834; 
 Fri, 05 Apr 2024 05:27:11 -0700 (PDT)
Received: from postal.iol.unh.edu (postal.iol.unh.edu. [132.177.123.84])
 by smtp-relay.gmail.com with ESMTPS id
 ed7-20020a056130150700b007db2ba0a2c4sm56132uab.16.2024.04.05.05.27.11
 (version=TLS1_2 cipher=ECDHE-ECDSA-AES128-GCM-SHA256 bits=128/128);
 Fri, 05 Apr 2024 05:27:11 -0700 (PDT)
X-Relaying-Domain: iol.unh.edu
Date: Fri, 05 Apr 2024 05:27:11 -0700 (PDT)
Message-ID: <660fee1f.050a0220.18bdf.3b50SMTPIN_ADDED_MISSING@mx.google.com>
Received: from [172.21.0.13] (unknown [172.18.0.240])
 by postal.iol.unh.edu (Postfix) with ESMTP id 7BE2F6052471;
 Fri,  5 Apr 2024 08:27:11 -0400 (EDT)
Subject: |SUCCESS| pw139116 [PATCH] meson/mlx5: Suppress -Wunused-value diagn
From: dpdklab@iol.unh.edu
To: Test Report <test-report@dpdk.org>
Cc: dpdk-test-reports@iol.unh.edu
In-Reply-To: <20240405111310.3280084-1-sebastian.brzezinka@intel.com>
References: <20240405111310.3280084-1-sebastian.brzezinka@intel.com>
Content-Type: text/plain
X-BeenThere: test-report@dpdk.org
X-Mailman-Version: 2.1.29
Precedence: list
List-Id: automatic DPDK test reports <test-report.dpdk.org>
List-Unsubscribe: <https://mails.dpdk.org/options/test-report>,
 <mailto:test-report-request@dpdk.org?subject=unsubscribe>
List-Archive: <http://mails.dpdk.org/archives/test-report/>
List-Post: <mailto:test-report@dpdk.org>
List-Help: <mailto:test-report-request@dpdk.org?subject=help>
List-Subscribe: <https://mails.dpdk.org/listinfo/test-report>,
 <mailto:test-report-request@dpdk.org?subject=subscribe>
Errors-To: test-report-bounces@dpdk.org

Test-Label: iol-compile-amd64-testing
Test-Status: SUCCESS
http://dpdk.org/patch/139116

_Testing PASS_

Submitter: Sebastian Brzezinka <sebastian.brzezinka@intel.com>
Date: Friday, April 05 2024 11:13:10 
DPDK git baseline: Repo:dpdk
  Branch: master
  CommitID:80ecef6d1f71fcebc0a51d7cabc51f73ee142ff2

139116 --> testing pass

Test environment and result as below:

+---------------------+--------------------+----------------------+-------------------+
|     Environment     | dpdk_meson_compile | dpdk_mingw64_compile | dpdk_msvc_compile |
+=====================+====================+======================+===================+
| FreeBSD 13.2        | PASS               | SKIPPED              | SKIPPED           |
+---------------------+--------------------+----------------------+-------------------+
| Windows Server 2022 | PASS               | PASS                 | PASS              |
+---------------------+--------------------+----------------------+-------------------+
| Windows Server 2019 | PASS               | PASS                 | SKIPPED           |
+---------------------+--------------------+----------------------+-------------------+
| CentOS Stream 8     | PASS               | SKIPPED              | SKIPPED           |
+---------------------+--------------------+----------------------+-------------------+
| CentOS Stream 9     | PASS               | SKIPPED              | SKIPPED           |
+---------------------+--------------------+----------------------+-------------------+
| Debian Bullseye     | PASS               | SKIPPED              | SKIPPED           |
+---------------------+--------------------+----------------------+-------------------+
| Fedora 38           | PASS               | SKIPPED              | SKIPPED           |
+---------------------+--------------------+----------------------+-------------------+
| Fedora 39           | PASS               | SKIPPED              | SKIPPED           |
+---------------------+--------------------+----------------------+-------------------+
| Ubuntu 20.04        | PASS               | SKIPPED              | SKIPPED           |
+---------------------+--------------------+----------------------+-------------------+
| RHEL8               | PASS               | SKIPPED              | SKIPPED           |
+---------------------+--------------------+----------------------+-------------------+
| Ubuntu 22.04        | PASS               | SKIPPED              | SKIPPED           |
+---------------------+--------------------+----------------------+-------------------+


FreeBSD 13.2
	Kernel: 13.2
	Compiler: clang 14.0.5

Windows Server 2022
	Kernel: 10.0.20348.2031
	Compiler: clang 15.0.7, gcc 8.1.0 (MinGW), and MSVC VS 17.9

Windows Server 2019
	Kernel: 10.0.17763
	Compiler: clang 14.0 and gcc 8.1.0 (MinGW)

CentOS Stream 8
	Kernel: 5.4.0-167-generic
	Compiler: gcc 8.5.0 20210514

CentOS Stream 9
	Kernel: 5.4.0-167-generic
	Compiler: gcc 11.4.1 20230605

Debian Bullseye
	Kernel: 5.4.0-167-generic
	Compiler: gcc 10.2.1-6

Fedora 38
	Kernel: Depends on container host
	Compiler: gcc 13.2.1

Fedora 39
	Kernel: Depends on container host
	Compiler: gcc 13.2.1

Ubuntu 20.04
	Kernel: 5.4.0-167-generic
	Compiler: gcc 9.4.0-1ubuntu1~20.04.1

RHEL8
	Kernel: 5.4.0-167-generic
	Compiler: gcc 8.5.0 20210514 (Red Hat 8.5.0-20)

Ubuntu 22.04
	Kernel: 5.4.0-167-generic
	Compiler: gcc 11.4.0

To view detailed results, visit:
https://lab.dpdk.org/results/dashboard/patchsets/29721/

UNH-IOL DPDK Community Lab

To manage your email subscriptions, visit: 
https://lab.dpdk.org/results/dashboard/preferences/subscriptions/