From mboxrd@z Thu Jan  1 00:00:00 1970
Return-Path: <test-report-bounces@dpdk.org>
Received: from mails.dpdk.org (mails.dpdk.org [217.70.189.124])
	by inbox.dpdk.org (Postfix) with ESMTP id 80F8543E01
	for <public@inbox.dpdk.org>; Fri,  5 Apr 2024 14:29:25 +0200 (CEST)
Received: from mails.dpdk.org (localhost [127.0.0.1])
	by mails.dpdk.org (Postfix) with ESMTP id 7D0EB402D8;
	Fri,  5 Apr 2024 14:29:25 +0200 (CEST)
Received: from mail-yw1-f226.google.com (mail-yw1-f226.google.com
 [209.85.128.226])
 by mails.dpdk.org (Postfix) with ESMTP id 07501402CE
 for <test-report@dpdk.org>; Fri,  5 Apr 2024 14:29:23 +0200 (CEST)
Received: by mail-yw1-f226.google.com with SMTP id
 00721157ae682-6164d7a02d2so20090287b3.3
 for <test-report@dpdk.org>; Fri, 05 Apr 2024 05:29:22 -0700 (PDT)
DKIM-Signature: v=1; a=rsa-sha256; c=relaxed/relaxed;
 d=iol.unh.edu; s=unh-iol; t=1712320162; x=1712924962; darn=dpdk.org;
 h=references:in-reply-to:cc:to:from:subject:message-id:date:from:to
 :cc:subject:date:message-id:reply-to;
 bh=R8VDT34O9ED1svsKX3lalHNTuZzCRwLJ1Jz0qqW0zGY=;
 b=ZKRY+QD7xl20597x5G+MuMTgAKpkdwaqbUIgqD1LYeWqdbC+KZA1GniMB6eBfTeoY4
 Tt/ZgHA+ATnpGzmCMEoasm1da4lYvf/knpaX1Gvv7KAXdSgG/fjD3eUdovlvW7PtCBOg
 xEcDSKGNh96clYIejHQTrWuSeuLtYdLgzpIHk=
X-Google-DKIM-Signature: v=1; a=rsa-sha256; c=relaxed/relaxed;
 d=1e100.net; s=20230601; t=1712320162; x=1712924962;
 h=references:in-reply-to:cc:to:from:subject:message-id:date
 :x-gm-message-state:from:to:cc:subject:date:message-id:reply-to;
 bh=R8VDT34O9ED1svsKX3lalHNTuZzCRwLJ1Jz0qqW0zGY=;
 b=qQuAyw0+cIEgljWgnHs8rWrrDhahiK/0UguGFa/j6oUt4ps0HR1a3GPK6aDuJ/mwr/
 ej7tPaarLpBuYGAXLsuu2UQsIF+Srk2d4VAB+asqMUuF9L0VrhETEIlBU2/CHh9Y/vsu
 rWwtkNWBkAVP6kwC1JukRnxN3+M7hGcqzjttw8bKUKI1vE1PzsIB2KUbMcOj2mMDQJb4
 vSI7KSnPbF3Z1WM8Wr5S1/5ZHgCHX+05J7F31H3JTYR0H03wYUKA48e3BCN7xai7iWBY
 lgp8WTbjplLMG1LtOFcUKqlqxKPI4l6pXBLnTe4xZGtUzx4yz3FbmiZmosbsqPhQGp1+
 O6Uw==
X-Gm-Message-State: AOJu0Ywf4L5UPjRjbfuQFAz5MAskAT9cCSOS4iFIIh/kc5HW6/CbbBJN
 xHqnVEpftXvEywUQmPdi4MDZvykdZ6TzKpUt383aefPh0fAGSgjh+gQXmxNzF+w2npvIQJ871+s
 BygAq4TfNuKPXKURIBwPJyW3km7vavA7w6uVDPuIF
X-Google-Smtp-Source: AGHT+IERBTgtTvIlYkInQe0mt82ZGG6fxmLW/F7doeAcEE1+Hm8BQMZNS4Fm8LTQSc/Qlcaw5G14hbPgA1b5
X-Received: by 2002:a81:6c51:0:b0:611:6c29:416e with SMTP id
 h78-20020a816c51000000b006116c29416emr1076747ywc.5.1712320162484; 
 Fri, 05 Apr 2024 05:29:22 -0700 (PDT)
Received: from postal.iol.unh.edu (postal.iol.unh.edu. [132.177.123.84])
 by smtp-relay.gmail.com with ESMTPS id
 gq1-20020a05690c444100b00617c7cd3af1sm64042ywb.20.2024.04.05.05.29.22
 (version=TLS1_2 cipher=ECDHE-ECDSA-AES128-GCM-SHA256 bits=128/128);
 Fri, 05 Apr 2024 05:29:22 -0700 (PDT)
X-Relaying-Domain: iol.unh.edu
Date: Fri, 05 Apr 2024 05:29:22 -0700 (PDT)
Message-ID: <660feea2.050a0220.52e90.4a29SMTPIN_ADDED_MISSING@mx.google.com>
Received: from [172.21.0.10] (unknown [172.18.0.240])
 by postal.iol.unh.edu (Postfix) with ESMTP id 302206052471;
 Fri,  5 Apr 2024 08:29:22 -0400 (EDT)
Subject: |SUCCESS| pw139116 [PATCH] meson/mlx5: Suppress -Wunused-value diagn
From: dpdklab@iol.unh.edu
To: Test Report <test-report@dpdk.org>
Cc: dpdk-test-reports@iol.unh.edu
In-Reply-To: <20240405111310.3280084-1-sebastian.brzezinka@intel.com>
References: <20240405111310.3280084-1-sebastian.brzezinka@intel.com>
Content-Type: text/plain
X-BeenThere: test-report@dpdk.org
X-Mailman-Version: 2.1.29
Precedence: list
List-Id: automatic DPDK test reports <test-report.dpdk.org>
List-Unsubscribe: <https://mails.dpdk.org/options/test-report>,
 <mailto:test-report-request@dpdk.org?subject=unsubscribe>
List-Archive: <http://mails.dpdk.org/archives/test-report/>
List-Post: <mailto:test-report@dpdk.org>
List-Help: <mailto:test-report-request@dpdk.org?subject=help>
List-Subscribe: <https://mails.dpdk.org/listinfo/test-report>,
 <mailto:test-report-request@dpdk.org?subject=subscribe>
Errors-To: test-report-bounces@dpdk.org

Test-Label: iol-unit-amd64-testing
Test-Status: SUCCESS
http://dpdk.org/patch/139116

_Testing PASS_

Submitter: Sebastian Brzezinka <sebastian.brzezinka@intel.com>
Date: Friday, April 05 2024 11:13:10 
DPDK git baseline: Repo:dpdk
  Branch: master
  CommitID:80ecef6d1f71fcebc0a51d7cabc51f73ee142ff2

139116 --> testing pass

Test environment and result as below:

+---------------------+----------------+
|     Environment     | dpdk_unit_test |
+=====================+================+
| Windows Server 2019 | PASS           |
+---------------------+----------------+
| CentOS Stream 9     | PASS           |
+---------------------+----------------+
| CentOS Stream 8     | PASS           |
+---------------------+----------------+
| Fedora 38           | PASS           |
+---------------------+----------------+
| Debian Bullseye     | PASS           |
+---------------------+----------------+
| Debian 12           | PASS           |
+---------------------+----------------+
| Fedora 39           | PASS           |
+---------------------+----------------+
| Fedora 37           | PASS           |
+---------------------+----------------+
| RHEL8               | PASS           |
+---------------------+----------------+
| Windows Server 2022 | PASS           |
+---------------------+----------------+


Windows Server 2019
	Kernel: 10.0.17763
	Compiler: clang 14.0 and gcc 8.1.0 (MinGW)

CentOS Stream 9
	Kernel: 5.4.0-167-generic
	Compiler: gcc 11.4.1 20230605

CentOS Stream 8
	Kernel: 5.4.0-167-generic
	Compiler: gcc 8.5.0 20210514

Fedora 38
	Kernel: Depends on container host
	Compiler: clang 16.0.6

Debian Bullseye
	Kernel: 5.4.0-167-generic
	Compiler: gcc 10.2.1-6

Debian 12
	Kernel: Container Host Kernel
	Compiler: gcc 10.2.1

Fedora 39
	Kernel: Depends on container host
	Compiler: gcc 13.2.1

Fedora 37
	Kernel: Depends on container host system
	Compiler: gcc 12.3.1

RHEL8
	Kernel: 5.4.0-167-generic
	Compiler: gcc 8.5.0 20210514 (Red Hat 8.5.0-20)

Windows Server 2022
	Kernel: 10.0.20348.2031
	Compiler: clang 15.0.7, gcc 8.1.0 (MinGW), and MSVC VS 17.9

To view detailed results, visit:
https://lab.dpdk.org/results/dashboard/patchsets/29721/

UNH-IOL DPDK Community Lab

To manage your email subscriptions, visit: 
https://lab.dpdk.org/results/dashboard/preferences/subscriptions/