From mboxrd@z Thu Jan  1 00:00:00 1970
Return-Path: <test-report-bounces@dpdk.org>
Received: from mails.dpdk.org (mails.dpdk.org [217.70.189.124])
	by inbox.dpdk.org (Postfix) with ESMTP id 52E7E43E01
	for <public@inbox.dpdk.org>; Fri,  5 Apr 2024 14:32:23 +0200 (CEST)
Received: from mails.dpdk.org (localhost [127.0.0.1])
	by mails.dpdk.org (Postfix) with ESMTP id 4DD0E402D4;
	Fri,  5 Apr 2024 14:32:23 +0200 (CEST)
Received: from mail-qv1-f98.google.com (mail-qv1-f98.google.com
 [209.85.219.98]) by mails.dpdk.org (Postfix) with ESMTP id D39CF402CE
 for <test-report@dpdk.org>; Fri,  5 Apr 2024 14:32:21 +0200 (CEST)
Received: by mail-qv1-f98.google.com with SMTP id
 6a1803df08f44-6963c0c507eso23146116d6.1
 for <test-report@dpdk.org>; Fri, 05 Apr 2024 05:32:21 -0700 (PDT)
DKIM-Signature: v=1; a=rsa-sha256; c=relaxed/relaxed;
 d=iol.unh.edu; s=unh-iol; t=1712320341; x=1712925141; darn=dpdk.org;
 h=references:in-reply-to:cc:to:from:subject:message-id:date:from:to
 :cc:subject:date:message-id:reply-to;
 bh=gWrYH8RX/l7VQjPWLlji6Xe0BqldG+wz7crxTIk56oU=;
 b=JgP+31Ycv6mzTGF5A1Mt/E1u/NLUjHxIH1ig4Akv8QI02u3zDF3I4kTmFACBalvD8q
 ftUJLh2Rx6PD6xhVQOYvGsTRFrKXDk9/6c+djQEMoPmZhlHUDtOsVgCgTuZ5W/VmuhMa
 xYmuM8TK1dOt6i5XgsPCHf4ZeflBCs7HuVYV0=
X-Google-DKIM-Signature: v=1; a=rsa-sha256; c=relaxed/relaxed;
 d=1e100.net; s=20230601; t=1712320341; x=1712925141;
 h=references:in-reply-to:cc:to:from:subject:message-id:date
 :x-gm-message-state:from:to:cc:subject:date:message-id:reply-to;
 bh=gWrYH8RX/l7VQjPWLlji6Xe0BqldG+wz7crxTIk56oU=;
 b=qu90mK82TUBihrOUQZghgp0uR9bg489nmMzY0rv20OYBYnW6Gi9jh4OycWFc8JEZim
 wvLVHAYL7XNPiQHfaXvh2dPYhg115wTpS0sHiyuvJ1r/L0yerKxaADm3WqnKKcBgSx7v
 QktUxKkEqtdsazc8CGFWmjE2y4b6zSAWgw49z+Q/lLiCUBs3fKJ3/g2wM6gwLjqBc8Gu
 e+yMUq4gZAbrQmDUmPOBrXsdiHHJ/3XTzukfJDL/Ke5Zb1QEXA+5iDBVSU5lxjFzPYkV
 un8YsXm8M08TPHzeZe7Xog5NWCAFkGoTllDtOIlIPZXe6l8XKQ6eJ9SHkSLIuSoh4V3t
 CTIQ==
X-Gm-Message-State: AOJu0Yy5Oh9dFvMg+HsmtmN2RjoPf81b7cgRyc3SsFqIsvZ56bX+ZXdI
 zNCqBKhI9Hkf4ucO7r8erNj1nVo/uCblDv4qHfEsYhFoCOMQkCeQIFUU+ZULxTK6GrVHiqBqops
 gM9nqVaJ9Xdf7nmmQVUudbcaeAhmaYldh/MpdL6uj
X-Google-Smtp-Source: AGHT+IGHHmudUW3ywMnY2RbGJpq3J/dAY74LYBV3zBe6+PI2Bi6Pd2Z35Sj+ytJpH8MupC49W3A08PPtgf+/
X-Received: by 2002:ad4:574c:0:b0:696:3e05:9c21 with SMTP id
 q12-20020ad4574c000000b006963e059c21mr2242447qvx.18.1712320341315; 
 Fri, 05 Apr 2024 05:32:21 -0700 (PDT)
Received: from postal.iol.unh.edu (postal.iol.unh.edu. [132.177.123.84])
 by smtp-relay.gmail.com with ESMTPS id
 g14-20020a0cf08e000000b006993eea7b2dsm60713qvk.74.2024.04.05.05.32.21
 (version=TLS1_2 cipher=ECDHE-ECDSA-AES128-GCM-SHA256 bits=128/128);
 Fri, 05 Apr 2024 05:32:21 -0700 (PDT)
X-Relaying-Domain: iol.unh.edu
Date: Fri, 05 Apr 2024 05:32:21 -0700 (PDT)
Message-ID: <660fef55.0c0a0220.e50e8.4ac4SMTPIN_ADDED_MISSING@mx.google.com>
Received: from [172.21.0.13] (unknown [172.18.0.240])
 by postal.iol.unh.edu (Postfix) with ESMTP id 052E56052471;
 Fri,  5 Apr 2024 08:32:21 -0400 (EDT)
Subject: |SUCCESS| pw139116 [PATCH] meson/mlx5: Suppress -Wunused-value diagn
From: dpdklab@iol.unh.edu
To: Test Report <test-report@dpdk.org>
Cc: dpdk-test-reports@iol.unh.edu
In-Reply-To: <20240405111310.3280084-1-sebastian.brzezinka@intel.com>
References: <20240405111310.3280084-1-sebastian.brzezinka@intel.com>
Content-Type: text/plain
X-BeenThere: test-report@dpdk.org
X-Mailman-Version: 2.1.29
Precedence: list
List-Id: automatic DPDK test reports <test-report.dpdk.org>
List-Unsubscribe: <https://mails.dpdk.org/options/test-report>,
 <mailto:test-report-request@dpdk.org?subject=unsubscribe>
List-Archive: <http://mails.dpdk.org/archives/test-report/>
List-Post: <mailto:test-report@dpdk.org>
List-Help: <mailto:test-report-request@dpdk.org?subject=help>
List-Subscribe: <https://mails.dpdk.org/listinfo/test-report>,
 <mailto:test-report-request@dpdk.org?subject=subscribe>
Errors-To: test-report-bounces@dpdk.org

Test-Label: iol-unit-amd64-testing
Test-Status: SUCCESS
http://dpdk.org/patch/139116

_Testing PASS_

Submitter: Sebastian Brzezinka <sebastian.brzezinka@intel.com>
Date: Friday, April 05 2024 11:13:10 
DPDK git baseline: Repo:dpdk
  Branch: master
  CommitID:80ecef6d1f71fcebc0a51d7cabc51f73ee142ff2

139116 --> testing pass

Test environment and result as below:

+---------------------+----------------+
|     Environment     | dpdk_unit_test |
+=====================+================+
| Windows Server 2019 | PASS           |
+---------------------+----------------+
| CentOS Stream 9     | PASS           |
+---------------------+----------------+
| CentOS Stream 8     | PASS           |
+---------------------+----------------+
| Fedora 38           | PASS           |
+---------------------+----------------+
| Debian Bullseye     | PASS           |
+---------------------+----------------+
| Debian 12           | PASS           |
+---------------------+----------------+
| Fedora 39           | PASS           |
+---------------------+----------------+
| Fedora 37           | PASS           |
+---------------------+----------------+
| RHEL8               | PASS           |
+---------------------+----------------+
| Windows Server 2022 | PASS           |
+---------------------+----------------+
| openSUSE Leap 15    | PASS           |
+---------------------+----------------+
| Ubuntu 22.04        | PASS           |
+---------------------+----------------+


Windows Server 2019
	Kernel: 10.0.17763
	Compiler: clang 14.0 and gcc 8.1.0 (MinGW)

CentOS Stream 9
	Kernel: 5.4.0-167-generic
	Compiler: gcc 11.4.1 20230605

CentOS Stream 8
	Kernel: 5.4.0-167-generic
	Compiler: gcc 8.5.0 20210514

Fedora 38
	Kernel: Depends on container host
	Compiler: clang 16.0.6

Debian Bullseye
	Kernel: 5.4.0-167-generic
	Compiler: gcc 10.2.1-6

Debian 12
	Kernel: Container Host Kernel
	Compiler: gcc 10.2.1

Fedora 39
	Kernel: Depends on container host
	Compiler: gcc 13.2.1

Fedora 37
	Kernel: Depends on container host system
	Compiler: gcc 12.3.1

RHEL8
	Kernel: 5.4.0-167-generic
	Compiler: gcc 8.5.0 20210514 (Red Hat 8.5.0-20)

Windows Server 2022
	Kernel: 10.0.20348.2031
	Compiler: clang 15.0.7, gcc 8.1.0 (MinGW), and MSVC VS 17.9

openSUSE Leap 15
	Kernel: 5.4.0-167-generic
	Compiler: gcc 7.5.0

Ubuntu 22.04
	Kernel: 5.4.0-167-generic
	Compiler: gcc 11.4.0

To view detailed results, visit:
https://lab.dpdk.org/results/dashboard/patchsets/29721/

UNH-IOL DPDK Community Lab

To manage your email subscriptions, visit: 
https://lab.dpdk.org/results/dashboard/preferences/subscriptions/