From mboxrd@z Thu Jan  1 00:00:00 1970
Return-Path: <test-report-bounces@dpdk.org>
Received: from mails.dpdk.org (mails.dpdk.org [217.70.189.124])
	by inbox.dpdk.org (Postfix) with ESMTP id 5D88E43E01
	for <public@inbox.dpdk.org>; Fri,  5 Apr 2024 14:52:30 +0200 (CEST)
Received: from mails.dpdk.org (localhost [127.0.0.1])
	by mails.dpdk.org (Postfix) with ESMTP id 57D1E402D4;
	Fri,  5 Apr 2024 14:52:30 +0200 (CEST)
Received: from mail-il1-f225.google.com (mail-il1-f225.google.com
 [209.85.166.225])
 by mails.dpdk.org (Postfix) with ESMTP id AAAA7402CE
 for <test-report@dpdk.org>; Fri,  5 Apr 2024 14:52:29 +0200 (CEST)
Received: by mail-il1-f225.google.com with SMTP id
 e9e14a558f8ab-3689a0abfd2so8392175ab.2
 for <test-report@dpdk.org>; Fri, 05 Apr 2024 05:52:29 -0700 (PDT)
DKIM-Signature: v=1; a=rsa-sha256; c=relaxed/relaxed;
 d=iol.unh.edu; s=unh-iol; t=1712321549; x=1712926349; darn=dpdk.org;
 h=references:in-reply-to:cc:to:from:subject:message-id:date:from:to
 :cc:subject:date:message-id:reply-to;
 bh=XbUnV1xdTrbPGCzuGjB+HCv5tmdWJeKpw4lsY8WG5rk=;
 b=H2BZTGpTVg4GI4ZrlyMMWlzRMN+qWsR8NAaWP90pR8v7/P3e803/qz95uXJuAuOl5G
 OHqxJFSiSa+Rt8nm5obuw5N1QHe9Y6dwcNVihEvnPhU3sgQ5TJ5cGnFZElT/vgJ0kmrg
 bWCofxm3A1ZiekWAeogj39H/yiyzd99NhDpbU=
X-Google-DKIM-Signature: v=1; a=rsa-sha256; c=relaxed/relaxed;
 d=1e100.net; s=20230601; t=1712321549; x=1712926349;
 h=references:in-reply-to:cc:to:from:subject:message-id:date
 :x-gm-message-state:from:to:cc:subject:date:message-id:reply-to;
 bh=XbUnV1xdTrbPGCzuGjB+HCv5tmdWJeKpw4lsY8WG5rk=;
 b=mhNq7zMMzSumXijqtAm9vlzj6pLhNXCKJ4SUZv9TZiiMfZKOhcyMLcS9/cRfe+pO9m
 8AvmoJIdPU+jT1PCRikN9HH32I2j2JnEX/p+TaC9AJAd+RUoM3rTOtNZ2XzFO9xR/Btx
 ZZEJtHNG9pQ83LFKuUtqmlcjy0peE0XNkP+49hwVFKRZ6v4Nz5bdOuzunLDGdXTFDzWb
 xrMZnSPI3aPFk7rDqo2zJm7L/fMNAhM1ZzxoF6elOy+WMkS6avaw1QP40deWJXDU5WaO
 Qy7p/jVWeVKq2kofz8rMs78CvH1kfljQQNhEt+xt72tmZvSTzqUurioxcZiWx03cvRlH
 yiZw==
X-Gm-Message-State: AOJu0YwRlRnf+NEVNlvGU1BgNcve5Nq726k2C3ZHZf4GS06P8m2RqX9Y
 k9dSolLfpMniBIDqSEq8c/OVwdA/YsFz/yvBfnwj9rq8rQQfBv7VNy7Fe10LUnpKonbhmx4+2WO
 FOoAxmrZdZ467x18W7yc7AgNG6Q8OrVaISMIhkBtzpb2CBGM5UHFFWq6e
X-Google-Smtp-Source: AGHT+IFtI0q55yQ93zA6VgD/c7w65Hok+k4dtX9Xoteim+8pRJuzu3nx1nuofvyjGaIpLw+knWe+braK4yiw
X-Received: by 2002:a05:6e02:1544:b0:369:aaa9:a036 with SMTP id
 j4-20020a056e02154400b00369aaa9a036mr1359703ilu.0.1712321548972; 
 Fri, 05 Apr 2024 05:52:28 -0700 (PDT)
Received: from postal.iol.unh.edu (postal.iol.unh.edu.
 [2606:4100:3880:1234::84]) by smtp-relay.gmail.com with ESMTPS id
 i6-20020a056e020ec600b0036881963aedsm47546ilk.35.2024.04.05.05.52.28
 (version=TLS1_2 cipher=ECDHE-ECDSA-AES128-GCM-SHA256 bits=128/128);
 Fri, 05 Apr 2024 05:52:28 -0700 (PDT)
X-Relaying-Domain: iol.unh.edu
Date: Fri, 05 Apr 2024 05:52:28 -0700 (PDT)
Message-ID: <660ff40c.050a0220.39a21.3982SMTPIN_ADDED_MISSING@mx.google.com>
Received: from [172.21.0.7] (unknown [172.18.0.240])
 by postal.iol.unh.edu (Postfix) with ESMTP id 6F7BE6052471;
 Fri,  5 Apr 2024 08:52:28 -0400 (EDT)
Subject: |SUCCESS| pw139115 [PATCH] pmdinfogen: avoid empty string in ELFSymb
From: dpdklab@iol.unh.edu
To: Test Report <test-report@dpdk.org>
Cc: dpdk-test-reports@iol.unh.edu
In-Reply-To: <20240405110929.3279775-1-sebastian.brzezinka@intel.com>
References: <20240405110929.3279775-1-sebastian.brzezinka@intel.com>
Content-Type: text/plain
X-BeenThere: test-report@dpdk.org
X-Mailman-Version: 2.1.29
Precedence: list
List-Id: automatic DPDK test reports <test-report.dpdk.org>
List-Unsubscribe: <https://mails.dpdk.org/options/test-report>,
 <mailto:test-report-request@dpdk.org?subject=unsubscribe>
List-Archive: <http://mails.dpdk.org/archives/test-report/>
List-Post: <mailto:test-report@dpdk.org>
List-Help: <mailto:test-report-request@dpdk.org?subject=help>
List-Subscribe: <https://mails.dpdk.org/listinfo/test-report>,
 <mailto:test-report-request@dpdk.org?subject=subscribe>
Errors-To: test-report-bounces@dpdk.org

Test-Label: iol-compile-amd64-testing
Test-Status: SUCCESS
http://dpdk.org/patch/139115

_Testing PASS_

Submitter: Sebastian Brzezinka <sebastian.brzezinka@intel.com>
Date: Friday, April 05 2024 11:09:29 
DPDK git baseline: Repo:dpdk
  Branch: master
  CommitID:e2e546ab5bf5e024986ccb5310ab43982f3bb40c

139115 --> testing pass

Test environment and result as below:

+---------------------+--------------------+----------------------+-------------------+
|     Environment     | dpdk_meson_compile | dpdk_mingw64_compile | dpdk_msvc_compile |
+=====================+====================+======================+===================+
| FreeBSD 13.2        | PASS               | SKIPPED              | SKIPPED           |
+---------------------+--------------------+----------------------+-------------------+
| Windows Server 2022 | PASS               | PASS                 | PASS              |
+---------------------+--------------------+----------------------+-------------------+
| Windows Server 2019 | PASS               | PASS                 | SKIPPED           |
+---------------------+--------------------+----------------------+-------------------+


FreeBSD 13.2
	Kernel: 13.2
	Compiler: clang 14.0.5

Windows Server 2022
	Kernel: 10.0.20348.2031
	Compiler: clang 15.0.7, gcc 8.1.0 (MinGW), and MSVC VS 17.9

Windows Server 2019
	Kernel: 10.0.17763
	Compiler: clang 14.0 and gcc 8.1.0 (MinGW)

To view detailed results, visit:
https://lab.dpdk.org/results/dashboard/patchsets/29720/

UNH-IOL DPDK Community Lab

To manage your email subscriptions, visit: 
https://lab.dpdk.org/results/dashboard/preferences/subscriptions/