From mboxrd@z Thu Jan  1 00:00:00 1970
Return-Path: <test-report-bounces@dpdk.org>
Received: from mails.dpdk.org (mails.dpdk.org [217.70.189.124])
	by inbox.dpdk.org (Postfix) with ESMTP id DF1E943E01
	for <public@inbox.dpdk.org>; Fri,  5 Apr 2024 15:00:03 +0200 (CEST)
Received: from mails.dpdk.org (localhost [127.0.0.1])
	by mails.dpdk.org (Postfix) with ESMTP id D9FB4402EC;
	Fri,  5 Apr 2024 15:00:03 +0200 (CEST)
Received: from mail-qv1-f98.google.com (mail-qv1-f98.google.com
 [209.85.219.98]) by mails.dpdk.org (Postfix) with ESMTP id 47430402D4
 for <test-report@dpdk.org>; Fri,  5 Apr 2024 15:00:02 +0200 (CEST)
Received: by mail-qv1-f98.google.com with SMTP id
 6a1803df08f44-6991e317e05so27096816d6.1
 for <test-report@dpdk.org>; Fri, 05 Apr 2024 06:00:02 -0700 (PDT)
DKIM-Signature: v=1; a=rsa-sha256; c=relaxed/relaxed;
 d=iol.unh.edu; s=unh-iol; t=1712322001; x=1712926801; darn=dpdk.org;
 h=references:in-reply-to:cc:to:from:subject:message-id:date:from:to
 :cc:subject:date:message-id:reply-to;
 bh=6j66Cj+/be7lwHcYmkQFymsRvUD2JI8eoVtS1ly4Fr8=;
 b=Fz5ckGn9tQkBe5nsb14Vbi5Yny/cDpE7+IcCbPJLhGjfXHKutm5LFvNp54qzPvorFX
 +dTIc9cDr5gtmiGVr+8znort5QHcNtwEjKeFm2rdvYcyZOURNBxA4Zfuo//iSmVmETkT
 bgt3Kwpu24avLfNB8Rdpwye1UdeJUi8Mr6iow=
X-Google-DKIM-Signature: v=1; a=rsa-sha256; c=relaxed/relaxed;
 d=1e100.net; s=20230601; t=1712322001; x=1712926801;
 h=references:in-reply-to:cc:to:from:subject:message-id:date
 :x-gm-message-state:from:to:cc:subject:date:message-id:reply-to;
 bh=6j66Cj+/be7lwHcYmkQFymsRvUD2JI8eoVtS1ly4Fr8=;
 b=bKBuegPPepTNeUfqRyaQxuS/oZ1Z/BTleKCAmzoy86+C7LHvLmuQCidgNUCJGla6Dg
 f3nUub+5tmwT7O4bLawZg2DIpE+b7kUFEc2BJIUyqBCPrLfZFTSXIWMaK75NLbo4uot1
 NtniWSwakJdJ6VeK+P3CtetSPnyKsmkJVEP82h3oChtJpcG9OU3sm5WbKsqUoEGljROx
 ITaaDZhAsTNTBfYMhjRTTuUHOkPNV5jOJjj0ybbUYfRARk4erNcNNwTtWgzWR7nEajkH
 egaXlEnV9wPlDxSRHfHqOsEk4OEFKOy1JKFqERSg2ud5sD2UGWOZuo94/ZtFVKxGb0Jl
 WsJA==
X-Gm-Message-State: AOJu0YzozSb9S6FWB0C4KCTX9LVIYtk7y6cZRszEaXXU2Ha/vQ2qbPeH
 ltsMWgPNAuacnhltg98GaELDDoPMFZT9rZXe+TkU4k9dOTz8IfNSgwNHlj4XuXlpg77Ik1Wcc7i
 7jOLS1J6Z+9tCJpnf30In3X2gHWVgjBS8aFUKjpOn
X-Google-Smtp-Source: AGHT+IGDCMR0Giwc0BxbMpbShYZXEP7gaF/pyAwKwpfeTAZvS5lhXkqc4PGZ8i/O04PwVPxV3hA+4m/+5NcH
X-Received: by 2002:ad4:4ee4:0:b0:698:dafb:ae27 with SMTP id
 dv4-20020ad44ee4000000b00698dafbae27mr2877122qvb.7.1712322000770; 
 Fri, 05 Apr 2024 06:00:00 -0700 (PDT)
Received: from postal.iol.unh.edu (postal.iol.unh.edu. [132.177.123.84])
 by smtp-relay.gmail.com with ESMTPS id
 jp9-20020ad45f89000000b0069931c8f762sm73355qvb.31.2024.04.05.06.00.00
 (version=TLS1_2 cipher=ECDHE-ECDSA-AES128-GCM-SHA256 bits=128/128);
 Fri, 05 Apr 2024 06:00:00 -0700 (PDT)
X-Relaying-Domain: iol.unh.edu
Date: Fri, 05 Apr 2024 06:00:00 -0700 (PDT)
Message-ID: <660ff5d0.d40a0220.28812.5c6aSMTPIN_ADDED_MISSING@mx.google.com>
Received: from [172.21.0.7] (unknown [172.18.0.240])
 by postal.iol.unh.edu (Postfix) with ESMTP id 7673C6052471;
 Fri,  5 Apr 2024 08:59:59 -0400 (EDT)
Subject: |SUCCESS| pw139115 [PATCH] pmdinfogen: avoid empty string in ELFSymb
From: dpdklab@iol.unh.edu
To: Test Report <test-report@dpdk.org>
Cc: dpdk-test-reports@iol.unh.edu
In-Reply-To: <20240405110929.3279775-1-sebastian.brzezinka@intel.com>
References: <20240405110929.3279775-1-sebastian.brzezinka@intel.com>
Content-Type: text/plain
X-BeenThere: test-report@dpdk.org
X-Mailman-Version: 2.1.29
Precedence: list
List-Id: automatic DPDK test reports <test-report.dpdk.org>
List-Unsubscribe: <https://mails.dpdk.org/options/test-report>,
 <mailto:test-report-request@dpdk.org?subject=unsubscribe>
List-Archive: <http://mails.dpdk.org/archives/test-report/>
List-Post: <mailto:test-report@dpdk.org>
List-Help: <mailto:test-report-request@dpdk.org?subject=help>
List-Subscribe: <https://mails.dpdk.org/listinfo/test-report>,
 <mailto:test-report-request@dpdk.org?subject=subscribe>
Errors-To: test-report-bounces@dpdk.org

Test-Label: iol-unit-arm64-testing
Test-Status: SUCCESS
http://dpdk.org/patch/139115

_Testing PASS_

Submitter: Sebastian Brzezinka <sebastian.brzezinka@intel.com>
Date: Friday, April 05 2024 11:09:29 
DPDK git baseline: Repo:dpdk
  Branch: master
  CommitID:e2e546ab5bf5e024986ccb5310ab43982f3bb40c

139115 --> testing pass

Test environment and result as below:

+--------------------------+----------------+
|       Environment        | dpdk_unit_test |
+==========================+================+
| CentOS Stream 9 (ARM)    | PASS           |
+--------------------------+----------------+
| Debian 11 (Buster) (ARM) | PASS           |
+--------------------------+----------------+
| Debian 12 (arm)          | PASS           |
+--------------------------+----------------+
| Fedora 37 (ARM)          | PASS           |
+--------------------------+----------------+
| Fedora 39 (ARM)          | PASS           |
+--------------------------+----------------+
| Fedora 38 (ARM)          | PASS           |
+--------------------------+----------------+


CentOS Stream 9 (ARM)
	Kernel: Container Host Kernel
	Compiler: gcc 11.4.1

Debian 11 (Buster) (ARM)
	Kernel: Container Host Kernel
	Compiler: gcc 10.2.1

Debian 12 (arm)
	Kernel: Container Host Kernel
	Compiler: gcc 12.2.0

Fedora 37 (ARM)
	Kernel: Depends on container host
	Compiler: gcc 12.3.1

Fedora 39 (ARM)
	Kernel: Depends on container host
	Compiler: gcc 13.2.1

Fedora 38 (ARM)
	Kernel: Depends on container host
	Compiler: gcc 13.2.1

To view detailed results, visit:
https://lab.dpdk.org/results/dashboard/patchsets/29720/

UNH-IOL DPDK Community Lab

To manage your email subscriptions, visit: 
https://lab.dpdk.org/results/dashboard/preferences/subscriptions/