From mboxrd@z Thu Jan  1 00:00:00 1970
Return-Path: <test-report-bounces@dpdk.org>
Received: from mails.dpdk.org (mails.dpdk.org [217.70.189.124])
	by inbox.dpdk.org (Postfix) with ESMTP id A28CA43E01
	for <public@inbox.dpdk.org>; Fri,  5 Apr 2024 15:01:37 +0200 (CEST)
Received: from mails.dpdk.org (localhost [127.0.0.1])
	by mails.dpdk.org (Postfix) with ESMTP id 9E74A402EC;
	Fri,  5 Apr 2024 15:01:37 +0200 (CEST)
Received: from mail-il1-f226.google.com (mail-il1-f226.google.com
 [209.85.166.226])
 by mails.dpdk.org (Postfix) with ESMTP id D0A5C402D4
 for <test-report@dpdk.org>; Fri,  5 Apr 2024 15:01:35 +0200 (CEST)
Received: by mail-il1-f226.google.com with SMTP id
 e9e14a558f8ab-369baba9c2cso3858175ab.3
 for <test-report@dpdk.org>; Fri, 05 Apr 2024 06:01:35 -0700 (PDT)
DKIM-Signature: v=1; a=rsa-sha256; c=relaxed/relaxed;
 d=iol.unh.edu; s=unh-iol; t=1712322095; x=1712926895; darn=dpdk.org;
 h=references:in-reply-to:cc:to:from:subject:message-id:date:from:to
 :cc:subject:date:message-id:reply-to;
 bh=1Rhi2QGl6135OB0QvFktMNrZZu9s2TCyCbs8rB6PYg4=;
 b=fogNGERgSwIBuCpVsCNhxpNLQdUm/MjFyDsoEgy+KQdpS7F4B9Gw0xOcleMBSe//cs
 3rxBFk7NLpjejrh87iVD2fRXXDC64ulR1RlUdDXhqhhG6gDE3GLby65KlomC5C4KZSZA
 ETeE3rzAGFmA6uOoESR788pYOwvzU0BZ6pht0=
X-Google-DKIM-Signature: v=1; a=rsa-sha256; c=relaxed/relaxed;
 d=1e100.net; s=20230601; t=1712322095; x=1712926895;
 h=references:in-reply-to:cc:to:from:subject:message-id:date
 :x-gm-message-state:from:to:cc:subject:date:message-id:reply-to;
 bh=1Rhi2QGl6135OB0QvFktMNrZZu9s2TCyCbs8rB6PYg4=;
 b=IYGlc2csMVkW2xkd8Ifkmnwp6JaXrXv4GSAiGT8MWEXAhAnBJtSPh8VaOUjyfNUP0U
 Uq++YcWB/MJxOg4bQ0ke2vEBAEuqRGY8YYYGlha2iiapStSschPghExyqrAoK1islJKc
 Ew2GL/GNbHEDb6iMj0OypgGIgoQaQk7183SN2PsKfjXgoVzYE75Z785L2XtMPGBsbWNj
 lvR3w0fNXdBeVX8YmxAJGrY5rzlVRy4WZNchFMvruUay0TJir2ud7VlOQKyQ85yZvq0v
 UDrKYN1xCDgkhIcSry/4LT+6+eDO4g7pwAcp7l0hlK/p3T0TXm+nyN7y2VwnRlVsIVh7
 uDlw==
X-Gm-Message-State: AOJu0YzOnLhkvILJZ2hl4mj+GTt4B/xOG2FOWoT1DbQ6zsCwl+LmMrQ7
 wx+fdXFaSCElP4zmPK+bNuRQufsEah2stb3A5qqVYfJqGIbSUqvuDvggi3tcZtQz4XdDksziXph
 NwlYS4z8jgA+NZ9SK4cqokLX6VQ90PXTWJXHHTrkt
X-Google-Smtp-Source: AGHT+IG+3uKekJ8umDr6TBKNA9r7e/ZXbuyAzrL5NCgA4ZNJer0rxMxWNiC+rfdtJlkPpuuBXQe/qJ6L0JB3
X-Received: by 2002:a05:6e02:1aad:b0:369:8d68:fb8 with SMTP id
 l13-20020a056e021aad00b003698d680fb8mr1511442ilv.11.1712322095209; 
 Fri, 05 Apr 2024 06:01:35 -0700 (PDT)
Received: from postal.iol.unh.edu (postal.iol.unh.edu. [132.177.123.84])
 by smtp-relay.gmail.com with ESMTPS id
 fh19-20020a056638629300b00474a578f624sm59329jab.39.2024.04.05.06.01.35
 (version=TLS1_2 cipher=ECDHE-ECDSA-AES128-GCM-SHA256 bits=128/128);
 Fri, 05 Apr 2024 06:01:35 -0700 (PDT)
X-Relaying-Domain: iol.unh.edu
Date: Fri, 05 Apr 2024 06:01:35 -0700 (PDT)
Message-ID: <660ff62f.050a0220.760c0.4ac4SMTPIN_ADDED_MISSING@mx.google.com>
Received: from [172.21.0.10] (unknown [172.18.0.240])
 by postal.iol.unh.edu (Postfix) with ESMTP id AD5276052471;
 Fri,  5 Apr 2024 09:01:33 -0400 (EDT)
Subject: |SUCCESS| pw139115 [PATCH] pmdinfogen: avoid empty string in ELFSymb
From: dpdklab@iol.unh.edu
To: Test Report <test-report@dpdk.org>
Cc: dpdk-test-reports@iol.unh.edu
In-Reply-To: <20240405110929.3279775-1-sebastian.brzezinka@intel.com>
References: <20240405110929.3279775-1-sebastian.brzezinka@intel.com>
Content-Type: text/plain
X-BeenThere: test-report@dpdk.org
X-Mailman-Version: 2.1.29
Precedence: list
List-Id: automatic DPDK test reports <test-report.dpdk.org>
List-Unsubscribe: <https://mails.dpdk.org/options/test-report>,
 <mailto:test-report-request@dpdk.org?subject=unsubscribe>
List-Archive: <http://mails.dpdk.org/archives/test-report/>
List-Post: <mailto:test-report@dpdk.org>
List-Help: <mailto:test-report-request@dpdk.org?subject=help>
List-Subscribe: <https://mails.dpdk.org/listinfo/test-report>,
 <mailto:test-report-request@dpdk.org?subject=subscribe>
Errors-To: test-report-bounces@dpdk.org

Test-Label: iol-compile-arm64-testing
Test-Status: SUCCESS
http://dpdk.org/patch/139115

_Testing PASS_

Submitter: Sebastian Brzezinka <sebastian.brzezinka@intel.com>
Date: Friday, April 05 2024 11:09:29 
DPDK git baseline: Repo:dpdk
  Branch: master
  CommitID:e2e546ab5bf5e024986ccb5310ab43982f3bb40c

139115 --> testing pass

Test environment and result as below:

+--------------------------+--------------------+
|       Environment        | dpdk_meson_compile |
+==========================+====================+
| Debian 12 with MUSDK     | PASS               |
+--------------------------+--------------------+
| Fedora 38 (ARM)          | PASS               |
+--------------------------+--------------------+
| Fedora 37 (ARM)          | PASS               |
+--------------------------+--------------------+
| Fedora 39 (ARM)          | PASS               |
+--------------------------+--------------------+
| Ubuntu 20.04 (ARM)       | PASS               |
+--------------------------+--------------------+
| Ubuntu 20.04 ARM SVE     | PASS               |
+--------------------------+--------------------+
| Debian 12 (arm)          | PASS               |
+--------------------------+--------------------+
| Debian 11 (Buster) (ARM) | PASS               |
+--------------------------+--------------------+


Debian 12 with MUSDK
	Kernel: Container Host Kernel
	Compiler: gcc 12.2.0

Fedora 38 (ARM)
	Kernel: Depends on container host
	Compiler: gcc 13.2.1

Fedora 37 (ARM)
	Kernel: Depends on container host
	Compiler: gcc 12.3.1

Fedora 39 (ARM)
	Kernel: Depends on container host
	Compiler: gcc 13.2.1

Ubuntu 20.04 (ARM)
	Kernel: Container Host Kernel
	Compiler: gcc 9.4.0

Ubuntu 20.04 ARM SVE
	Kernel: 5.4.0-167-generic
	Compiler: gcc (Ubuntu 10.5.0-1ubuntu1~20.04) 10.5.0

Debian 12 (arm)
	Kernel: Container Host Kernel
	Compiler: gcc 12.2.0

Debian 11 (Buster) (ARM)
	Kernel: Container Host Kernel
	Compiler: gcc 10.2.1

To view detailed results, visit:
https://lab.dpdk.org/results/dashboard/patchsets/29720/

UNH-IOL DPDK Community Lab

To manage your email subscriptions, visit: 
https://lab.dpdk.org/results/dashboard/preferences/subscriptions/