From mboxrd@z Thu Jan  1 00:00:00 1970
Return-Path: <test-report-bounces@dpdk.org>
Received: from mails.dpdk.org (mails.dpdk.org [217.70.189.124])
	by inbox.dpdk.org (Postfix) with ESMTP id 7AC9243E01
	for <public@inbox.dpdk.org>; Fri,  5 Apr 2024 15:04:13 +0200 (CEST)
Received: from mails.dpdk.org (localhost [127.0.0.1])
	by mails.dpdk.org (Postfix) with ESMTP id 7151B402E3;
	Fri,  5 Apr 2024 15:04:13 +0200 (CEST)
Received: from mail-ot1-f99.google.com (mail-ot1-f99.google.com
 [209.85.210.99]) by mails.dpdk.org (Postfix) with ESMTP id 88D8B402D4
 for <test-report@dpdk.org>; Fri,  5 Apr 2024 15:04:11 +0200 (CEST)
Received: by mail-ot1-f99.google.com with SMTP id
 46e09a7af769-6e89bdd4e3fso1123376a34.0
 for <test-report@dpdk.org>; Fri, 05 Apr 2024 06:04:11 -0700 (PDT)
DKIM-Signature: v=1; a=rsa-sha256; c=relaxed/relaxed;
 d=iol.unh.edu; s=unh-iol; t=1712322251; x=1712927051; darn=dpdk.org;
 h=references:in-reply-to:cc:to:from:subject:message-id:date:from:to
 :cc:subject:date:message-id:reply-to;
 bh=6j66Cj+/be7lwHcYmkQFymsRvUD2JI8eoVtS1ly4Fr8=;
 b=g2T1CP0Oh9wqf62DXlHypU+I1CPtk7/Q7QE5TycHKy/2Nakit0M/dBR77VlyL/c/MO
 QLyHCL2Ha5QH3EyIFYBfn6Kv1sR8or5H/apfvVq9/J95epb2jG3LI2jfyltYrZezZ3Fu
 meL4A3urmda01f805uutQeqE5+V1bzVPYnbbA=
X-Google-DKIM-Signature: v=1; a=rsa-sha256; c=relaxed/relaxed;
 d=1e100.net; s=20230601; t=1712322251; x=1712927051;
 h=references:in-reply-to:cc:to:from:subject:message-id:date
 :x-gm-message-state:from:to:cc:subject:date:message-id:reply-to;
 bh=6j66Cj+/be7lwHcYmkQFymsRvUD2JI8eoVtS1ly4Fr8=;
 b=siZcNpZ+p8sj7cO10BMWzXKcFBBDat+p+UiWU58N/fTUDb6bhliuNNlC1Z9IELViCb
 q95NF6WXKU7eGTgy+NpnDjqlBw3eA+N/UNJcAH0PWf6CwZjbVKlod5PZ2tlCCbWNF1zC
 iz9U5FC4tO4srvJajCVtmjfyBbXwgnRkmoT+jWlcmPIJsmIPosgBmkN4qZEVVzNciRiK
 0PmkSrnKt2j+waV/zHxgjZpmpkBp8fH4dqIlcN3LDsqw7uEE0bnZ4csZpLKtpmk6ekoD
 +UQZPd97e4NzcnsOI6ZWmku/ngfb8PhYtjkWiQIpvY65IzbxJVxpWCCqZf1C1zUOJXWx
 Nghg==
X-Gm-Message-State: AOJu0YxrBCn9zPEdzuw2bw1O+M+z20jIX2bRUwvCyd6nGgz600R1PVq7
 xv8otcPIvcZJLxc9pVKZFUoE+4P2bVqN982vRS2AWxCZQXGugd88vuSjXyJGi//lebVp4R/P5GY
 72ZI+gYe86U4+E5CPr3rvjbw7TEbxYIHnZCt0Vabu
X-Google-Smtp-Source: AGHT+IEjEHWOD8CDmWWCISeRiJD9lD086Ve+Wt4rUyR/l9w74pJgtplVfG6vkZ+OEPtB1tMID7+9voArscvp
X-Received: by 2002:a05:6830:84e:b0:6e9:e688:23e5 with SMTP id
 g14-20020a056830084e00b006e9e68823e5mr1546664ott.19.1712322250789; 
 Fri, 05 Apr 2024 06:04:10 -0700 (PDT)
Received: from postal.iol.unh.edu (postal.iol.unh.edu. [132.177.123.84])
 by smtp-relay.gmail.com with ESMTPS id
 ca11-20020a056830610b00b006e9f7c7ec10sm53870otb.10.2024.04.05.06.04.10
 (version=TLS1_2 cipher=ECDHE-ECDSA-AES128-GCM-SHA256 bits=128/128);
 Fri, 05 Apr 2024 06:04:10 -0700 (PDT)
X-Relaying-Domain: iol.unh.edu
Date: Fri, 05 Apr 2024 06:04:10 -0700 (PDT)
Message-ID: <660ff6ca.050a0220.e64d8.3cbcSMTPIN_ADDED_MISSING@mx.google.com>
Received: from [172.21.0.6] (unknown [172.18.0.240])
 by postal.iol.unh.edu (Postfix) with ESMTP id 415156052471;
 Fri,  5 Apr 2024 09:04:10 -0400 (EDT)
Subject: |SUCCESS| pw139115 [PATCH] pmdinfogen: avoid empty string in ELFSymb
From: dpdklab@iol.unh.edu
To: Test Report <test-report@dpdk.org>
Cc: dpdk-test-reports@iol.unh.edu
In-Reply-To: <20240405110929.3279775-1-sebastian.brzezinka@intel.com>
References: <20240405110929.3279775-1-sebastian.brzezinka@intel.com>
Content-Type: text/plain
X-BeenThere: test-report@dpdk.org
X-Mailman-Version: 2.1.29
Precedence: list
List-Id: automatic DPDK test reports <test-report.dpdk.org>
List-Unsubscribe: <https://mails.dpdk.org/options/test-report>,
 <mailto:test-report-request@dpdk.org?subject=unsubscribe>
List-Archive: <http://mails.dpdk.org/archives/test-report/>
List-Post: <mailto:test-report@dpdk.org>
List-Help: <mailto:test-report-request@dpdk.org?subject=help>
List-Subscribe: <https://mails.dpdk.org/listinfo/test-report>,
 <mailto:test-report-request@dpdk.org?subject=subscribe>
Errors-To: test-report-bounces@dpdk.org

Test-Label: iol-unit-arm64-testing
Test-Status: SUCCESS
http://dpdk.org/patch/139115

_Testing PASS_

Submitter: Sebastian Brzezinka <sebastian.brzezinka@intel.com>
Date: Friday, April 05 2024 11:09:29 
DPDK git baseline: Repo:dpdk
  Branch: master
  CommitID:e2e546ab5bf5e024986ccb5310ab43982f3bb40c

139115 --> testing pass

Test environment and result as below:

+--------------------------+----------------+
|       Environment        | dpdk_unit_test |
+==========================+================+
| CentOS Stream 9 (ARM)    | PASS           |
+--------------------------+----------------+
| Debian 11 (Buster) (ARM) | PASS           |
+--------------------------+----------------+
| Debian 12 (arm)          | PASS           |
+--------------------------+----------------+
| Fedora 37 (ARM)          | PASS           |
+--------------------------+----------------+
| Fedora 39 (ARM)          | PASS           |
+--------------------------+----------------+
| Fedora 38 (ARM)          | PASS           |
+--------------------------+----------------+


CentOS Stream 9 (ARM)
	Kernel: Container Host Kernel
	Compiler: gcc 11.4.1

Debian 11 (Buster) (ARM)
	Kernel: Container Host Kernel
	Compiler: gcc 10.2.1

Debian 12 (arm)
	Kernel: Container Host Kernel
	Compiler: gcc 12.2.0

Fedora 37 (ARM)
	Kernel: Depends on container host
	Compiler: gcc 12.3.1

Fedora 39 (ARM)
	Kernel: Depends on container host
	Compiler: gcc 13.2.1

Fedora 38 (ARM)
	Kernel: Depends on container host
	Compiler: gcc 13.2.1

To view detailed results, visit:
https://lab.dpdk.org/results/dashboard/patchsets/29720/

UNH-IOL DPDK Community Lab

To manage your email subscriptions, visit: 
https://lab.dpdk.org/results/dashboard/preferences/subscriptions/