From mboxrd@z Thu Jan  1 00:00:00 1970
Return-Path: <test-report-bounces@dpdk.org>
Received: from mails.dpdk.org (mails.dpdk.org [217.70.189.124])
	by inbox.dpdk.org (Postfix) with ESMTP id 3438743E01
	for <public@inbox.dpdk.org>; Fri,  5 Apr 2024 15:11:55 +0200 (CEST)
Received: from mails.dpdk.org (localhost [127.0.0.1])
	by mails.dpdk.org (Postfix) with ESMTP id 2D5EA402D8;
	Fri,  5 Apr 2024 15:11:55 +0200 (CEST)
Received: from mail-pl1-f225.google.com (mail-pl1-f225.google.com
 [209.85.214.225])
 by mails.dpdk.org (Postfix) with ESMTP id 60317402D4
 for <test-report@dpdk.org>; Fri,  5 Apr 2024 15:11:54 +0200 (CEST)
Received: by mail-pl1-f225.google.com with SMTP id
 d9443c01a7336-1e2a7b5ef7bso16745875ad.1
 for <test-report@dpdk.org>; Fri, 05 Apr 2024 06:11:54 -0700 (PDT)
DKIM-Signature: v=1; a=rsa-sha256; c=relaxed/relaxed;
 d=iol.unh.edu; s=unh-iol; t=1712322713; x=1712927513; darn=dpdk.org;
 h=references:in-reply-to:cc:to:from:subject:message-id:date:from:to
 :cc:subject:date:message-id:reply-to;
 bh=js0clLg3tEoodfdGwj9kEnYTYfnUIXfvtPcKLxezTgY=;
 b=SmGGtkb8HsCbidSK+l7cS6ZTzYPnwcTL5Ghm3XP2PQGziYhBd+7ZddLs3x81qn/Mlc
 Zz1spZPGhiRnvq3yCX/m7B0xGDwZXyDAlB8zipvjmkAxfPp6T4r6HKXTXRoA/TwFZZgz
 Sl0iDoRLP/C+KwN0/iYEV4g8m+uLfdhDKjwRc=
X-Google-DKIM-Signature: v=1; a=rsa-sha256; c=relaxed/relaxed;
 d=1e100.net; s=20230601; t=1712322713; x=1712927513;
 h=references:in-reply-to:cc:to:from:subject:message-id:date
 :x-gm-message-state:from:to:cc:subject:date:message-id:reply-to;
 bh=js0clLg3tEoodfdGwj9kEnYTYfnUIXfvtPcKLxezTgY=;
 b=W+FBOW8XUyLV9QpQhLfA0g93b8GKyEtN46ENO04m0lus8WTe5JDTkPlVbyO3Z1VKam
 7BMj1BCwzIHUJW5TG4bw3RGrDwO6tif8hcWQLPtIrctttRG6zvFnycD0hMgEgFiwdXAm
 1ZXYqTEG0G/8KSAOo/WXIB6Gm5SN0OOXFZQhZEmui1DK3SDts+lYv0j4tOyENgtCGpZO
 eH3icJZIngBhXQtcDYFlXGli8Epk5wLXrHx4AIQtXNw7IfV/uwoz/VI8E9TynxrCUGSc
 XCEcSKL9iI9qqP5KmzV43M5+Vdb3Vbix9jp5j4Wvzr8svWHW8defWmvjyzSvBrQeJV4S
 XCiQ==
X-Gm-Message-State: AOJu0YxUr5vdsEbr/v66bbvNZT7M6VH5n3j4Sd6D1RgCT+3ZOeYCgN40
 jpoUXFoMyWF5d1MYSnPkSRGu1PVKE13C1pp3v1iwY0ytSWmj1ZTTC4PKjIbUEvrR2/nn07qQQCB
 Lya1Tntye2s5H7e4sCPTMhgpilXXX6dlrIFe8WgqJ
X-Google-Smtp-Source: AGHT+IEsPajvf3UU9WTsGbMpXvwm14t7ieJPyvHjn450IVXrrm3FYp5dOl+uo6PN1atc+sfHk91LA6YzSLGV
X-Received: by 2002:a17:903:2b05:b0:1e3:cd8c:d370 with SMTP id
 mc5-20020a1709032b0500b001e3cd8cd370mr421151plb.44.1712322713602; 
 Fri, 05 Apr 2024 06:11:53 -0700 (PDT)
Received: from postal.iol.unh.edu (postal.iol.unh.edu. [132.177.123.84])
 by smtp-relay.gmail.com with ESMTPS id
 y15-20020a17090264cf00b001e3999a90adsm52559pli.131.2024.04.05.06.11.53
 (version=TLS1_2 cipher=ECDHE-ECDSA-AES128-GCM-SHA256 bits=128/128);
 Fri, 05 Apr 2024 06:11:53 -0700 (PDT)
X-Relaying-Domain: iol.unh.edu
Date: Fri, 05 Apr 2024 06:11:53 -0700 (PDT)
Message-ID: <660ff899.170a0220.61e26.4201SMTPIN_ADDED_MISSING@mx.google.com>
Received: from [172.21.0.9] (unknown [172.18.0.240])
 by postal.iol.unh.edu (Postfix) with ESMTP id C804C6052471;
 Fri,  5 Apr 2024 09:11:52 -0400 (EDT)
Subject: |SUCCESS| pw139115 [PATCH] pmdinfogen: avoid empty string in ELFSymb
From: dpdklab@iol.unh.edu
To: Test Report <test-report@dpdk.org>
Cc: dpdk-test-reports@iol.unh.edu
In-Reply-To: <20240405110929.3279775-1-sebastian.brzezinka@intel.com>
References: <20240405110929.3279775-1-sebastian.brzezinka@intel.com>
Content-Type: text/plain
X-BeenThere: test-report@dpdk.org
X-Mailman-Version: 2.1.29
Precedence: list
List-Id: automatic DPDK test reports <test-report.dpdk.org>
List-Unsubscribe: <https://mails.dpdk.org/options/test-report>,
 <mailto:test-report-request@dpdk.org?subject=unsubscribe>
List-Archive: <http://mails.dpdk.org/archives/test-report/>
List-Post: <mailto:test-report@dpdk.org>
List-Help: <mailto:test-report-request@dpdk.org?subject=help>
List-Subscribe: <https://mails.dpdk.org/listinfo/test-report>,
 <mailto:test-report-request@dpdk.org?subject=subscribe>
Errors-To: test-report-bounces@dpdk.org

Test-Label: iol-unit-amd64-testing
Test-Status: SUCCESS
http://dpdk.org/patch/139115

_Testing PASS_

Submitter: Sebastian Brzezinka <sebastian.brzezinka@intel.com>
Date: Friday, April 05 2024 11:09:29 
DPDK git baseline: Repo:dpdk
  Branch: master
  CommitID:e2e546ab5bf5e024986ccb5310ab43982f3bb40c

139115 --> testing pass

Test environment and result as below:

+------------------+----------------+
|   Environment    | dpdk_unit_test |
+==================+================+
| CentOS Stream 8  | PASS           |
+------------------+----------------+
| CentOS Stream 9  | PASS           |
+------------------+----------------+
| Fedora 37        | PASS           |
+------------------+----------------+
| Debian 12        | PASS           |
+------------------+----------------+
| Fedora 39        | PASS           |
+------------------+----------------+
| openSUSE Leap 15 | PASS           |
+------------------+----------------+
| Fedora 38        | PASS           |
+------------------+----------------+


CentOS Stream 8
	Kernel: 5.4.0-167-generic
	Compiler: gcc 8.5.0 20210514

CentOS Stream 9
	Kernel: 5.4.0-167-generic
	Compiler: gcc 11.4.1 20230605

Fedora 37
	Kernel: Depends on container host system
	Compiler: gcc 12.3.1

Debian 12
	Kernel: Container Host Kernel
	Compiler: gcc 10.2.1

Fedora 39
	Kernel: Depends on container host
	Compiler: gcc 13.2.1

openSUSE Leap 15
	Kernel: 5.4.0-167-generic
	Compiler: gcc 7.5.0

Fedora 38
	Kernel: Depends on container host
	Compiler: gcc 13.2.1

To view detailed results, visit:
https://lab.dpdk.org/results/dashboard/patchsets/29720/

UNH-IOL DPDK Community Lab

To manage your email subscriptions, visit: 
https://lab.dpdk.org/results/dashboard/preferences/subscriptions/