From mboxrd@z Thu Jan  1 00:00:00 1970
Return-Path: <test-report-bounces@dpdk.org>
Received: from mails.dpdk.org (mails.dpdk.org [217.70.189.124])
	by inbox.dpdk.org (Postfix) with ESMTP id B67FC43E0C
	for <public@inbox.dpdk.org>; Fri,  5 Apr 2024 18:07:37 +0200 (CEST)
Received: from mails.dpdk.org (localhost [127.0.0.1])
	by mails.dpdk.org (Postfix) with ESMTP id B314A402D4;
	Fri,  5 Apr 2024 18:07:37 +0200 (CEST)
Received: from mail-il1-f225.google.com (mail-il1-f225.google.com
 [209.85.166.225])
 by mails.dpdk.org (Postfix) with ESMTP id 3B11D402CE
 for <test-report@dpdk.org>; Fri,  5 Apr 2024 18:07:35 +0200 (CEST)
Received: by mail-il1-f225.google.com with SMTP id
 e9e14a558f8ab-3689a0abfd2so9280185ab.2
 for <test-report@dpdk.org>; Fri, 05 Apr 2024 09:07:35 -0700 (PDT)
DKIM-Signature: v=1; a=rsa-sha256; c=relaxed/relaxed;
 d=iol.unh.edu; s=unh-iol; t=1712333254; x=1712938054; darn=dpdk.org;
 h=references:in-reply-to:cc:to:from:subject:message-id:date:from:to
 :cc:subject:date:message-id:reply-to;
 bh=2zvSYDbvB0QtFXBhqf/2tMfupKv6B84ItPNPoxTddVM=;
 b=XBae7vn2apFWNuRte7hMAop0AUUnG0vsmcgxVMnQRLNckjkPrC+uhKB+FARVX5RjwS
 EG+817+K9MpT85TJ/NWpQ1+MFubnsUOSht3nPuBjXlbHVIjVOjRH+VsXL3R5Dtf1N+9G
 D0MIcExG10Su0n5UDot7ViJQlR0vppGEFFaGI=
X-Google-DKIM-Signature: v=1; a=rsa-sha256; c=relaxed/relaxed;
 d=1e100.net; s=20230601; t=1712333254; x=1712938054;
 h=references:in-reply-to:cc:to:from:subject:message-id:date
 :x-gm-message-state:from:to:cc:subject:date:message-id:reply-to;
 bh=2zvSYDbvB0QtFXBhqf/2tMfupKv6B84ItPNPoxTddVM=;
 b=U9eva3QXzbPagXDKaoYwriC+e2+DEUD1e8tJeRQsDSXc7+8wPgAD8cFkSPYqTYDKvn
 7GkOW0ereW2ky0gida4Ew85XePHRT9pzStTqrgcjG+jLXapACtdy+wPPRg9OWWfMHzrJ
 TBO+DhHy4GER5U6AVSQxN5ydOzKmRTNF3pQLzYsTZPNlVp+UKWHPir9F0k3BqkpbujI4
 bbR233UVG/hBhAyhmhApVP8LehOURQ4wYk08XuAJ2IgmpTI7mkXgxP3PHvZK0nFVaKvU
 nXqtHW2KvsLjO6CvOytBOXsGeLTtUOB8yJ3kinPsPcr88tSH8TJDWB2RZsImslw/GPpl
 8yuA==
X-Gm-Message-State: AOJu0Yxp/fXZuqPjNKpIPpTLc5XZjZ8REL2NpMjYa5dxK8gHUW5LIUSu
 GkTgSLGA1XHaKry4Egl8WcK6qkVc5LUxESbMl/p6ZF4NOWUG49WP+9LLVuzadGFJkUYw8TPzGSc
 QHcybIvWf8DhPrqBYa4JKXF49HyX9UNsfPO1Ue8OwdmTPRZHzvBKVaA8o
X-Google-Smtp-Source: AGHT+IG6/rnJ5SteepoV5799P0QxAu2Ww51gGTTFpsYvY8GzW9L7yqBTrRl2L0xEtj1TaJZlaICHaLvx0LUB
X-Received: by 2002:a92:cdae:0:b0:369:9492:c24b with SMTP id
 g14-20020a92cdae000000b003699492c24bmr2189948ild.10.1712333254607; 
 Fri, 05 Apr 2024 09:07:34 -0700 (PDT)
Received: from postal.iol.unh.edu (postal.iol.unh.edu.
 [2606:4100:3880:1234::84]) by smtp-relay.gmail.com with ESMTPS id
 a2-20020a92c702000000b003686562895esm59775ilp.14.2024.04.05.09.07.34
 (version=TLS1_2 cipher=ECDHE-ECDSA-AES128-GCM-SHA256 bits=128/128);
 Fri, 05 Apr 2024 09:07:34 -0700 (PDT)
X-Relaying-Domain: iol.unh.edu
Date: Fri, 05 Apr 2024 09:07:34 -0700 (PDT)
Message-ID: <661021c6.920a0220.3c52f.4323SMTPIN_ADDED_MISSING@mx.google.com>
Received: from [172.21.0.6] (unknown [172.18.0.240])
 by postal.iol.unh.edu (Postfix) with ESMTP id 14EF06052471;
 Fri,  5 Apr 2024 12:07:34 -0400 (EDT)
Subject: |SUCCESS| pw139118-139125 [PATCH] [8/8] net: clear outer UDP checksu
From: dpdklab@iol.unh.edu
To: Test Report <test-report@dpdk.org>
Cc: dpdk-test-reports@iol.unh.edu
In-Reply-To: <20240405125039.897933-9-david.marchand@redhat.com>
References: <20240405125039.897933-9-david.marchand@redhat.com>
Content-Type: text/plain
X-BeenThere: test-report@dpdk.org
X-Mailman-Version: 2.1.29
Precedence: list
List-Id: automatic DPDK test reports <test-report.dpdk.org>
List-Unsubscribe: <https://mails.dpdk.org/options/test-report>,
 <mailto:test-report-request@dpdk.org?subject=unsubscribe>
List-Archive: <http://mails.dpdk.org/archives/test-report/>
List-Post: <mailto:test-report@dpdk.org>
List-Help: <mailto:test-report-request@dpdk.org?subject=help>
List-Subscribe: <https://mails.dpdk.org/listinfo/test-report>,
 <mailto:test-report-request@dpdk.org?subject=subscribe>
Errors-To: test-report-bounces@dpdk.org

Test-Label: iol-unit-arm64-testing
Test-Status: SUCCESS
http://dpdk.org/patch/139125

_Testing PASS_

Submitter: David Marchand <david.marchand@redhat.com>
Date: Friday, April 05 2024 12:49:47 
DPDK git baseline: Repo:dpdk
  Branch: master
  CommitID:e2e546ab5bf5e024986ccb5310ab43982f3bb40c

139118-139125 --> testing pass

Test environment and result as below:

+--------------------------+----------------+------------------------------+---------------------------+
|       Environment        | dpdk_unit_test | cryptodev_sw_snow3g_autotest | cryptodev_sw_zuc_autotest |
+==========================+================+==============================+===========================+
| Debian 12 (arm)          | PASS           | PASS                         | PASS                      |
+--------------------------+----------------+------------------------------+---------------------------+
| Fedora 38 (ARM)          | PASS           | SKIPPED                      | SKIPPED                   |
+--------------------------+----------------+------------------------------+---------------------------+
| CentOS Stream 9 (ARM)    | PASS           | SKIPPED                      | SKIPPED                   |
+--------------------------+----------------+------------------------------+---------------------------+
| Debian 11 (Buster) (ARM) | PASS           | SKIPPED                      | SKIPPED                   |
+--------------------------+----------------+------------------------------+---------------------------+
| Fedora 37 (ARM)          | PASS           | SKIPPED                      | SKIPPED                   |
+--------------------------+----------------+------------------------------+---------------------------+
| Fedora 39 (ARM)          | PASS           | SKIPPED                      | SKIPPED                   |
+--------------------------+----------------+------------------------------+---------------------------+
| Ubuntu 20.04 (ARM)       | PASS           | SKIPPED                      | SKIPPED                   |
+--------------------------+----------------+------------------------------+---------------------------+


Debian 12 (arm)
	Kernel: Container Host Kernel
	Compiler: gcc 12.2.0

Fedora 38 (ARM)
	Kernel: Depends on container host
	Compiler: gcc 13.2.1

CentOS Stream 9 (ARM)
	Kernel: Container Host Kernel
	Compiler: gcc 11.4.1

Debian 11 (Buster) (ARM)
	Kernel: Container Host Kernel
	Compiler: gcc 10.2.1

Fedora 37 (ARM)
	Kernel: Depends on container host
	Compiler: gcc 12.3.1

Fedora 39 (ARM)
	Kernel: Depends on container host
	Compiler: gcc 13.2.1

Ubuntu 20.04 (ARM)
	Kernel: Container Host Kernel
	Compiler: gcc 9.4.0

To view detailed results, visit:
https://lab.dpdk.org/results/dashboard/patchsets/29723/

UNH-IOL DPDK Community Lab

To manage your email subscriptions, visit: 
https://lab.dpdk.org/results/dashboard/preferences/subscriptions/