From mboxrd@z Thu Jan  1 00:00:00 1970
Return-Path: <test-report-bounces@dpdk.org>
Received: from mails.dpdk.org (mails.dpdk.org [217.70.189.124])
	by inbox.dpdk.org (Postfix) with ESMTP id D954943E0C
	for <public@inbox.dpdk.org>; Fri,  5 Apr 2024 18:11:39 +0200 (CEST)
Received: from mails.dpdk.org (localhost [127.0.0.1])
	by mails.dpdk.org (Postfix) with ESMTP id D533B402D4;
	Fri,  5 Apr 2024 18:11:39 +0200 (CEST)
Received: from mail-pf1-f225.google.com (mail-pf1-f225.google.com
 [209.85.210.225])
 by mails.dpdk.org (Postfix) with ESMTP id 0E1FE402EA
 for <test-report@dpdk.org>; Fri,  5 Apr 2024 18:11:37 +0200 (CEST)
Received: by mail-pf1-f225.google.com with SMTP id
 d2e1a72fcca58-6ead4093f85so2049491b3a.3
 for <test-report@dpdk.org>; Fri, 05 Apr 2024 09:11:36 -0700 (PDT)
DKIM-Signature: v=1; a=rsa-sha256; c=relaxed/relaxed;
 d=iol.unh.edu; s=unh-iol; t=1712333496; x=1712938296; darn=dpdk.org;
 h=references:in-reply-to:cc:to:from:subject:message-id:date:from:to
 :cc:subject:date:message-id:reply-to;
 bh=U5Yw0hZt3tm+5ki/Ap5qV/vIdsOjqZ8UtlJoNdyuTro=;
 b=Wa9EFLJkfHVZ8jaaC5hhNWgZ2nC1QMoofBgf0u9FUVHyo7K4PdETrf8InQKvXf5JOI
 jiiv2KlQUD5eM36MpPfBB/oK+bo2d1h2oRy4mldA+ythf76PtYJ+p3mq09QpDPoXH8s5
 v0wlENM+tXm/i2Qs/1+Fn9Aiv+izNZfcpFwDE=
X-Google-DKIM-Signature: v=1; a=rsa-sha256; c=relaxed/relaxed;
 d=1e100.net; s=20230601; t=1712333496; x=1712938296;
 h=references:in-reply-to:cc:to:from:subject:message-id:date
 :x-gm-message-state:from:to:cc:subject:date:message-id:reply-to;
 bh=U5Yw0hZt3tm+5ki/Ap5qV/vIdsOjqZ8UtlJoNdyuTro=;
 b=ptFSbXxuSg/1r+ZIqJgLJNKthsoP1FV1BmNFzvZxt8lDKhJIFS79RWIj43Tdgegin5
 rOWnUj5c/YTo/4B0UMb8hX4YgETX5xVQ0kLhIBvddfqQEeHZIech07cZB2ihMzdIlGiT
 gg/eH79xuVhZfGxK1MV4iZitRNkAYFy4sNHyXdlr/aeDUwwP/M7unsOubjZWQKlSGpwk
 jQJxhInXmGsfBXFAtBB8kciwz7hpBPoD7ePtdzL4HIqqbrMoa4zmOfM89TRofW/0dhuU
 vTrnbiq/vosz/4R0HZdGkgGP58IhgyBejsJmOsYMEhkRk/BCPDgLrDDFd7D3ExkEQuRe
 WuDQ==
X-Gm-Message-State: AOJu0Yx2Ic5KNVrfh+ub7No7CQxUSdSG0j7qDGeFCoyqC6Xq1pA1tgpB
 SYYyMkAfcZWJP7zkl6Fg6SuUgat0LpHejj5Xke11DRPUOdESdbtfh7yR9XR+HEm12s29m6Br+Vg
 5LZr6YKF76IMw7crjacbyqnam3LG30pKtU1FIq2O2ANEpIgCCALee90TB
X-Google-Smtp-Source: AGHT+IHqWTai5uoI7VKzpvKNlSIO2UICiNVCzLGJlwjZGKUjzgNuZ0h2PhZCX2cCFR7bZSfIah86kTm8XmvF
X-Received: by 2002:a05:6a00:6908:b0:6eb:1ea:52ed with SMTP id
 hs8-20020a056a00690800b006eb01ea52edmr1506741pfb.1.1712333496223; 
 Fri, 05 Apr 2024 09:11:36 -0700 (PDT)
Received: from postal.iol.unh.edu (postal.iol.unh.edu.
 [2606:4100:3880:1234::84]) by smtp-relay.gmail.com with ESMTPS id
 g13-20020a056a000b8d00b006eceb49e232sm86098pfj.4.2024.04.05.09.11.36
 (version=TLS1_2 cipher=ECDHE-ECDSA-AES128-GCM-SHA256 bits=128/128);
 Fri, 05 Apr 2024 09:11:36 -0700 (PDT)
X-Relaying-Domain: iol.unh.edu
Date: Fri, 05 Apr 2024 09:11:36 -0700 (PDT)
Message-ID: <661022b8.050a0220.326a6.6420SMTPIN_ADDED_MISSING@mx.google.com>
Received: from [172.17.0.3] (unknown [172.18.0.214])
 by postal.iol.unh.edu (Postfix) with ESMTP id 67BA76052471;
 Fri,  5 Apr 2024 12:11:35 -0400 (EDT)
Subject: |SUCCESS| pw139118-139125 [PATCH] [8/8] net: clear outer UDP checksu
From: dpdklab@iol.unh.edu
To: Test Report <test-report@dpdk.org>
Cc: dpdk-test-reports@iol.unh.edu
In-Reply-To: <20240405125039.897933-9-david.marchand@redhat.com>
References: <20240405125039.897933-9-david.marchand@redhat.com>
Content-Type: text/plain
X-BeenThere: test-report@dpdk.org
X-Mailman-Version: 2.1.29
Precedence: list
List-Id: automatic DPDK test reports <test-report.dpdk.org>
List-Unsubscribe: <https://mails.dpdk.org/options/test-report>,
 <mailto:test-report-request@dpdk.org?subject=unsubscribe>
List-Archive: <http://mails.dpdk.org/archives/test-report/>
List-Post: <mailto:test-report@dpdk.org>
List-Help: <mailto:test-report-request@dpdk.org?subject=help>
List-Subscribe: <https://mails.dpdk.org/listinfo/test-report>,
 <mailto:test-report-request@dpdk.org?subject=subscribe>
Errors-To: test-report-bounces@dpdk.org

Test-Label: iol-unit-arm64-testing
Test-Status: SUCCESS
http://dpdk.org/patch/139125

_Testing PASS_

Submitter: David Marchand <david.marchand@redhat.com>
Date: Friday, April 05 2024 12:49:47 
DPDK git baseline: Repo:dpdk
  Branch: master
  CommitID:e2e546ab5bf5e024986ccb5310ab43982f3bb40c

139118-139125 --> testing pass

Test environment and result as below:

+-----------------------------+----------------+------------------------------+---------------------------+
|         Environment         | dpdk_unit_test | cryptodev_sw_snow3g_autotest | cryptodev_sw_zuc_autotest |
+=============================+================+==============================+===========================+
| Debian 12 (arm)             | PASS           | PASS                         | PASS                      |
+-----------------------------+----------------+------------------------------+---------------------------+
| Fedora 38 (ARM)             | PASS           | SKIPPED                      | SKIPPED                   |
+-----------------------------+----------------+------------------------------+---------------------------+
| CentOS Stream 9 (ARM)       | PASS           | SKIPPED                      | SKIPPED                   |
+-----------------------------+----------------+------------------------------+---------------------------+
| Debian 11 (Buster) (ARM)    | PASS           | SKIPPED                      | SKIPPED                   |
+-----------------------------+----------------+------------------------------+---------------------------+
| Fedora 37 (ARM)             | PASS           | SKIPPED                      | SKIPPED                   |
+-----------------------------+----------------+------------------------------+---------------------------+
| Fedora 39 (ARM)             | PASS           | SKIPPED                      | SKIPPED                   |
+-----------------------------+----------------+------------------------------+---------------------------+
| Ubuntu 20.04 (ARM)          | PASS           | SKIPPED                      | SKIPPED                   |
+-----------------------------+----------------+------------------------------+---------------------------+
| 32-bit Ubuntu 20.04.4 (ARM) | PASS           | SKIPPED                      | SKIPPED                   |
+-----------------------------+----------------+------------------------------+---------------------------+


Debian 12 (arm)
	Kernel: Container Host Kernel
	Compiler: gcc 12.2.0

Fedora 38 (ARM)
	Kernel: Depends on container host
	Compiler: gcc 13.2.1

CentOS Stream 9 (ARM)
	Kernel: Container Host Kernel
	Compiler: gcc 11.4.1

Debian 11 (Buster) (ARM)
	Kernel: Container Host Kernel
	Compiler: gcc 10.2.1

Fedora 37 (ARM)
	Kernel: Depends on container host
	Compiler: gcc 12.3.1

Fedora 39 (ARM)
	Kernel: Depends on container host
	Compiler: gcc 13.2.1

Ubuntu 20.04 (ARM)
	Kernel: Container Host Kernel
	Compiler: gcc 9.4.0

32-bit Ubuntu 20.04.4 (ARM)
	Kernel: 5.4.0-155-generic aarch64
	Compiler: gcc 9.4

To view detailed results, visit:
https://lab.dpdk.org/results/dashboard/patchsets/29723/

UNH-IOL DPDK Community Lab

To manage your email subscriptions, visit: 
https://lab.dpdk.org/results/dashboard/preferences/subscriptions/