From mboxrd@z Thu Jan  1 00:00:00 1970
Return-Path: <test-report-bounces@dpdk.org>
Received: from mails.dpdk.org (mails.dpdk.org [217.70.189.124])
	by inbox.dpdk.org (Postfix) with ESMTP id A78E243E0D
	for <public@inbox.dpdk.org>; Fri,  5 Apr 2024 20:16:32 +0200 (CEST)
Received: from mails.dpdk.org (localhost [127.0.0.1])
	by mails.dpdk.org (Postfix) with ESMTP id A1E40402CE;
	Fri,  5 Apr 2024 20:16:32 +0200 (CEST)
Received: from mail-qv1-f99.google.com (mail-qv1-f99.google.com
 [209.85.219.99]) by mails.dpdk.org (Postfix) with ESMTP id 08C724028A
 for <test-report@dpdk.org>; Fri,  5 Apr 2024 20:16:32 +0200 (CEST)
Received: by mail-qv1-f99.google.com with SMTP id
 6a1803df08f44-69107859bedso11774076d6.2
 for <test-report@dpdk.org>; Fri, 05 Apr 2024 11:16:31 -0700 (PDT)
DKIM-Signature: v=1; a=rsa-sha256; c=relaxed/relaxed;
 d=iol.unh.edu; s=unh-iol; t=1712340991; x=1712945791; darn=dpdk.org;
 h=references:in-reply-to:cc:to:from:subject:message-id:date:from:to
 :cc:subject:date:message-id:reply-to;
 bh=Y0gdGsFiGrleRKOJOOgm54tjAZkkH98oAKdi/Dd82To=;
 b=byZCkD02vtsMv+dKRVw9zCSTp4eDU9Shgmh6z7hxqEewRlqjNOjx5qg/pvzScO0lN/
 NOHndIs1OG/NGEygttY1oQD8qRvTcYDLKNKXQD5u/6l2kPNVeNQe8oAT32qYuFxzVzSq
 J8cm7sfH1zNWqykUXIGgTQaBusqc8dQN/I6tw=
X-Google-DKIM-Signature: v=1; a=rsa-sha256; c=relaxed/relaxed;
 d=1e100.net; s=20230601; t=1712340991; x=1712945791;
 h=references:in-reply-to:cc:to:from:subject:message-id:date
 :x-gm-message-state:from:to:cc:subject:date:message-id:reply-to;
 bh=Y0gdGsFiGrleRKOJOOgm54tjAZkkH98oAKdi/Dd82To=;
 b=ubWKZo4nAnKAlETIqTGaQgIhT/JTxrWJWvYt1kc4/vzKG0HNR12GTvIKiZvK3xIinw
 Fa7lcGyebZzTN36zkb7eyDkmlZH20NRMdRCWzoYqXnStdvl57DppSxp8gOs54v5ahaM7
 PJfIIG5YaY1DsjYdDeZKFEPowae4K78jFzmVwWkLDTQQdbGpAuQVViuFzU9GfaFF+hM3
 /56fldg9jOX5qiDRtsRfgN2UmYycj7d2ydYGTYFzyS3GjbC6Rjn0GX5Fv0f4M+xjWzs8
 cQlvO24kioTr/XD/iBJ6ZvcdbUI1KbWdsYhepK2S+d7oRvWqWUzlCDjcevdjGVmLzALH
 LGMQ==
X-Gm-Message-State: AOJu0YzJotpY5MSnP4PvhD3+SLr/pvENo7B1K0TVe3Vj8MNFSTi48/aX
 ET2iqgK/mwSu8ji2fB23tyPLckTG0hV31j5DnitUmG6COyIqbbI7jTJxwEgjSu7UxjKAr7tr8SY
 7fzUG9z0wD5O09Px6JwBbn3J+Es9VJ1uvZrNEBeAb
X-Google-Smtp-Source: AGHT+IF7BKWTEy3ExoKyO4t57Fj5NUnJsbKI9YUzq6FqdD85+Ha2rz/1+uVsyQK8LpgdGFqgAzkl03Dfuudq
X-Received: by 2002:a05:6214:f2f:b0:699:4bcf:7d5b with SMTP id
 iw15-20020a0562140f2f00b006994bcf7d5bmr240750qvb.56.1712340991349; 
 Fri, 05 Apr 2024 11:16:31 -0700 (PDT)
Received: from postal.iol.unh.edu (postal.iol.unh.edu. [132.177.123.84])
 by smtp-relay.gmail.com with ESMTPS id
 dv3-20020ad44ee3000000b006990b1184cfsm98506qvb.38.2024.04.05.11.16.31
 (version=TLS1_2 cipher=ECDHE-ECDSA-AES128-GCM-SHA256 bits=128/128);
 Fri, 05 Apr 2024 11:16:31 -0700 (PDT)
X-Relaying-Domain: iol.unh.edu
Date: Fri, 05 Apr 2024 11:16:31 -0700 (PDT)
Message-ID: <66103fff.d40a0220.e803.7743SMTPIN_ADDED_MISSING@mx.google.com>
Received: from [172.21.0.6] (unknown [172.18.0.240])
 by postal.iol.unh.edu (Postfix) with ESMTP id 0CC9D6052471;
 Fri,  5 Apr 2024 14:16:31 -0400 (EDT)
Subject: |SUCCESS| pw139135-139164 [PATCH] [v4,30/30] examples: replace use o
From: dpdklab@iol.unh.edu
To: Test Report <test-report@dpdk.org>
Cc: dpdk-test-reports@iol.unh.edu
In-Reply-To: <20240405165518.367503-31-stephen@networkplumber.org>
References: <20240405165518.367503-31-stephen@networkplumber.org>
Content-Type: text/plain
X-BeenThere: test-report@dpdk.org
X-Mailman-Version: 2.1.29
Precedence: list
List-Id: automatic DPDK test reports <test-report.dpdk.org>
List-Unsubscribe: <https://mails.dpdk.org/options/test-report>,
 <mailto:test-report-request@dpdk.org?subject=unsubscribe>
List-Archive: <http://mails.dpdk.org/archives/test-report/>
List-Post: <mailto:test-report@dpdk.org>
List-Help: <mailto:test-report-request@dpdk.org?subject=help>
List-Subscribe: <https://mails.dpdk.org/listinfo/test-report>,
 <mailto:test-report-request@dpdk.org?subject=subscribe>
Errors-To: test-report-bounces@dpdk.org

Test-Label: iol-unit-amd64-testing
Test-Status: SUCCESS
http://dpdk.org/patch/139164

_Testing PASS_

Submitter: Stephen Hemminger <stephen@networkplumber.org>
Date: Friday, April 05 2024 16:53:41 
DPDK git baseline: Repo:dpdk
  Branch: master
  CommitID:e2e546ab5bf5e024986ccb5310ab43982f3bb40c

139135-139164 --> testing pass

Test environment and result as below:

+---------------------+----------------+
|     Environment     | dpdk_unit_test |
+=====================+================+
| Windows Server 2019 | PASS           |
+---------------------+----------------+
| CentOS Stream 9     | PASS           |
+---------------------+----------------+
| Debian Bullseye     | PASS           |
+---------------------+----------------+
| CentOS Stream 8     | PASS           |
+---------------------+----------------+
| Debian 12           | PASS           |
+---------------------+----------------+
| Fedora 37           | PASS           |
+---------------------+----------------+
| Fedora 38           | PASS           |
+---------------------+----------------+
| Ubuntu 22.04        | PASS           |
+---------------------+----------------+
| Fedora 39           | PASS           |
+---------------------+----------------+
| Ubuntu 20.04        | PASS           |
+---------------------+----------------+
| RHEL8               | PASS           |
+---------------------+----------------+


Windows Server 2019
	Kernel: 10.0.17763
	Compiler: clang 14.0 and gcc 8.1.0 (MinGW)

CentOS Stream 9
	Kernel: 5.4.0-167-generic
	Compiler: gcc 11.4.1 20230605

Debian Bullseye
	Kernel: 5.4.0-167-generic
	Compiler: gcc 10.2.1-6

CentOS Stream 8
	Kernel: 5.4.0-167-generic
	Compiler: gcc 8.5.0 20210514

Debian 12
	Kernel: Container Host Kernel
	Compiler: gcc 10.2.1

Fedora 37
	Kernel: Depends on container host system
	Compiler: gcc 12.3.1

Fedora 38
	Kernel: Depends on container host
	Compiler: gcc 13.2.1

Ubuntu 22.04
	Kernel: 5.4.0-167-generic
	Compiler: gcc 11.4.0

Fedora 39
	Kernel: Depends on container host
	Compiler: gcc 13.2.1

Ubuntu 20.04
	Kernel: 5.4.0-167-generic
	Compiler: gcc 9.4.0-1ubuntu1~20.04.1

RHEL8
	Kernel: 5.4.0-167-generic
	Compiler: gcc 8.5.0 20210514 (Red Hat 8.5.0-20)

To view detailed results, visit:
https://lab.dpdk.org/results/dashboard/patchsets/29726/

UNH-IOL DPDK Community Lab

To manage your email subscriptions, visit: 
https://lab.dpdk.org/results/dashboard/preferences/subscriptions/