From mboxrd@z Thu Jan  1 00:00:00 1970
Return-Path: <test-report-bounces@dpdk.org>
Received: from mails.dpdk.org (mails.dpdk.org [217.70.189.124])
	by inbox.dpdk.org (Postfix) with ESMTP id 4643443E0D
	for <public@inbox.dpdk.org>; Fri,  5 Apr 2024 20:33:19 +0200 (CEST)
Received: from mails.dpdk.org (localhost [127.0.0.1])
	by mails.dpdk.org (Postfix) with ESMTP id 414AF402CE;
	Fri,  5 Apr 2024 20:33:19 +0200 (CEST)
Received: from mail-oa1-f99.google.com (mail-oa1-f99.google.com
 [209.85.160.99]) by mails.dpdk.org (Postfix) with ESMTP id BF41E4028A
 for <test-report@dpdk.org>; Fri,  5 Apr 2024 20:33:18 +0200 (CEST)
Received: by mail-oa1-f99.google.com with SMTP id
 586e51a60fabf-2282597eff5so1672265fac.3
 for <test-report@dpdk.org>; Fri, 05 Apr 2024 11:33:18 -0700 (PDT)
DKIM-Signature: v=1; a=rsa-sha256; c=relaxed/relaxed;
 d=iol.unh.edu; s=unh-iol; t=1712341998; x=1712946798; darn=dpdk.org;
 h=references:in-reply-to:cc:to:from:subject:message-id:date:from:to
 :cc:subject:date:message-id:reply-to;
 bh=cXnG0zyQohhg7brSn8yksHT0YUVJ2XsU9Btlg9E3ywY=;
 b=KVrWvgBjcu8lwtdvHbyTyt877WxIgMUsubAbzRKyFdRVc8XMEj5XF6VLqRJwHDH5+9
 fp4TMsdY4R0W45a4CHwBQPQYMZAqgTi69jdH1LkPN+t69QL8W9z1ryiBFabjfCeDnRX5
 TOi8zkEC3yBMe9q0deuym9xv3RNC+5toSe9R8=
X-Google-DKIM-Signature: v=1; a=rsa-sha256; c=relaxed/relaxed;
 d=1e100.net; s=20230601; t=1712341998; x=1712946798;
 h=references:in-reply-to:cc:to:from:subject:message-id:date
 :x-gm-message-state:from:to:cc:subject:date:message-id:reply-to;
 bh=cXnG0zyQohhg7brSn8yksHT0YUVJ2XsU9Btlg9E3ywY=;
 b=EhWOC0jtJVpofvgSCDowiCdUp2tdbQMXjF2Iztf3yu7ee/uKs53qMzWRMkioLlIXRt
 bKXfG6I5FAdI29m/6K0uDy4oNunwvOYAIaPPYnoCojbD/ViaUFudTQEGS1uYXv28VeWb
 AWzkPS+5kyl8J6Ol0ewhWiJFWVUCZJ94wzCxw3xSk1qGVGTuLk5gYdhaBdlzCtKZYAV/
 ZPMZ0/moMf8JNg+RkU6rM/yjNrg85xlSdztqDbNQzg+w4vzKdLgPr13gb4azcv10ikoH
 X3pAVFCcf+Nc+3IaNg3jp6fhobE62fBk6p2nZBnRBYC96+wRA7umB/TTeyeCYeVGl/sK
 7eRw==
X-Gm-Message-State: AOJu0YwMj6Dxvgu0ApV/+w/r8GPZQofr/WAMzpY3qSCE5HkfMkK0R1Q3
 iBGc/Axv3TlwX04HpKPGsrP4LUcZxzIWl+i3WJqfFi92t1p6CJYEHgtfcvz5bhQiyK0cZ8zO0Z/
 9LuUXXKARIdP68nCRmcZVH5iIMbZMRQ0YHZuSf3IN
X-Google-Smtp-Source: AGHT+IEcZc9RekHKNT/UttqJBszdlagYn8cft+DZB3NHEI2S6b9kcbw+HEjDKdC3WYoFRy6D3lfA4DpB7gk6
X-Received: by 2002:a05:6870:9726:b0:22e:d64e:d5b9 with SMTP id
 n38-20020a056870972600b0022ed64ed5b9mr2650681oaq.55.1712341998118; 
 Fri, 05 Apr 2024 11:33:18 -0700 (PDT)
Received: from postal.iol.unh.edu (postal.iol.unh.edu. [132.177.123.84])
 by smtp-relay.gmail.com with ESMTPS id
 dy20-20020a056830211400b006e864c9aa30sm99611otb.13.2024.04.05.11.33.18
 (version=TLS1_2 cipher=ECDHE-ECDSA-AES128-GCM-SHA256 bits=128/128);
 Fri, 05 Apr 2024 11:33:18 -0700 (PDT)
X-Relaying-Domain: iol.unh.edu
Date: Fri, 05 Apr 2024 11:33:18 -0700 (PDT)
Message-ID: <661043ee.050a0220.53f3c.73b1SMTPIN_ADDED_MISSING@mx.google.com>
Received: from [172.21.0.8] (unknown [172.18.0.240])
 by postal.iol.unh.edu (Postfix) with ESMTP id B86286052471;
 Fri,  5 Apr 2024 14:33:17 -0400 (EDT)
Subject: |SUCCESS| pw139135-139164 [PATCH] [v4,30/30] examples: replace use o
From: dpdklab@iol.unh.edu
To: Test Report <test-report@dpdk.org>
Cc: dpdk-test-reports@iol.unh.edu
In-Reply-To: <20240405165518.367503-31-stephen@networkplumber.org>
References: <20240405165518.367503-31-stephen@networkplumber.org>
Content-Type: text/plain
X-BeenThere: test-report@dpdk.org
X-Mailman-Version: 2.1.29
Precedence: list
List-Id: automatic DPDK test reports <test-report.dpdk.org>
List-Unsubscribe: <https://mails.dpdk.org/options/test-report>,
 <mailto:test-report-request@dpdk.org?subject=unsubscribe>
List-Archive: <http://mails.dpdk.org/archives/test-report/>
List-Post: <mailto:test-report@dpdk.org>
List-Help: <mailto:test-report-request@dpdk.org?subject=help>
List-Subscribe: <https://mails.dpdk.org/listinfo/test-report>,
 <mailto:test-report-request@dpdk.org?subject=subscribe>
Errors-To: test-report-bounces@dpdk.org

Test-Label: iol-unit-arm64-testing
Test-Status: SUCCESS
http://dpdk.org/patch/139164

_Testing PASS_

Submitter: Stephen Hemminger <stephen@networkplumber.org>
Date: Friday, April 05 2024 16:53:41 
DPDK git baseline: Repo:dpdk
  Branch: master
  CommitID:e2e546ab5bf5e024986ccb5310ab43982f3bb40c

139135-139164 --> testing pass

Test environment and result as below:

+-----------------------------+----------------+---------------------------+------------------------------+--------------+
|         Environment         | dpdk_unit_test | cryptodev_sw_zuc_autotest | cryptodev_sw_snow3g_autotest | lpm_autotest |
+=============================+================+===========================+==============================+==============+
| Debian 11 (Buster) (ARM)    | PASS           | SKIPPED                   | SKIPPED                      | SKIPPED      |
+-----------------------------+----------------+---------------------------+------------------------------+--------------+
| Debian 12 (arm)             | PASS           | PASS                      | PASS                         | SKIPPED      |
+-----------------------------+----------------+---------------------------+------------------------------+--------------+
| CentOS Stream 9 (ARM)       | PASS           | SKIPPED                   | SKIPPED                      | SKIPPED      |
+-----------------------------+----------------+---------------------------+------------------------------+--------------+
| Fedora 39 (ARM)             | PASS           | SKIPPED                   | SKIPPED                      | SKIPPED      |
+-----------------------------+----------------+---------------------------+------------------------------+--------------+
| Fedora 38 (ARM)             | PASS           | SKIPPED                   | SKIPPED                      | SKIPPED      |
+-----------------------------+----------------+---------------------------+------------------------------+--------------+
| Fedora 37 (ARM)             | PASS           | SKIPPED                   | SKIPPED                      | SKIPPED      |
+-----------------------------+----------------+---------------------------+------------------------------+--------------+
| 32-bit Ubuntu 20.04.4 (ARM) | PASS           | SKIPPED                   | SKIPPED                      | SKIPPED      |
+-----------------------------+----------------+---------------------------+------------------------------+--------------+
| Ubuntu 20.04 (ARM)          | PASS           | SKIPPED                   | SKIPPED                      | SKIPPED      |
+-----------------------------+----------------+---------------------------+------------------------------+--------------+
| Fedora 38 (ARM Clang)       | PASS           | SKIPPED                   | SKIPPED                      | SKIPPED      |
+-----------------------------+----------------+---------------------------+------------------------------+--------------+
| Fedora 39 (ARM Clang)       | PASS           | SKIPPED                   | SKIPPED                      | SKIPPED      |
+-----------------------------+----------------+---------------------------+------------------------------+--------------+
| Ubuntu 20.04 ARM SVE        | SKIPPED        | SKIPPED                   | SKIPPED                      | PASS         |
+-----------------------------+----------------+---------------------------+------------------------------+--------------+


Debian 11 (Buster) (ARM)
	Kernel: Container Host Kernel
	Compiler: gcc 10.2.1

Debian 12 (arm)
	Kernel: Container Host Kernel
	Compiler: gcc 12.2.0

CentOS Stream 9 (ARM)
	Kernel: Container Host Kernel
	Compiler: gcc 11.4.1

Fedora 39 (ARM)
	Kernel: Depends on container host
	Compiler: gcc 13.2.1

Fedora 38 (ARM)
	Kernel: Depends on container host
	Compiler: gcc 13.2.1

Fedora 37 (ARM)
	Kernel: Depends on container host
	Compiler: gcc 12.3.1

32-bit Ubuntu 20.04.4 (ARM)
	Kernel: 5.4.0-155-generic aarch64
	Compiler: gcc 9.4

Ubuntu 20.04 (ARM)
	Kernel: Container Host Kernel
	Compiler: gcc 9.4.0

Fedora 38 (ARM Clang)
	Kernel: Depends on container host
	Compiler: clang 16.0.6

Fedora 39 (ARM Clang)
	Kernel: Depends on container host
	Compiler: clang 17.0.6

Ubuntu 20.04 ARM SVE
	Kernel: 5.4.0-167-generic
	Compiler: gcc (Ubuntu 10.5.0-1ubuntu1~20.04) 10.5.0

To view detailed results, visit:
https://lab.dpdk.org/results/dashboard/patchsets/29726/

UNH-IOL DPDK Community Lab

To manage your email subscriptions, visit: 
https://lab.dpdk.org/results/dashboard/preferences/subscriptions/