From mboxrd@z Thu Jan  1 00:00:00 1970
Return-Path: <test-report-bounces@dpdk.org>
Received: from mails.dpdk.org (mails.dpdk.org [217.70.189.124])
	by inbox.dpdk.org (Postfix) with ESMTP id D678C43E0D
	for <public@inbox.dpdk.org>; Fri,  5 Apr 2024 20:40:43 +0200 (CEST)
Received: from mails.dpdk.org (localhost [127.0.0.1])
	by mails.dpdk.org (Postfix) with ESMTP id C4A86402ED;
	Fri,  5 Apr 2024 20:40:43 +0200 (CEST)
Received: from mail-qv1-f97.google.com (mail-qv1-f97.google.com
 [209.85.219.97]) by mails.dpdk.org (Postfix) with ESMTP id 1186D4028A
 for <test-report@dpdk.org>; Fri,  5 Apr 2024 20:40:43 +0200 (CEST)
Received: by mail-qv1-f97.google.com with SMTP id
 6a1803df08f44-6962e6fbf60so15812046d6.1
 for <test-report@dpdk.org>; Fri, 05 Apr 2024 11:40:43 -0700 (PDT)
DKIM-Signature: v=1; a=rsa-sha256; c=relaxed/relaxed;
 d=iol.unh.edu; s=unh-iol; t=1712342442; x=1712947242; darn=dpdk.org;
 h=references:in-reply-to:cc:to:from:subject:message-id:date:from:to
 :cc:subject:date:message-id:reply-to;
 bh=rHKre/hOXLyFObFl/UQAJp0j23EeKcGkzFduQ688LSU=;
 b=EaSZXUmLkqziLJew/D8j68E2mTndzPg/dRu8TeZpspV48z0mFdKtLMWCWl7uC6vZMr
 U+/PUjRPQulx4knxtpfxmvJTpUqXxAs8pR3bIL28hMDtWRWnL0dttAFAmIz1lAMBjMWU
 jFRlS7SVDODhNLmQ0JM5nyJGrziw3J1mhGOko=
X-Google-DKIM-Signature: v=1; a=rsa-sha256; c=relaxed/relaxed;
 d=1e100.net; s=20230601; t=1712342442; x=1712947242;
 h=references:in-reply-to:cc:to:from:subject:message-id:date
 :x-gm-message-state:from:to:cc:subject:date:message-id:reply-to;
 bh=rHKre/hOXLyFObFl/UQAJp0j23EeKcGkzFduQ688LSU=;
 b=gr3EVmTyBpLXCwWrkzYAo3dTKo3wZR9iNQ44Ud0LQWUuEZeiMp8thC1iPfB1FczSsV
 s3j2BhOQW+UQrTIkY0WA6wKEBQzhUiuuGEconq5MBGHZvy9EuGtxn2HhSuDZMe9eCD//
 /NxYP7EB3XULOrAkab7MAxaSneS5HQ7smRSVO4PesN/8L3Y2YzoYH8uox9dwtdQoBUsK
 SFUwzwHUk54VOBpvsTcBlysKmcMOg5N4lsCVY7pCY9WenX2lX4EMz+faDuty4bF2NbKv
 JpdS0UHvnXpozsBswjrUmHvNzNnR8M1iT40yi3y4cNXl1h6acEsa5O9W9acw9mBBZYs1
 U8MA==
X-Gm-Message-State: AOJu0YxGDxqne/kn86V6mdMyPgEVcxv4aSsQblRu9ksk1qAIO/63cMKA
 V17YACiLweupw3DGeBzR7G0us9S+bwP7kOP+GGbuAc464IqSI9uW2jpwmKeRZtC4u/Zybpl/IZE
 HstKLllYHYeH5yIcUi2yrS0dgPwXekW8Dxm9g0GBH
X-Google-Smtp-Source: AGHT+IH4TthedqDNOkoy31oEsSdl8Kir5ONm7Tcq+3qiHeAo9B+xX0zrNxnhQ8krv64zFx8TMXMvVFJTsscu
X-Received: by 2002:a05:6214:2604:b0:699:3d80:7e19 with SMTP id
 gu4-20020a056214260400b006993d807e19mr3769743qvb.8.1712342442474; 
 Fri, 05 Apr 2024 11:40:42 -0700 (PDT)
Received: from postal.iol.unh.edu (postal.iol.unh.edu. [132.177.123.84])
 by smtp-relay.gmail.com with ESMTPS id
 u13-20020a0cf88d000000b006994042dcb6sm93374qvn.55.2024.04.05.11.40.42
 (version=TLS1_2 cipher=ECDHE-ECDSA-AES128-GCM-SHA256 bits=128/128);
 Fri, 05 Apr 2024 11:40:42 -0700 (PDT)
X-Relaying-Domain: iol.unh.edu
Date: Fri, 05 Apr 2024 11:40:42 -0700 (PDT)
Message-ID: <661045aa.0c0a0220.317d.6c39SMTPIN_ADDED_MISSING@mx.google.com>
Received: from [172.21.0.8] (unknown [172.18.0.240])
 by postal.iol.unh.edu (Postfix) with ESMTP id 186356052472;
 Fri,  5 Apr 2024 14:40:42 -0400 (EDT)
Subject: |SUCCESS| pw139135-139164 [PATCH] [v4,30/30] examples: replace use o
From: dpdklab@iol.unh.edu
To: Test Report <test-report@dpdk.org>
Cc: dpdk-test-reports@iol.unh.edu
In-Reply-To: <20240405165518.367503-31-stephen@networkplumber.org>
References: <20240405165518.367503-31-stephen@networkplumber.org>
Content-Type: text/plain
X-BeenThere: test-report@dpdk.org
X-Mailman-Version: 2.1.29
Precedence: list
List-Id: automatic DPDK test reports <test-report.dpdk.org>
List-Unsubscribe: <https://mails.dpdk.org/options/test-report>,
 <mailto:test-report-request@dpdk.org?subject=unsubscribe>
List-Archive: <http://mails.dpdk.org/archives/test-report/>
List-Post: <mailto:test-report@dpdk.org>
List-Help: <mailto:test-report-request@dpdk.org?subject=help>
List-Subscribe: <https://mails.dpdk.org/listinfo/test-report>,
 <mailto:test-report-request@dpdk.org?subject=subscribe>
Errors-To: test-report-bounces@dpdk.org

Test-Label: iol-unit-amd64-testing
Test-Status: SUCCESS
http://dpdk.org/patch/139164

_Testing PASS_

Submitter: Stephen Hemminger <stephen@networkplumber.org>
Date: Friday, April 05 2024 16:53:41 
DPDK git baseline: Repo:dpdk
  Branch: master
  CommitID:e2e546ab5bf5e024986ccb5310ab43982f3bb40c

139135-139164 --> testing pass

Test environment and result as below:

+---------------------+----------------+
|     Environment     | dpdk_unit_test |
+=====================+================+
| Windows Server 2019 | PASS           |
+---------------------+----------------+
| CentOS Stream 9     | PASS           |
+---------------------+----------------+
| Debian Bullseye     | PASS           |
+---------------------+----------------+
| CentOS Stream 8     | PASS           |
+---------------------+----------------+
| Debian 12           | PASS           |
+---------------------+----------------+
| Fedora 37           | PASS           |
+---------------------+----------------+
| Fedora 38           | PASS           |
+---------------------+----------------+
| Ubuntu 22.04        | PASS           |
+---------------------+----------------+
| Fedora 39           | PASS           |
+---------------------+----------------+
| Ubuntu 20.04        | PASS           |
+---------------------+----------------+
| RHEL8               | PASS           |
+---------------------+----------------+
| Windows Server 2022 | PASS           |
+---------------------+----------------+
| openSUSE Leap 15    | PASS           |
+---------------------+----------------+


Windows Server 2019
	Kernel: 10.0.17763
	Compiler: clang 14.0 and gcc 8.1.0 (MinGW)

CentOS Stream 9
	Kernel: 5.4.0-167-generic
	Compiler: gcc 11.4.1 20230605

Debian Bullseye
	Kernel: 5.4.0-167-generic
	Compiler: gcc 10.2.1-6

CentOS Stream 8
	Kernel: 5.4.0-167-generic
	Compiler: gcc 8.5.0 20210514

Debian 12
	Kernel: Container Host Kernel
	Compiler: gcc 10.2.1

Fedora 37
	Kernel: Depends on container host system
	Compiler: gcc 12.3.1

Fedora 38
	Kernel: Depends on container host
	Compiler: gcc 13.2.1

Ubuntu 22.04
	Kernel: 5.4.0-167-generic
	Compiler: gcc 11.4.0

Fedora 39
	Kernel: Depends on container host
	Compiler: gcc 13.2.1

Ubuntu 20.04
	Kernel: 5.4.0-167-generic
	Compiler: gcc 9.4.0-1ubuntu1~20.04.1

RHEL8
	Kernel: 5.4.0-167-generic
	Compiler: gcc 8.5.0 20210514 (Red Hat 8.5.0-20)

Windows Server 2022
	Kernel: 10.0.20348.2031
	Compiler: clang 15.0.7, gcc 8.1.0 (MinGW), and MSVC VS 17.9

openSUSE Leap 15
	Kernel: 5.4.0-167-generic
	Compiler: gcc 7.5.0

To view detailed results, visit:
https://lab.dpdk.org/results/dashboard/patchsets/29726/

UNH-IOL DPDK Community Lab

To manage your email subscriptions, visit: 
https://lab.dpdk.org/results/dashboard/preferences/subscriptions/