From mboxrd@z Thu Jan  1 00:00:00 1970
Return-Path: <test-report-bounces@dpdk.org>
Received: from mails.dpdk.org (mails.dpdk.org [217.70.189.124])
	by inbox.dpdk.org (Postfix) with ESMTP id 6487343E0D
	for <public@inbox.dpdk.org>; Fri,  5 Apr 2024 20:45:39 +0200 (CEST)
Received: from mails.dpdk.org (localhost [127.0.0.1])
	by mails.dpdk.org (Postfix) with ESMTP id 5F913402CE;
	Fri,  5 Apr 2024 20:45:39 +0200 (CEST)
Received: from mail-pl1-f226.google.com (mail-pl1-f226.google.com
 [209.85.214.226])
 by mails.dpdk.org (Postfix) with ESMTP id E9F254028A
 for <test-report@dpdk.org>; Fri,  5 Apr 2024 20:45:38 +0200 (CEST)
Received: by mail-pl1-f226.google.com with SMTP id
 d9443c01a7336-1e0411c0a52so23543435ad.0
 for <test-report@dpdk.org>; Fri, 05 Apr 2024 11:45:38 -0700 (PDT)
DKIM-Signature: v=1; a=rsa-sha256; c=relaxed/relaxed;
 d=iol.unh.edu; s=unh-iol; t=1712342738; x=1712947538; darn=dpdk.org;
 h=references:in-reply-to:cc:to:from:subject:message-id:date:from:to
 :cc:subject:date:message-id:reply-to;
 bh=7eWFRWPLiiwywm75F4nYu+aqz65Hr6lj+5vDSc46ezI=;
 b=dupY/B5GtIansYfv9gG1KFhtACh3Lm3WrSGVC2fH3UggdxtI7FGztup/t0gTwkVLeT
 khp1N14Fy1F6OHq47+eaEclCF+fRvIqpT+NhDG1VOIlXvHmTyiCXikNrZ+h/A5XNIb/b
 oCg87nZmlH1pdOznKra4R5uIgDcaS1oUVg1hs=
X-Google-DKIM-Signature: v=1; a=rsa-sha256; c=relaxed/relaxed;
 d=1e100.net; s=20230601; t=1712342738; x=1712947538;
 h=references:in-reply-to:cc:to:from:subject:message-id:date
 :x-gm-message-state:from:to:cc:subject:date:message-id:reply-to;
 bh=7eWFRWPLiiwywm75F4nYu+aqz65Hr6lj+5vDSc46ezI=;
 b=br1Xv0Fj7oEWm0x1uu/ONDE1nx0B64gHUh6c5Wd3aNl0RwgQiZNJkg1HGyDDDqUndx
 hMfUAfFzR+wKMAHWfeAb6VM3vbZW8IHzOMJaL1dcC6EPOa1n0YrEsWC/cf/IKmlIsU3d
 5OzpWd3L/YxWSzqHr5QO7tPAA1uMurq6vbt025OW6LAGgegRzrulzHbV2+VIuVrVvToL
 jXwtYn5Tinh9lxL5JnFNIENWRTFAQI9rQnELGp0ieAQjK0E5POOl7mcRdE1jQqjqRtJS
 aYQFqlcFixBzrAs89VCTNo48X4ydmnSE9bhkdwsBoxWY73mbwA9ww4ew/67ZVwjZn1au
 QYuw==
X-Gm-Message-State: AOJu0YwUsz2pjt5NkvoWaCuLMQPg0dMxYf9AxytnXLhZVOGbJKygX2Xb
 jR01PBVOtEzcB34dzssm+CsWd8kWWquRSaJl1oRZPnZZLRu9FOCoMgIyl0YrCI//pesc+vEFLGD
 aq19n78BovNheeqLesQ6pzw0dYLTVhh4Coy8VZDRe
X-Google-Smtp-Source: AGHT+IHgu3uPEddgAN+JQCwEuaV2G5+nouJPiycuZ1bqAziFnkU1YRqIJ0yRxe6pWzQ2wBUyrcacJQmMUKfz
X-Received: by 2002:a17:903:246:b0:1e2:6b80:95b0 with SMTP id
 j6-20020a170903024600b001e26b8095b0mr2498631plh.6.1712342738154; 
 Fri, 05 Apr 2024 11:45:38 -0700 (PDT)
Received: from postal.iol.unh.edu (postal.iol.unh.edu. [132.177.123.84])
 by smtp-relay.gmail.com with ESMTPS id
 h7-20020a170902680700b001e25ef19a41sm84944plk.105.2024.04.05.11.45.38
 (version=TLS1_2 cipher=ECDHE-ECDSA-AES128-GCM-SHA256 bits=128/128);
 Fri, 05 Apr 2024 11:45:38 -0700 (PDT)
X-Relaying-Domain: iol.unh.edu
Date: Fri, 05 Apr 2024 11:45:38 -0700 (PDT)
Message-ID: <661046d2.170a0220.96610.698aSMTPIN_ADDED_MISSING@mx.google.com>
Received: from [172.17.0.2] (unknown [172.18.0.214])
 by postal.iol.unh.edu (Postfix) with ESMTP id 450336052471;
 Fri,  5 Apr 2024 14:45:37 -0400 (EDT)
Subject: |SUCCESS| pw139127-139134 [PATCH] [v2,8/8] net: clear outer UDP chec
From: dpdklab@iol.unh.edu
To: Test Report <test-report@dpdk.org>
Cc: dpdk-test-reports@iol.unh.edu
In-Reply-To: <20240405144604.906695-9-david.marchand@redhat.com>
References: <20240405144604.906695-9-david.marchand@redhat.com>
Content-Type: text/plain
X-BeenThere: test-report@dpdk.org
X-Mailman-Version: 2.1.29
Precedence: list
List-Id: automatic DPDK test reports <test-report.dpdk.org>
List-Unsubscribe: <https://mails.dpdk.org/options/test-report>,
 <mailto:test-report-request@dpdk.org?subject=unsubscribe>
List-Archive: <http://mails.dpdk.org/archives/test-report/>
List-Post: <mailto:test-report@dpdk.org>
List-Help: <mailto:test-report-request@dpdk.org?subject=help>
List-Subscribe: <https://mails.dpdk.org/listinfo/test-report>,
 <mailto:test-report-request@dpdk.org?subject=subscribe>
Errors-To: test-report-bounces@dpdk.org

Test-Label: iol-compile-arm64-testing
Test-Status: SUCCESS
http://dpdk.org/patch/139134

_Testing PASS_

Submitter: David Marchand <david.marchand@redhat.com>
Date: Friday, April 05 2024 14:46:02 
DPDK git baseline: Repo:dpdk
  Branch: master
  CommitID:e2e546ab5bf5e024986ccb5310ab43982f3bb40c

139127-139134 --> testing pass

Test environment and result as below:

+----------------------------------------+--------------------+
|              Environment               | dpdk_meson_compile |
+========================================+====================+
| Ubuntu 20.04 ARM SVE                   | PASS               |
+----------------------------------------+--------------------+
| Debian 12 with MUSDK                   | PASS               |
+----------------------------------------+--------------------+
| Fedora 39 (ARM)                        | PASS               |
+----------------------------------------+--------------------+
| Fedora 37 (ARM)                        | PASS               |
+----------------------------------------+--------------------+
| CentOS Stream 9 (ARM)                  | PASS               |
+----------------------------------------+--------------------+
| Ubuntu 20.04 (ARM)                     | PASS               |
+----------------------------------------+--------------------+
| Fedora 38 (ARM)                        | PASS               |
+----------------------------------------+--------------------+
| Ubuntu 20.04 aarch32 GCC Cross Compile | PASS               |
+----------------------------------------+--------------------+
| Debian 11 (Buster) (ARM)               | PASS               |
+----------------------------------------+--------------------+
| Debian 12 (arm)                        | PASS               |
+----------------------------------------+--------------------+
| Ubuntu 20.04 ARM GCC Cross Compile     | PASS               |
+----------------------------------------+--------------------+


Ubuntu 20.04 ARM SVE
	Kernel: 5.4.0-167-generic
	Compiler: gcc (Ubuntu 10.5.0-1ubuntu1~20.04) 10.5.0

Debian 12 with MUSDK
	Kernel: Container Host Kernel
	Compiler: gcc 12.2.0

Fedora 39 (ARM)
	Kernel: Depends on container host
	Compiler: gcc 13.2.1

Fedora 37 (ARM)
	Kernel: Depends on container host
	Compiler: gcc 12.3.1

CentOS Stream 9 (ARM)
	Kernel: Container Host Kernel
	Compiler: gcc 11.4.1

Ubuntu 20.04 (ARM)
	Kernel: Container Host Kernel
	Compiler: gcc 9.4.0

Fedora 38 (ARM)
	Kernel: Depends on container host
	Compiler: gcc 13.2.1

Ubuntu 20.04 aarch32 GCC Cross Compile
	Kernel: 5.4.0-167-generic
	Compiler: gcc 9.4.0

Debian 11 (Buster) (ARM)
	Kernel: Container Host Kernel
	Compiler: gcc 10.2.1

Debian 12 (arm)
	Kernel: Container Host Kernel
	Compiler: gcc 12.2.0

Ubuntu 20.04 ARM GCC Cross Compile
	Kernel: 5.4.0-167-generic
	Compiler: aarch64-linux-gnu-gcc (Ubuntu 9.4.0-1ubuntu1~20.04.2) 9.4.0

To view detailed results, visit:
https://lab.dpdk.org/results/dashboard/patchsets/29725/

UNH-IOL DPDK Community Lab

To manage your email subscriptions, visit: 
https://lab.dpdk.org/results/dashboard/preferences/subscriptions/