From mboxrd@z Thu Jan  1 00:00:00 1970
Return-Path: <test-report-bounces@dpdk.org>
Received: from mails.dpdk.org (mails.dpdk.org [217.70.189.124])
	by inbox.dpdk.org (Postfix) with ESMTP id B8E0643E0D
	for <public@inbox.dpdk.org>; Fri,  5 Apr 2024 20:52:53 +0200 (CEST)
Received: from mails.dpdk.org (localhost [127.0.0.1])
	by mails.dpdk.org (Postfix) with ESMTP id B44D4402CE;
	Fri,  5 Apr 2024 20:52:53 +0200 (CEST)
Received: from mail-pl1-f226.google.com (mail-pl1-f226.google.com
 [209.85.214.226])
 by mails.dpdk.org (Postfix) with ESMTP id EBBAD4028A
 for <test-report@dpdk.org>; Fri,  5 Apr 2024 20:52:52 +0200 (CEST)
Received: by mail-pl1-f226.google.com with SMTP id
 d9443c01a7336-1e0bec01232so22011035ad.3
 for <test-report@dpdk.org>; Fri, 05 Apr 2024 11:52:52 -0700 (PDT)
DKIM-Signature: v=1; a=rsa-sha256; c=relaxed/relaxed;
 d=iol.unh.edu; s=unh-iol; t=1712343172; x=1712947972; darn=dpdk.org;
 h=references:in-reply-to:cc:to:from:subject:message-id:date:from:to
 :cc:subject:date:message-id:reply-to;
 bh=sPLzx0TySs9ICaSNR0I7mbpDEgETQ4QaHfqniGnu9SE=;
 b=TJUxDFE0W+2pI88v6S9iZ8LAe+TKMlEg+C5kzQzQ2qSFZ/8K15esH1J9Hnnw9mhBG3
 uHLaluKXGrN/x3Zq9R88MLwhyBkHtKguHrMI7zCTxErw0ZpECduiIIC5nNf+U5QzDO4a
 d4mOS+Z22YGuF1OLnShmuKT0uEB6lfo0Wdylg=
X-Google-DKIM-Signature: v=1; a=rsa-sha256; c=relaxed/relaxed;
 d=1e100.net; s=20230601; t=1712343172; x=1712947972;
 h=references:in-reply-to:cc:to:from:subject:message-id:date
 :x-gm-message-state:from:to:cc:subject:date:message-id:reply-to;
 bh=sPLzx0TySs9ICaSNR0I7mbpDEgETQ4QaHfqniGnu9SE=;
 b=GoRMU9KrvremwDZLCsKhdIsqsKy2H69mF1x8vwGGDPNOl/GuGjxgJLcVghzdoA3HIR
 mjyN8J/yvwqB/cqzY+qQzAV+pInWf8z9FDGvspz3tY24aTsKMolyaTSgVzFQy1QhSozf
 l52j7+0Ew9RiMSnnL/tChUnHD8MQd9akBaXEoo5ig7PqJ8e+VIbcN3x+byg6ccfOBmuw
 UIA3RvO1YLTnp1e9Xu7iJXd3u+16DOAxZIjNd/MFD63nWaVYb/7yRAino2NErDODag4D
 aEHHDuL+k3ba9xNaPRZtVIgshD4mq7VhrNWsUWvB9q77gh8bg2gRUiDRW9Qdj1iJ36gT
 bwwg==
X-Gm-Message-State: AOJu0Yw+xyQC2+JVc/bVIztEtJLCQMnPHG14d2ZHaMwh9n7QKHq/qqi+
 Nj94SV6GpNMl6tyScg9PGcEK2GTQFQnFkvjwyJSpINGGHwjCBzW6FTjHTBZ4uTETjW6wG5KSic2
 aPtTFLPhfAr1fWVCD/GeQ3VQKC3PF0yIvjtqBaxaQ
X-Google-Smtp-Source: AGHT+IECz58u25b47mVWxNx0WbkVUJ4YMDXrpXIp3okosYGnuQTNhAq5PzMdAo6kM2qpJ7cZBWUxCTUQ0Doe
X-Received: by 2002:a17:902:eccb:b0:1e3:cfc5:589e with SMTP id
 a11-20020a170902eccb00b001e3cfc5589emr807459plh.64.1712343172097; 
 Fri, 05 Apr 2024 11:52:52 -0700 (PDT)
Received: from postal.iol.unh.edu (postal.iol.unh.edu. [132.177.123.84])
 by smtp-relay.gmail.com with ESMTPS id
 kx5-20020a170902f94500b001e2baa1f481sm56147plb.108.2024.04.05.11.52.51
 (version=TLS1_2 cipher=ECDHE-ECDSA-AES128-GCM-SHA256 bits=128/128);
 Fri, 05 Apr 2024 11:52:52 -0700 (PDT)
X-Relaying-Domain: iol.unh.edu
Date: Fri, 05 Apr 2024 11:52:52 -0700 (PDT)
Message-ID: <66104884.170a0220.b47b1.48caSMTPIN_ADDED_MISSING@mx.google.com>
Received: from [172.17.0.5] (unknown [172.18.0.217])
 by postal.iol.unh.edu (Postfix) with ESMTP id 8F2876052471;
 Fri,  5 Apr 2024 14:52:51 -0400 (EDT)
Subject: |SUCCESS| pw139127-139134 [PATCH] [v2,8/8] net: clear outer UDP chec
From: dpdklab@iol.unh.edu
To: Test Report <test-report@dpdk.org>
Cc: dpdk-test-reports@iol.unh.edu
In-Reply-To: <20240405144604.906695-9-david.marchand@redhat.com>
References: <20240405144604.906695-9-david.marchand@redhat.com>
Content-Type: text/plain
X-BeenThere: test-report@dpdk.org
X-Mailman-Version: 2.1.29
Precedence: list
List-Id: automatic DPDK test reports <test-report.dpdk.org>
List-Unsubscribe: <https://mails.dpdk.org/options/test-report>,
 <mailto:test-report-request@dpdk.org?subject=unsubscribe>
List-Archive: <http://mails.dpdk.org/archives/test-report/>
List-Post: <mailto:test-report@dpdk.org>
List-Help: <mailto:test-report-request@dpdk.org?subject=help>
List-Subscribe: <https://mails.dpdk.org/listinfo/test-report>,
 <mailto:test-report-request@dpdk.org?subject=subscribe>
Errors-To: test-report-bounces@dpdk.org

Test-Label: iol-unit-amd64-testing
Test-Status: SUCCESS
http://dpdk.org/patch/139134

_Testing PASS_

Submitter: David Marchand <david.marchand@redhat.com>
Date: Friday, April 05 2024 14:46:02 
DPDK git baseline: Repo:dpdk
  Branch: master
  CommitID:e2e546ab5bf5e024986ccb5310ab43982f3bb40c

139127-139134 --> testing pass

Test environment and result as below:

+---------------------+----------------+
|     Environment     | dpdk_unit_test |
+=====================+================+
| CentOS Stream 8     | PASS           |
+---------------------+----------------+
| Debian Bullseye     | PASS           |
+---------------------+----------------+
| CentOS Stream 9     | PASS           |
+---------------------+----------------+
| Debian 12           | PASS           |
+---------------------+----------------+
| Fedora 37           | PASS           |
+---------------------+----------------+
| Fedora 38           | PASS           |
+---------------------+----------------+
| Fedora 39           | PASS           |
+---------------------+----------------+
| Windows Server 2019 | PASS           |
+---------------------+----------------+
| Ubuntu 20.04        | PASS           |
+---------------------+----------------+
| openSUSE Leap 15    | PASS           |
+---------------------+----------------+


CentOS Stream 8
	Kernel: 5.4.0-167-generic
	Compiler: gcc 8.5.0 20210514

Debian Bullseye
	Kernel: 5.4.0-167-generic
	Compiler: gcc 10.2.1-6

CentOS Stream 9
	Kernel: 5.4.0-167-generic
	Compiler: gcc 11.4.1 20230605

Debian 12
	Kernel: Container Host Kernel
	Compiler: gcc 10.2.1

Fedora 37
	Kernel: Depends on container host system
	Compiler: gcc 12.3.1

Fedora 38
	Kernel: Depends on container host
	Compiler: gcc 13.2.1

Fedora 39
	Kernel: Depends on container host
	Compiler: gcc 13.2.1

Windows Server 2019
	Kernel: 10.0.17763
	Compiler: clang 14.0 and gcc 8.1.0 (MinGW)

Ubuntu 20.04
	Kernel: 5.4.0-167-generic
	Compiler: gcc 9.4.0-1ubuntu1~20.04.1

openSUSE Leap 15
	Kernel: 5.4.0-167-generic
	Compiler: gcc 7.5.0

To view detailed results, visit:
https://lab.dpdk.org/results/dashboard/patchsets/29725/

UNH-IOL DPDK Community Lab

To manage your email subscriptions, visit: 
https://lab.dpdk.org/results/dashboard/preferences/subscriptions/