From mboxrd@z Thu Jan  1 00:00:00 1970
Return-Path: <test-report-bounces@dpdk.org>
Received: from mails.dpdk.org (mails.dpdk.org [217.70.189.124])
	by inbox.dpdk.org (Postfix) with ESMTP id 2AF1943E0E
	for <public@inbox.dpdk.org>; Sat,  6 Apr 2024 00:00:01 +0200 (CEST)
Received: from mails.dpdk.org (localhost [127.0.0.1])
	by mails.dpdk.org (Postfix) with ESMTP id 26F4D402CE;
	Sat,  6 Apr 2024 00:00:01 +0200 (CEST)
Received: from mail-yb1-f227.google.com (mail-yb1-f227.google.com
 [209.85.219.227])
 by mails.dpdk.org (Postfix) with ESMTP id B3629402E9
 for <test-report@dpdk.org>; Fri,  5 Apr 2024 23:59:58 +0200 (CEST)
Received: by mail-yb1-f227.google.com with SMTP id
 3f1490d57ef6-dcc73148611so2962173276.3
 for <test-report@dpdk.org>; Fri, 05 Apr 2024 14:59:58 -0700 (PDT)
DKIM-Signature: v=1; a=rsa-sha256; c=relaxed/relaxed;
 d=iol.unh.edu; s=unh-iol; t=1712354398; x=1712959198; darn=dpdk.org;
 h=references:in-reply-to:cc:to:from:subject:message-id:date:from:to
 :cc:subject:date:message-id:reply-to;
 bh=Ut2zl3cN5OLzCaUjEwPrxRbrIrm4Om0pRcbbA8PRRVM=;
 b=SNEaIu47WD/ZXKGbCTMuM9b5c+0rSaCcHzOSSGzQsIKA911uq+3IX0qlMSx5tvTpWx
 oTDgZwHRghdUYJPIv4Os63+CHRZmFKhQFN4pWTpUuoUGJheiDSLB5XdzkUQ4EyQDJ+/0
 2A+OIZtSY+624+3Xrv9930ODmzgV6ihLtWlJI=
X-Google-DKIM-Signature: v=1; a=rsa-sha256; c=relaxed/relaxed;
 d=1e100.net; s=20230601; t=1712354398; x=1712959198;
 h=references:in-reply-to:cc:to:from:subject:message-id:date
 :x-gm-message-state:from:to:cc:subject:date:message-id:reply-to;
 bh=Ut2zl3cN5OLzCaUjEwPrxRbrIrm4Om0pRcbbA8PRRVM=;
 b=MS6QkAZXMnfw98qPvg6umrlmCvvmokOGUOu0GKFq/fF2c2/xqIo5gtJFeGREiZfwmJ
 +/At5rVlT7VMROiFNVET5OOpIMvCrQCldOqP7EwglGg4R1KQYhQdGYfTIk//xHJVGZbr
 BAjvuP6Qa/ktAMz0+9U7j2Yh8XYSxwOP/hXDjfMqTYnPV1qzukM+7fZmGP04B9duA0A8
 +2s7BJhLbU6v6ue5GodtlH8aJuiSGjRTLqJqYVGGD+SdFT0QZTy/3ESGjxv7AQYiB4H5
 TfTcdAW8mzA8cTdbuOHs3AgXTl/Bfg4UfcQL2CzJ6dN9ewNBbZlGgROIlADsmII9bhXV
 lN4A==
X-Gm-Message-State: AOJu0YxlxBTjsrtTa6AmJbpAiCgXKYSsm4YyF+z7tOP21PJzi6B6xYu5
 IkbnONBzz9BVLjYh1T+CyMx+l/yOTyFnmoNzBOhVre383j1pZRLcfu7cjtKR0+itKsUvLFLvXUc
 /zmdUQMhTOBrR/YCR9WAZ1iiTRlYFgAPzP+Vgt2ozcI9kZqPKRbL4w80n
X-Google-Smtp-Source: AGHT+IE6TDQrDNF4piZERmjKUpojaYkbs6Pr38A97+RuENtqUkpLVMWmaMbqoO1fu//Q9qRvN6DsT7NdVXIs
X-Received: by 2002:a25:820d:0:b0:dd0:97e8:74e6 with SMTP id
 q13-20020a25820d000000b00dd097e874e6mr2454609ybk.55.1712354398128; 
 Fri, 05 Apr 2024 14:59:58 -0700 (PDT)
Received: from postal.iol.unh.edu (postal.iol.unh.edu.
 [2606:4100:3880:1234::84]) by smtp-relay.gmail.com with ESMTPS id
 df18-20020a0569020e1200b00dc2209fa8b7sm109174ybb.19.2024.04.05.14.59.58
 (version=TLS1_2 cipher=ECDHE-ECDSA-AES128-GCM-SHA256 bits=128/128);
 Fri, 05 Apr 2024 14:59:58 -0700 (PDT)
X-Relaying-Domain: iol.unh.edu
Date: Fri, 05 Apr 2024 14:59:58 -0700 (PDT)
Message-ID: <6610745e.050a0220.1f8f5.76b2SMTPIN_ADDED_MISSING@mx.google.com>
Received: from [172.17.0.4] (unknown [172.18.0.217])
 by postal.iol.unh.edu (Postfix) with ESMTP id AF6EE6052471;
 Fri,  5 Apr 2024 17:59:57 -0400 (EDT)
Subject: |SUCCESS| pw139167 [PATCH] [v2] cnxk: disable building template file
From: dpdklab@iol.unh.edu
To: Test Report <test-report@dpdk.org>
Cc: dpdk-test-reports@iol.unh.edu
In-Reply-To: <20240405202522.4945-1-pbhagavatula@marvell.com>
References: <20240405202522.4945-1-pbhagavatula@marvell.com>
Content-Type: text/plain
X-BeenThere: test-report@dpdk.org
X-Mailman-Version: 2.1.29
Precedence: list
List-Id: automatic DPDK test reports <test-report.dpdk.org>
List-Unsubscribe: <https://mails.dpdk.org/options/test-report>,
 <mailto:test-report-request@dpdk.org?subject=unsubscribe>
List-Archive: <http://mails.dpdk.org/archives/test-report/>
List-Post: <mailto:test-report@dpdk.org>
List-Help: <mailto:test-report-request@dpdk.org?subject=help>
List-Subscribe: <https://mails.dpdk.org/listinfo/test-report>,
 <mailto:test-report-request@dpdk.org?subject=subscribe>
Errors-To: test-report-bounces@dpdk.org

Test-Label: iol-abi-testing
Test-Status: SUCCESS
http://dpdk.org/patch/139167

_Testing PASS_

Submitter: Pavan Nikhilesh Bhagavatula <pbhagavatula@marvell.com>
Date: Friday, April 05 2024 20:25:20 
DPDK git baseline: Repo:dpdk
  Branch: master
  CommitID:e2e546ab5bf5e024986ccb5310ab43982f3bb40c

139167 --> testing pass

Test environment and result as below:

+------------------+----------+
|   Environment    | abi_test |
+==================+==========+
| CentOS Stream 8  | PASS     |
+------------------+----------+
| Fedora 39        | PASS     |
+------------------+----------+
| Ubuntu 22.04     | PASS     |
+------------------+----------+
| CentOS Stream 9  | PASS     |
+------------------+----------+
| openSUSE Leap 15 | PASS     |
+------------------+----------+
| Fedora 38        | PASS     |
+------------------+----------+
| RHEL8            | PASS     |
+------------------+----------+
| Debian Bullseye  | PASS     |
+------------------+----------+
| Fedora 37        | PASS     |
+------------------+----------+
| Debian 12        | PASS     |
+------------------+----------+


CentOS Stream 8
	Kernel: 5.4.0-167-generic
	Compiler: gcc 8.5.0 20210514

Fedora 39
	Kernel: Depends on container host
	Compiler: gcc 13.2.1

Ubuntu 22.04
	Kernel: 5.4.0-167-generic
	Compiler: gcc 11.4.0

CentOS Stream 9
	Kernel: 5.4.0-167-generic
	Compiler: gcc 11.4.1 20230605

openSUSE Leap 15
	Kernel: 5.4.0-167-generic
	Compiler: gcc 7.5.0

Fedora 38
	Kernel: Depends on container host
	Compiler: gcc 13.2.1

RHEL8
	Kernel: 5.4.0-167-generic
	Compiler: gcc 8.5.0 20210514 (Red Hat 8.5.0-20)

Debian Bullseye
	Kernel: 5.4.0-167-generic
	Compiler: gcc 10.2.1-6

Fedora 37
	Kernel: Depends on container host system
	Compiler: gcc 12.3.1

Debian 12
	Kernel: Container Host Kernel
	Compiler: gcc 10.2.1

To view detailed results, visit:
https://lab.dpdk.org/results/dashboard/patchsets/29729/

UNH-IOL DPDK Community Lab

To manage your email subscriptions, visit: 
https://lab.dpdk.org/results/dashboard/preferences/subscriptions/